Workbook
Name Datum: '[1] '!$Z$4
Name Datum: ' '!$Z$4
Name Ersatzprodukte: Branchenstruktur!$C$43
Name graph_2_stakeholder: Stakeholder!$A$76
Name graph_chances: Chances!$A$116
Name graph_forces: Forces!$A$96
Name Graph_Kompetenzen: Kernkompetenzen!$A$52
Name Graph_Kunden: Markt!$A$53
Name Graph_Kunden: SGE!$A$15
Name Graph_Kunden: Kunden!$A$64
Name graph_pestel: PESTLE!$A$124
Name Graph_Produkte: Checklist!#REF!
Name Graph_Produkte: Produkte!$A$59
Name Graph_Risk: Risikomgmt!$A$56
Name graph_stakeholder: Stakeholder!$A$50
Name help: #REF!
Name help_0: #REF!
Name help_1: #REF!
Name help_10: #REF!
Name help_11: #REF!
Name help_12: #REF!
Name help_13: #REF!
Name help_14: #REF!
Name help_15: #REF!
Name help_16: #REF!
Name help_17: #REF!
Name help_18: #REF!
Name help_19: #REF!
Name help_2: #REF!
Name help_20: #REF!
Name help_21: #REF!
Name help_22: #REF!
Name help_23: #REF!
Name help_24: #REF!
Name help_25: #REF!
Name help_3: #REF!
Name help_4: #REF!
Name help_5: #REF!
Name help_6: #REF!
Name help_7: #REF!
Name help_8: #REF!
Name help_9: #REF!
Name Kunden: Branchenstruktur!$C$73
Name Lieferanten: Branchenstruktur!$C$58
Name McKinsey: Portfolio!$D$60
Name Mitbewerber: Branchenstruktur!$C$24
Name oekologisch: Entwicklungstrends!$C$93
Name oekonomisch: Entwicklungstrends!$C$33
Name politisch: Entwicklungstrends!$C$14
Name rechtlich: Entwicklungstrends!$C$78
Name Rivalitaet: Branchenstruktur!$C$88
Name soziologisch: Entwicklungstrends!$C$48
Name Sprachen: ' '!$C$3:$G$3
Name technologisch: Entwicklungstrends!$C$63
Name top: PESTLE!$A$2
Name top_2: Branchenstruktur!$A$2
Name top_chances: Chances!$A$8
Name top_distribution: Distribution!$A$2
Name top_entwicklungstrends: Entwicklungstrends!$A$2
Name top_forces: Forces!$A$8

Sheet  
A1: =OFFSET($C1,0,$Z$5-1) -> Français | C1: Deutsch | D1: Français | E1: English | F1: Italiano
A2: Aktuelle Sprache | C2: Sprache 1 | D2: Sprache 2 | E2: Sprache 3 | F2: Sprache 4 | G2: Sprache 5
A3: Aktuell angezeigte Sprache | C3: Deutsch | D3: Français | E3: English | F3: Italiano | G3: 5_???
B4: 2 | Z4: 55153
A5: =OFFSET($C5,0,$Z$5-1) -> B U S I N E S S P L A N | C5: B U S I N E S S P L A N | D5: B U S I N E S S P L A N | E5: B U S I N E S S P L A N | G5: contact info@2imanagement.ch | Z5: =IF(AND('Menu Toolbox'!C35="© iManagement • s.imboden • www.2iManagement.ch", Stakeholder!B25="© iManagement • s.imboden • www.2iManagement.ch", TODAY()<=$Z$4), $B$4,5) -> 2
A6: =OFFSET($C6,0,$Z$5-1) -> Executive Summary | C6: Executive Summary | D6: Executive Summary | E6: Executive Summary | F6: Executive Summary | G6: contact info@2imanagement.ch | Z6: Deutsch
A7: =OFFSET($C7,0,$Z$5-1) -> Business Model | C7: Business Model | D7: Business Model | E7: Business Model | F7: Business Model | G7: contact info@2imanagement.ch | Z7: Français
A8: =OFFSET($C8,0,$Z$5-1) -> Personnel & Organisation | C8: Personal & Organisation | D8: Personnel & Organisation | E8: Personnel & Organisation | G8: contact info@2imanagement.ch | Z8: English
A9: =OFFSET($C9,0,$Z$5-1) -> Produits | C9: Produkte | D9: Produits | E9: Products | F9: Prodotti | G9: contact info@2imanagement.ch | Z9: Italiano
A10: =OFFSET($C10,0,$Z$5-1) -> Marché & Concur- rence | C10: Markt & Wettbewerb | D10: Marché & Concur- rence | E10: Market & Competition | G10: contact info@2imanagement.ch
A11: =OFFSET($C11,0,$Z$5-1) -> Marketing & Distribution | C11: Marketing & Vertrieb | D11: Marketing & Distribution | E11: Marketing & Distribution | F11: Marketing & Distribuzione | G11: contact info@2imanagement.ch
A12: =OFFSET($C12,0,$Z$5-1) -> Analyse SWOT | C12: SWOT Analyse | D12: Analyse SWOT | E12: SWOT Analysis | G12: contact info@2imanagement.ch
A13: =OFFSET($C13,0,$Z$5-1) -> Entreprise | C13: Unter- nehmen | D13: Entreprise | E13: Company | F13: Azienda | G13: contact info@2imanagement.ch
A14: =OFFSET($C14,0,$Z$5-1) -> Plan financier | C14: Finanzplan | D14: Plan financier | E14: Financial plan | F14: Finanze | G14: contact info@2imanagement.ch
A15: =OFFSET($C15,0,$Z$5-1) -> Echéancier | C15: Zeitplan | D15: Echéancier | E15: Timing | F15: Echéancier | G15: contact info@2imanagement.ch
A16: =OFFSET($C16,0,$Z$5-1) -> Analyse des parties prenantes | C16: Stakeholderanalyse | D16: Analyse des parties prenantes | E16: Analyse des parties prenantes | F16: Analyse des parties prenantes | G16: contact info@2imanagement.ch
A17: =OFFSET($C17,0,$Z$5-1) -> Analyse PESTEL | C17: PESTEL Analyse | D17: Analyse PESTEL | E17: PESTEL Analysis | F17: Analyse PESTEL | G17: contact info@2imanagement.ch
A18: =OFFSET($C18,0,$Z$5-1) -> Scénarios d'avenir | C18: Zukunftsszenarien | D18: Scénarios d'avenir | E18: Scénarios d'avenir | F18: Scénarios d'avenir | G18: contact info@2imanagement.ch
A19: =OFFSET($C19,0,$Z$5-1) -> Tendances de développement | C19: Entwicklungstrends | D19: Tendances de développement | E19: Developping trends | F19: Tendances de développement | G19: contact info@2imanagement.ch
A20: =OFFSET($C20,0,$Z$5-1) -> Tendances | C20: Trends | D20: Tendances | E20: Trends | F20: Tendances
A21: =OFFSET($C21,0,$Z$5-1) -> 5 forces de Porter | C21: Fünf-Kräfte-Modell | D21: 5 forces de Porter | E21: Porter's 5 forces | F21: 5 forces de Porter | G21: contact info@2imanagement.ch
A22: =OFFSET($C22,0,$Z$5-1) -> Risques | C22: Risiken | D22: Risques | E22: Risks | F22: Rischi | G22: contact info@2imanagement.ch
A23: =OFFSET($C23,0,$Z$5-1) -> Analyse de portefeuille | C23: Portfolioanalyse | D23: Analyse de portefeuille | E23: Analyse de portefeuille | F23: Analyse de portefeuille | G23: contact info@2imanagement.ch
A24: =OFFSET($C24,0,$Z$5-1) -> Activités principales | C24: Kernaktivitäten | D24: Activités principales | E24: Activités principales | F24: Activités principales | G24: contact info@2imanagement.ch
A25: =OFFSET($C25,0,$Z$5-1) -> Ressources & Compétences | C25: Ressourcen & Kompenzen | D25: Ressources & Compétences | E25: Ressources & Compétences | F25: Ressources & Compétences | G25: contact info@2imanagement.ch
A26: =OFFSET($C26,0,$Z$5-1) -> Processus principaux | C26: Kernprozesse | D26: Processus principaux | E26: Processus principaux | F26: Processus principaux | G26: contact info@2imanagement.ch
A27: =OFFSET($C27,0,$Z$5-1) -> Produits & Prestations de services | C27: Produkte & Dienstleistungen | D27: Produits & Prestations de services | E27: Produits & Prestations de services | F27: Produits & Prestations de services | G27: contact info@2imanagement.ch
A28: =OFFSET($C28,0,$Z$5-1) -> Chiffres clé | C28: Kennzahlen | D28: Chiffres clé | E28: Key Figures | F28: Chiffres clé | G28: contact info@2imanagement.ch
A29: =OFFSET($C29,0,$Z$5-1) -> Potentiel | C29: Potenzial | D29: Potentiel | E29: Potential | F29: Potenziale | G29: contact info@2imanagement.ch
A30: =OFFSET($C30,0,$Z$5-1) -> Clients | C30: Kunden | D30: Clients | E30: Customers | F30: Clienti | G30: contact info@2imanagement.ch
A31: =OFFSET($C31,0,$Z$5-1) -> Marché | C31: Markt | D31: Marché | E31: Market | F31: Marché | G31: contact info@2imanagement.ch
A32: =OFFSET($C32,0,$Z$5-1) -> Benchmarking | C32: Benchmarking | D32: Benchmarking | E32: Benchmarking | F32: Benchmarking | G32: contact info@2imanagement.ch
... A48: =OFFSET($C48,0,$Z$5-1) -> Business Model | C48: Business Model | D48: Business Model | E48: Business Model | F48: Business Model | G48: contact info@2imanagement.ch
A49: =OFFSET($C49,0,$Z$5-1) -> DAS | C49: SGE | D49: DAS | E49: DAS | F49: DAS
A50: =OFFSET($C50,0,$Z$5-1) -> Votre logo: | C50: Ihr Logo: | D50: Votre logo: | E50: Your logo: | F50: Vostro logo:
A51: =OFFSET($C51,0,$Z$5-1) -> A N A L Y S E D E S P A R T I E S P R E N A N T E S | C51: S T A K E H O L D E R - A N A L Y S E | D51: A N A L Y S E D E S P A R T I E S P R E N A N T E S | E51: S T A K E H O L D E R A N A L Y S I S | F51: A N A L I S I D E G L I S T A K E H O L D E R | G51: contact info@2imanagement.ch
A52: =OFFSET($C52,0,$Z$5-1) -> Contexte large | C52: weites Umfeld | D52: Contexte large | E52: Wider environment | F52: Contesto ampio | G52: contact info@2imanagement.ch
A53: =OFFSET($C53,0,$Z$5-1) -> Contexte restreint | C53: nahes Umfeld | D53: Contexte restreint | E53: Immediate environment | F53: Contesto ristretto | G53: contact info@2imanagement.ch
A54: =OFFSET($C54,0,$Z$5-1) -> interne | C54: intern | D54: interne | E54: Internal | F54: interno | G54: contact info@2imanagement.ch
A55: =OFFSET($C55,0,$Z$5-1) -> Nous | C55: Wir | D55: Nous | E55: Us | F55: Noi | G55: contact info@2imanagement.ch
...

Sheet Menu Toolbox
C1: =' '!A5 -> B U S I N E S S P L A N
C35: © iManagement • s.imboden • www.2iManagement.ch | K35: V1.2.3

Sheet Checklist
B1: =' '!A576 -> C H E C K L I S T E B U S I N E S S P L A N
B4: =' '!A652 -> L’objectif du business plan consiste à : | D4: 1
C5: =' '!A653 -> représenter les principaux résultats d’analyse et les orientations stratégiques les plus importantes sous une forme succincte,
C6: =' '!A654 -> prouver la cohérence entre les analyses, les stratégies, les plans, l’infrastructure et les conséquences financières,
C7: =' '!A655 -> procurer aux partenaires (banques, actionnaires, partenaires commerciaux, fournisseurs, etc.) l’assurance nécessaire à la collaboration.
B9: 1. | C9: =' '!A578 -> Management Summary (max. 1 page) | D9: 3
C10: =' '!A579 -> Situation de départ et idée de base (objectif de l’entreprise) | D10: 3
C11: =' '!A580 -> Objectifs | D11: 3
C12: =' '!A581 -> Besoins financiers et utilisation | D12: 3
B13: 2. | C13: =' '!A582 -> Business Model | D13: 3
C14: =' '!A583 -> Idée commerciale | D14: 3
C15: =' '!A584 -> Ressources-clés | D15: 3
C16: =' '!A585 -> Activités-clés | D16: 3
C17: =' '!A586 -> Partenaires-clés | D17: 3
C18: =' '!A587 -> Structure des coûts | D18: 3
C19: =' '!A588 -> Relations aux clients | D19: 3
C20: =' '!A589 -> Moyens de communication et canaux de distribution | D20: 3
C21: =' '!A590 -> Segments de clientèle | D21: 3
C22: =' '!A591 -> Sources de revenu | D22: 3
B23: 3. | C23: =' '!A592 -> Entreprise | D23: 3
C24: =' '!A593 -> Contexte historique | D24: 3
C25: =' '!A594 -> Vision et stratégies | D25: 3
C26: =' '!A595 -> Organisation et infrastructure (emplacement, marché géographique, organigramme, processus, infrastructure informatique et de bureau) | D26: 3
C27: =' '!A596 -> Forme juridique (y. c. structure de participation) | D27: 3
C28: =' '!A597 -> Informations par rapport au management (personnes, formation, parcours professionnel, références) | D28: 3
C29: =' '!A598 -> Analyse du savoir-faire et de l’infrastructure existants, emplacement actuel | D29: 3
C30: =' '!A599 -> Planification et gestion du personnel | D30: 3
B31: 4. | C31: =' '!A600 -> Produits et services | D31: 3
C32: =' '!A601 -> Offre de produits et de services (assortiment, qualité, spécifications techniques, brevets) | D32: 3
C33: =' '!A602 -> Forces et faiblesses des produits et des services | D33: 3
C34: =' '!A603 -> Chiffre d’affaires et objectifs de croissance | D34: 3
C35: =' '!A604 -> Objectifs de positionnement et relatifs à l’image | D35: 3
C36: =' '!A605 -> Innovation et développement | D36: 3
C37: =' '!A606 -> Assurance qualité | D37: 3
B38: 5. | C38: =' '!A607 -> Marché et concurrence | D38: 3
C39: =' '!A608 -> Structure et évolution du marché | D39: 3
C40: =' '!A609 -> Potentiel et volume du marché | D40: 3
C41: =' '!A610 -> Analyse de la concurrence | D41: 3
C42: =' '!A611 -> Analyse des facteurs environnementaux pertinents | D42: 3
C43: =' '!A612 -> Tendances d’évolution | D43: 3
...

Sheet Canvas
B1: =' '!A325 -> T H E B U S I N E S S M O D E L C A N V A S
C3: =' '!A326 -> Conçu pour: | E3: =' '!A327 -> Conçu par: | G3: =' '!A328 -> Mis à jour le : | H3: =TODAY() -> 46049
C6: Key Partnerships | D6: Key Activities | E6: Value Propositions | G6: Customer Relationship | H6: Customer Segments
D23: Key Resources | G23: Channels
C39: Cost Structure | F39: Revenue Streams
C52: © iManagement • s.imboden • www.2iManagement.ch

Sheet Forces
B1: =' '!A388 -> C A N V A S : F O R C E S & F A I B L E S S E S
E3: =(P10+P15+P24+P29+P33+P41+P46+P50+P55) -> 195 | H3: =' '!A393 -> ne correspond pas du tout | J3: =' '!A392 -> correspond peu | L3: =' '!A391 -> correspond partiellement | N3: =' '!A390 -> correspond plutôt | P3: =' '!A389 -> correspond tout à fait | S3: =' '!A433 -> Impact (1 - 10)
E4: =(N10+N15+N24+N29+N33+N41+N50+N55) -> 80
U6: =CONCATENATE(' '!A437," ",E4," / ",E3) -> Total points : 80 / 195
H7: =(COUNTIF(B118:B164,1)/39) -> 0.051282051 | J7: =(COUNTIF(B118:B164,2)/39) -> 0.20512821 | L7: =(COUNTIF(B118:B164,3)/39) -> 0.23076923 | N7: =(COUNTIF(B118:B164,4)/39) -> 0.15384615 | P7: =(COUNTIF(B118:B164,5)/39) -> 0.076923077
B10: 1 | D10: CUSTOMER RELATIONSHIP | G10: =SUM(B118:B121) -> 13 | N10: =SUM(B118:B121) -> 13 | O10: / | P10: 20
B11: 1.1 | D11: =' '!A394 -> Nos propositions de valeur correspondent aux besoins de nos clients | S11: 9
B12: 1.2 | D12: =' '!A395 -> Nos propositions de valeur ont de forts effets sur le réseau (Networking) | S12: 7
B13: 1.3 | D13: =' '!A396 -> Il existe des synergies fortes entre nos produits et services | S13: 5
B14: 1.4 | D14: =' '!A397 -> Nos clients sont très satisfaits | S14: 3
B15: 2 | D15: REVENUE STREAMS | N15: =SUM(B123:B130) -> 25 | O15: / | P15: 40
B16: 2.1 | D16: =' '!A398 -> Nos marges sont élevées | S16: 5
B17: 2.2 | D17: =' '!A399 -> Nos revenus sont prévisibles | S17: 4
B18: 2.3 | D18: =' '!A400 -> Nous avons des flux de revenus récurrents et des achats répétés fréquents | S18: 8
B19: 2.4 | D19: =' '!A401 -> Nos flux de revenus sont diversifiés | S19: 8
B20: 2.5 | D20: =' '!A402 -> Nos flux de revenus sont durables | S20: 5
B21: 2.6 | D21: =' '!A403 -> Nous encaissons nos revenus avant d'engager nos dépenses | S21: 9
B22: 2.7 | D22: =' '!A404 -> Nous facturons ce pour quoi les clients ont réellement envie de payer | S22: 5
B23: 2.8 | D23: =' '!A405 -> Nos mécanismes de fixation des prix permettent de capter tout ce que le client est prêt à payer | S23: 7
B24: 3 | D24: COST STRUCTURE | N24: =SUM(B132:B135) -> 13 | O24: / | P24: 20
B25: 3.1 | D25: =' '!A406 -> Nos coûts sont prévisibles | S25: 5
B26: 3.2 | D26: =' '!A407 -> Notre structure de coûts est correctement adaptée à notre modèle d'affaires | S26: 5
B27: 3.3 | D27: =' '!A408 -> Nos activités sont rentables | S27: 5
B28: 3.4 | D28: =' '!A409 -> Nous bénéficions d'économies d'échelle | S28: 5
B29: 4 | D29: CUSTOMER SEGMENTS | N29: =SUM(B137:B139) -> 6 | O29: / | P29: 15
B30: 4.1 | D30: =' '!A410 -> Le taux de roulement de la clientèle est faible | S30: 5
B31: 4.2 | D31: =' '!A411 -> La clientèle est bien segmentée | S31: 5
B32: 4.3 | D32: =' '!A412 -> Nous acquérons régulièrement de nouveaux clients | S32: 5
B33: 5 | D33: CHANNELS | N33: =SUM(B141:B147) -> 11 | O33: / | P33: 35
B34: 5.1 | D34: =' '!A413 -> Nos canaux de distribution sont très efficaces | S34: 5
B35: 5.2 | D35: =' '!A414 -> Nos canaux de distribution sont rentables | S35: 5
B36: 5.3 | D36: =' '!A415 -> La pénétration des canaux est bonne | S36: 5
B37: 5.4 | D37: =' '!A416 -> Les clients repèrent facilement nos canaux de distribution | S37: 5
B38: 5.5 | D38: =' '!A417 -> Les canaux sont très intégrés | S38: 5
B39: 5.6 | D39: =' '!A418 -> Les canaux sont sources d'économie d'envergure (economies of scope) | S39: 5
B40: 5.7 | D40: =' '!A419 -> Les canaux de distribution sont bien adaptés aux segments clients | S40: 5
B41: 6 | D41: CUSTOMER RELATIONSHIP | N41: =SUM(B149:B152) -> 6 | O41: / | P41: 20
B42: 6.1 | D42: =' '!A420 -> Les relations avec les clients sont solides | S42: 5
B43: 6.2 | D43: =' '!A421 -> La qualité de la relation correspond bien à la segmentation de la clientèle | S43: 5
B44: 6.3 | D44: =' '!A422 -> Les relations engagent les clients, avec des coûts de changement élevés | S44: 5
...

Sheet Chances
B1: =' '!A442 -> C A N V A S : O P P O R T U N I T É S & D A N G E R S
E3: =(N10+N18+N27+N31+N40+N48+N56+N63+N69) -> 184 | H3: =' '!A393 -> ne correspond pas du tout | J3: =' '!A392 -> correspond peu | L3: =' '!A391 -> correspond partiellement | N3: =' '!A390 -> correspond plutôt | P3: =' '!A389 -> correspond tout à fait | S3: =' '!A433 -> Impact (1 - 10)
E4: =(P10+P18+P27+P31+P40+P48+P56+P63+P69) -> 295
U6: =CONCATENATE(' '!A437," ",E3," / ",E4) -> Total points : 184 / 295
H7: =(COUNTIF(B134:B200,1)/59) -> 0.084745763 | J7: =(COUNTIF(B134:B200,2)/59) -> 0.27118644 | L7: =(COUNTIF(B134:B200,3)/59) -> 0.27118644 | N7: =(COUNTIF(B134:B200,4)/59) -> 0.18644068 | P7: =(COUNTIF(B134:B200,5)/59) -> 0.18644068
B10: 1 | D10: CUSTOMER RELATIONSHIP | G10: =SUM(B134:B137) -> 14 | N10: =SUM(B134:B140) -> 24 | O10: / | P10: 35
B11: 1.1 | D11: =' '!A443 -> Nous pouvons générer des revenus récurrents en convertissant des produits en services | S11: 9
B12: 1.2 | D12: =' '!A444 -> Nous pouvons mieux intégrer nos produits ou services | S12: 8
B13: 1.3 | D13: =' '!A445 -> Nous pourrions satisfaire d'autres besoins de nos clients | S13: 7
B14: 1.4 | D14: =' '!A446 -> Il existe des compléments ou des extensions possibles de notre proposition de valeur | S14: 6
B15: 1.5 | D15: =' '!A447 -> Nous pourrions accomplir d'autres tâches pour nos clients | S15: 4
B16: 1.6 | D16: =' '!A448 -> Des produits et des services de substitution sont disponibles | S16: 3
B17: 1.7 | D17: =' '!A449 -> Les concurrents menacent d'offrir de meilleurs prix ou plus de valeur | S17: 3
B18: 2 | D18: REVENUE STREAMS | N18: =SUM(B142:B149) -> 22 | O18: / | P18: 40
B19: 2.1 | D19: =' '!A450 -> Nous pourrions remplacer des revenus de transactions ponctuels par des revenus récurrents | S19: 10
B20: 2.2 | D20: =' '!A451 -> Nos clients seraient disposés à payer pour d'autres produits et services | S20: 9
B21: 2.3 | D21: =' '!A452 -> Nous avons des occasions de ventes croisées/associées soit en interne, soit avec des partenaires | S21: 8
B22: 2.4 | D22: =' '!A453 -> Nous pourrions rajouter ou créer d'autres flux de revenus | S22: 7
B23: 2.5 | D23: =' '!A454 -> Nous pouvons augmenter les prix | S23: 6
B24: 2.6 | D24: =' '!A455 -> Nos marges sont menacées par des concurrents, et/ou des nouvelles technologies | S24: 5
B25: 2.7 | D25: =' '!A456 -> Nous sommes trop dépendants d'un ou de plusieurs flux de revenus | S25: 4
B26: 2.8 | D26: =' '!A457 -> Nous avons des flux de revenus appelés à disparaître | S26: 3
B27: 3 | D27: COST STRUCTURE | N27: =SUM(B151:B153) -> 9 | O27: / | P27: 15
B28: 3.1 | D28: =' '!A458 -> Nous pouvons réduire nos coûts | S28: 10
B29: 3.2 | D29: =' '!A459 -> Certains coûts risquent de devenir imprévisibles | S29: 4
B30: 3.3 | D30: =' '!A460 -> Certains coûts menacent d'augmenter plus rapidement que les revenus correspondants | S30: 10
B31: 4 | D31: CUSTOMER SEGMENTS | N31: =SUM(B155:B162) -> 24 | O31: / | P31: 40
B32: 4.1 | D32: =' '!A461 -> Nous pourrions bénéficier d'un marché en pleine croissance/expansion | S32: 10
B33: 4.2 | D33: =' '!A462 -> Nous pourrions servir de nouveaux segments de clientèle | S33: 9
B34: 4.3 | D34: =' '!A463 -> Nous pourrions mieux servir nos clients grâce à une segmentation plus fine | S34: 8
B35: 4.4 | D35: =' '!A464 -> Notre marché risque d'être bientôt saturé | S35: 7
B36: 4.5 | D36: =' '!A465 -> Nos concurrents menacent nos parts de marché | S36: 6
B37: 4.6 | D37: =' '!A466 -> Il y a une probabilité que nos clients nous quittent | S37: 5
B38: 4.7 | D38: =' '!A467 -> Il y a des chances que nos clients sont en défaut de paiement | S38: 4
B39: 4.8 | D39: =' '!A468 -> La concurrence risque de s'intensifier rapidement sur notre marché | S39: 3
B40: 5 | D40: CHANNELS | N40: =SUM(B164:B170) -> 20 | O40: / | P40: 35
B41: 5.1 | D41: =' '!A469 -> Nous pourrions améliorer l'efficacité, la rentabilité et la performance de nos canaux | S41: 1
B42: 5.2 | D42: =' '!A470 -> Nous pourrions améliorer l'intégration de nos canaux | S42: 2
B43: 5.3 | D43: =' '!A471 -> Nous pourrions trouver de nouveaux canaux partenaires complémentaires | S43: 3
B44: 5.4 | D44: =' '!A472 -> Nous pourrions augmenter nos marges en servant directement nos clients | S44: 4
...

Sheet Stakeholder
B1: =' '!A51 -> A N A L Y S E D E S P A R T I E S P R E N A N T E S
B4: =' '!A65 -> No. | C4: =' '!A66 -> Groupe de parties prenantes | D4: =' '!A68 -> Etendue de l'intérêt | E4: =' '!A69 -> Etendue de l'influence | F4: =' '!A67 -> Intérêt, attentes | G4: =' '!A73 -> Taille du groupe | H4: =' '!A70 -> Chances (+) et Dangers (-) | I4: =' '!A71 -> Mesures possibles | J4: =' '!A72 -> Statut
B5: s1 | C5: Groupe 1 | D5: 3 | E5: 7 | G5: 1 | J5: 1 | K5: =IF(G5=3,3, IF(G5=2,2,1)) -> 1
B6: s2 | C6: Groupe 2 | D6: 8 | E6: 9 | G6: 1 | J6: 1 | K6: =IF(G6=3,3, IF(G6=2,2,1)) -> 1
B7: s3 | J7: 1 | K7: =IF(G7=3,3, IF(G7=2,2,1)) -> 1
B8: s4 | J8: 1 | K8: =IF(G8=3,3, IF(G8=2,2,1)) -> 1
B9: s5 | J9: 1 | K9: =IF(G9=3,3, IF(G9=2,2,1)) -> 1
B10: s6 | J10: 1 | K10: =IF(G10=3,3, IF(G10=2,2,1)) -> 1
B11: s7 | J11: 1 | K11: =IF(G11=3,3, IF(G11=2,2,1)) -> 1
B12: s8 | J12: 1 | K12: =IF(G12=3,3, IF(G12=2,2,1)) -> 1
B13: s9 | J13: 1 | K13: =IF(G13=3,3, IF(G13=2,2,1)) -> 1
B14: s10 | J14: 1 | K14: =IF(G14=3,3, IF(G14=2,2,1)) -> 1
B15: s11 | J15: 1 | K15: =IF(G15=3,3, IF(G15=2,2,1)) -> 1
B16: s12 | J16: 1 | K16: =IF(G16=3,3, IF(G16=2,2,1)) -> 1
B17: s13 | J17: 1 | K17: =IF(G17=3,3, IF(G17=2,2,1)) -> 1
B18: s14 | J18: 1 | K18: =IF(G18=3,3, IF(G18=2,2,1)) -> 1
... B23: s19 | J23: 1 | K23: =IF(G23=3,3, IF(G23=2,2,1)) -> 1
B24: s20 | K24: =IF(G24=3,3, IF(G24=2,2,1)) -> 1
B25: © iManagement • s.imboden • www.2iManagement.ch
H28: =CONCATENATE(" ",B5," ",C5) -> s1 Groupe 1
H29: =CONCATENATE(" ",B6," ",C6) -> s2 Groupe 2
H30: =CONCATENATE(" ",B7," ",C7) -> s3
H31: =CONCATENATE(" ",B8," ",C8) -> s4
H32: =CONCATENATE(" ",B9," ",C9) -> s5
H33: =CONCATENATE(" ",B10," ",C10) -> s6
H34: =CONCATENATE(" ",B11," ",C11) -> s7
H35: =CONCATENATE(" ",B12," ",C12) -> s8
H36: =CONCATENATE(" ",B13," ",C13) -> s9
H37: =CONCATENATE(" ",B14," ",C14) -> s10
H38: =CONCATENATE(" ",B15," ",C15) -> s11
H39: =CONCATENATE(" ",B16," ",C16) -> s12
... H47: =CONCATENATE(" ",B24," ",C24) -> s20
B75: © iManagement • s.imboden • www.2iManagement.ch

Sheet Wertkette
B1: =' '!A139 -> C H A Î N E D E V A L E U R D E P O R T E R
A4: x!A192
B7: =CONCATENATE(' '!A159," (",' '!$A$141,")") -> Logistique interne (Activités principales)
B8: =' '!$A$177 -> No. | C8: =' '!$A$167 -> Activité | D8: =' '!$A$386 -> en % | E8: =' '!A181 -> Forces principales | F8: =' '!A182 -> Faiblesses principales | G8: =' '!$A$184 -> Plus value pour clients | H8: =' '!$A$186 -> Mesures possibles | I8: =' '!$A$187 -> Statut
B9: 1 | G9: 3 | I9: 2
B10: 2 | G10: 4
B11: 3
B12: 4
B13: 5
B14: 6
B15: 7
B16: 8
B17: 9
B18: 10
C19: TOTAL | D19: =SUM(D9:D18) -> 0
B21: =CONCATENATE(' '!A162," (",' '!$A$141,")") -> Production (Activités principales)
B22: =' '!$A$177 -> No. | C22: =' '!$A$167 -> Activité | D22: =' '!$A$386 -> en % | E22: =$E$8 -> Forces principales | F22: =$F$8 -> Faiblesses principales | G22: =' '!$A$184 -> Plus value pour clients | H22: =' '!$A$186 -> Mesures possibles | I22: =' '!$A$187 -> Statut
B23: 1 | G23: 1 | I23: 2
B24: 2 | G24: 4
B25: 3 | G25: 4
B26: 4 | G26: 1
B27: 5 | G27: 1
B28: 6 | G28: 4
B29: 7 | G29: 1
B30: 8 | G30: 1
B31: 9 | G31: 1
B32: 10 | G32: 1
C33: TOTAL | D33: =SUM(D23:D32) -> 0
B35: =CONCATENATE(' '!A163," (",' '!$A$141,")") -> Logistique externe (Activités principales)
B36: =' '!$A$177 -> No. | C36: =' '!$A$167 -> Activité | D36: =' '!$A$386 -> en % | E36: =$E$8 -> Forces principales | F36: =$F$8 -> Faiblesses principales | G36: =' '!$A$184 -> Plus value pour clients | H36: =' '!$A$186 -> Mesures possibles | I36: =' '!$A$187 -> Statut
B37: 1 | G37: 3 | I37: 2
B38: 2 | G38: 2
B39: 3
B40: 4
B41: 5
B42: 6
B43: 7
B44: 8
B45: 9
B46: 10
...

Sheet Produkte
B1: =' '!A348 -> P R O D U I T S & P R E S T A T I O N S D E S E R V I C E S
B4: =' '!A65 -> No. | C4: =' '!A349 -> Produit/Prestations de service | D4: =' '!A352 -> USP | E4: =' '!A353 -> Demande | F4: =' '!A354 -> Chiffre d'affaire | G4: =' '!A70 -> Chances (+) et Dangers (-) | H4: =' '!A71 -> Mesures possibles | I4: =' '!A72 -> Statut
B5: P1 | C5: Product 1 | D5: 3 | E5: 8 | F5: 1 | J5: =IF(F5=3,3, IF(F5=2,2,1)) -> 1
B6: P2 | C6: Product 2 | D6: 8 | E6: 4 | F6: 2 | J6: =IF(F6=3,3, IF(F6=2,2,1)) -> 2
B7: P3 | J7: =IF(F7=3,3, IF(F7=2,2,1)) -> 1
B8: P4 | J8: =IF(F8=3,3, IF(F8=2,2,1)) -> 1
B9: P5 | J9: =IF(F9=3,3, IF(F9=2,2,1)) -> 1
B10: P6 | J10: =IF(F10=3,3, IF(F10=2,2,1)) -> 1
B11: P7 | J11: =IF(F11=3,3, IF(F11=2,2,1)) -> 1
B12: P8 | J12: =IF(F12=3,3, IF(F12=2,2,1)) -> 1
B13: P9 | J13: =IF(F13=3,3, IF(F13=2,2,1)) -> 1
B14: P10 | J14: =IF(F14=3,3, IF(F14=2,2,1)) -> 1
B15: P11 | J15: =IF(F15=3,3, IF(F15=2,2,1)) -> 1
B16: P12 | J16: =IF(F16=3,3, IF(F16=2,2,1)) -> 1
B17: P13 | J17: =IF(F17=3,3, IF(F17=2,2,1)) -> 1
B18: P14 | J18: =IF(F18=3,3, IF(F18=2,2,1)) -> 1
... B24: P20 | J24: =IF(F24=3,3, IF(F24=2,2,1)) -> 1
H36: =CONCATENATE(" ",B5," ",C5) -> P1 Product 1
H37: =CONCATENATE(" ",B6," ",C6) -> P2 Product 2
H38: =CONCATENATE(" ",B7," ",C7) -> P3
H39: =CONCATENATE(" ",B8," ",C8) -> P4
H40: =CONCATENATE(" ",B9," ",C9) -> P5
H41: =CONCATENATE(" ",B10," ",C10) -> P6
H42: =CONCATENATE(" ",B11," ",C11) -> P7
H43: =CONCATENATE(" ",B12," ",C12) -> P8
H44: =CONCATENATE(" ",B13," ",C13) -> P9
H45: =CONCATENATE(" ",B14," ",C14) -> P10
H46: =CONCATENATE(" ",B15," ",C15) -> P11
H47: =CONCATENATE(" ",B16," ",C16) -> P12
... H55: =CONCATENATE(" ",B24," ",C24) -> P20
B60: © iManagement • s.imboden • www.2iManagement.ch

Sheet Kundenbeziehung
B1: =' '!A370 -> R E L A T I O N C L I E N T
B5: =' '!A65 -> No. | C5: =' '!A374 -> Clients | E5: =' '!A333 -> Comment atteindre le client ? | F5: =' '!A367 -> Mesures possible | G5: =' '!A72 -> Statut
B7: 1 | C7: =IF(Kunden!C5<>"",Kunden!C5,"") -> Client 1 | E7: Coaching individuel | G7: 3
B8: 2 | C8: =IF(Kunden!C6<>"",Kunden!C6,"") -> Client 2 | E8: Contacts personnalisé | G8: 3
B9: 3 | C9: =IF(Kunden!C7<>"",Kunden!C7,"")
B10: 4 | C10: =IF(Kunden!C8<>"",Kunden!C8,"")
B11: 5 | C11: =IF(Kunden!C9<>"",Kunden!C9,"")
B12: 6 | C12: =IF(Kunden!C10<>"",Kunden!C10,"")
B13: 7 | C13: =IF(Kunden!C11<>"",Kunden!C11,"")
B14: 8 | C14: =IF(Kunden!C12<>"",Kunden!C12,"")
B15: 9 | C15: =IF(Kunden!C13<>"",Kunden!C13,"")
B16: 10 | C16: =IF(Kunden!C14<>"",Kunden!C14,"")
B17: 11 | C17: =IF(Kunden!C15<>"",Kunden!C15,"") | E17: Publicité
B18: 12 | C18: =IF(Kunden!C16<>"",Kunden!C16,"")
B19: 13 | C19: =IF(Kunden!C17<>"",Kunden!C17,"")
B20: 14 | C20: =IF(Kunden!C18<>"",Kunden!C18,"")
B21: 15 | C21: =IF(Kunden!C19<>"",Kunden!C19,"")
B22: 16 | C22: =IF(Kunden!C20<>"",Kunden!C20,"")
B23: 17 | C23: =IF(Kunden!C21<>"",Kunden!C21,"")
B24: 18 | C24: =IF(Kunden!C22<>"",Kunden!C22,"")
B25: 19 | C25: =IF(Kunden!C23<>"",Kunden!C23,"")
B26: 20 | C26: =IF(Kunden!C24<>"",Kunden!C24,"")
B28: © iManagement • s.imboden • www.2iManagement.ch

Sheet Kunden
B1: =' '!A355 -> S E G M E N T A T I O N D E S C L I E N T S
B4: =' '!A65 -> No. | C4: =' '!A362 -> Client | D4: =' '!A363 -> Loyauté | E4: =' '!A364 -> Rentabilité | F4: =' '!A365 -> Client ABC | G4: =' '!A367 -> Mesures possible | H4: =' '!A72 -> Statut | I4: =' '!A115 -> Remarques
B5: C1 | C5: Client 1 | D5: 8 | E5: 10 | F5: A | H5: 2 | I5: =' '!A368 -> Comment atteindre le client? | J5: =IF(F5="A",3, IF(F5="B",2,1)) -> 3
B6: C2 | C6: Client 2 | D6: 3 | E6: 4 | F6: C | H6: 3 | I6: =' '!A369 -> Canaux de distribution | J6: =IF(F6="A",3, IF(F6="B",2,1)) -> 1
B7: C3 | J7: =IF(F7="A",3, IF(F7="B",2,1)) -> 1
B8: C4 | J8: =IF(F8="A",3, IF(F8="B",2,1)) -> 1
B9: C5 | J9: =IF(F9="A",3, IF(F9="B",2,1)) -> 1
B10: C6 | J10: =IF(F10="A",3, IF(F10="B",2,1)) -> 1
B11: C7 | J11: =IF(F11="A",3, IF(F11="B",2,1)) -> 1
B12: C8 | J12: =IF(F12="A",3, IF(F12="B",2,1)) -> 1
B13: C9 | J13: =IF(F13="A",3, IF(F13="B",2,1)) -> 1
B14: C10 | J14: =IF(F14="A",3, IF(F14="B",2,1)) -> 1
B15: C11 | J15: =IF(F15="A",3, IF(F15="B",2,1)) -> 1
B16: C12 | J16: =IF(F16="A",3, IF(F16="B",2,1)) -> 1
B17: C13 | J17: =IF(F17="A",3, IF(F17="B",2,1)) -> 1
B18: C14 | J18: =IF(F18="A",3, IF(F18="B",2,1)) -> 1
... B24: C20 | J24: =IF(F24="A",3, IF(F24="B",2,1)) -> 1
B25: © iManagement • s.imboden • www.2iManagement.ch
I40: =CONCATENATE(B5," ",C5) -> C1 Client 1
I41: =CONCATENATE(B6," ",C6) -> C2 Client 2
I42: =CONCATENATE(B7," ",C7) -> C3
I43: =CONCATENATE(B8," ",C8) -> C4
I44: =CONCATENATE(B9," ",C9) -> C5
I45: =CONCATENATE(B10," ",C10) -> C6
I46: =CONCATENATE(B11," ",C11) -> C7
I47: =CONCATENATE(B12," ",C12) -> C8
I48: =CONCATENATE(B13," ",C13) -> C9
I49: =CONCATENATE(B14," ",C14) -> C10
I50: =CONCATENATE(B15," ",C15) -> C11
I51: =CONCATENATE(B16," ",C16) -> C12
... I59: =CONCATENATE(B24," ",C24) -> C20

Sheet Kernkompetenzen
B1: =' '!A168 -> R E S S O U R C E S & C O M P É T E N C E S C L É
E4: =' '!A175 -> Importance stratégique
B5: =' '!A177 -> No. | C5: =' '!A178 -> Ressources clé | D5: =' '!A170 -> Compétences clé | E5: =' '!A184 -> Plus value pour clients | F5: =' '!A185 -> Difficile à substituer | G5: =' '!A179 -> Chances principales | H5: =' '!A180 -> Dangers principaux | I5: =' '!A186 -> Mesures possibles | J5: =' '!A187 -> Statut
B6: R1 | C6: Ressource 1 | E6: 4 | F6: 2 | J6: 2
B7: R2 | C7: Ressource 2 | E7: 2 | F7: 4
B8: R3
B9: R4
B10: R5
B11: R6
B12: R7
B13: R8
B14: R9
B15: R10
B16: R11
B17: R12
B18: © iManagement • s.imboden • www.2iManagement.ch
H33: =CONCATENATE(" ",B6," ",C6) -> R1 Ressource 1
H34: =CONCATENATE(" ",B7," ",C7) -> R2 Ressource 2
H35: =CONCATENATE(" ",B8," ",C8) -> R3
H36: =CONCATENATE(" ",B9," ",C9) -> R4
H37: =CONCATENATE(" ",B10," ",C10) -> R5
H38: =CONCATENATE(" ",B11," ",C11) -> R6
H39: =CONCATENATE(" ",B12," ",C12) -> R7
H40: =CONCATENATE(" ",B13," ",C13) -> R8
H41: =CONCATENATE(" ",B14," ",C14) -> R9
H42: =CONCATENATE(" ",B15," ",C15) -> R10
H43: =CONCATENATE(" ",B16," ",C16) -> R11
H44: =CONCATENATE(" ",B17," ",C17) -> R12
B53: © iManagement • s.imboden • www.2iManagement.ch

Sheet Distribution
B1: =' '!A371 -> C A N A U X D E D I S T R I B U T I O N
B5: =' '!A65 -> No. | C5: =' '!A374 -> Clients | E5: =' '!A338 -> Quels sont les canaux de distribution ? | F5: =' '!A367 -> Mesures possible | G5: =' '!A72 -> Statut
B7: 1 | C7: =IF(Kunden!C5<>"",Kunden!C5,"") -> Client 1 | E7: Médias | G7: 2
B8: 2 | C8: =IF(Kunden!C6<>"",Kunden!C6,"") -> Client 2 | G8: 3
B9: 3 | C9: =IF(Kunden!C7<>"",Kunden!C7,"")
B10: 4 | C10: =IF(Kunden!C8<>"",Kunden!C8,"")
B11: 5 | C11: =IF(Kunden!C9<>"",Kunden!C9,"")
B12: 6 | C12: =IF(Kunden!C10<>"",Kunden!C10,"")
B13: 7 | C13: =IF(Kunden!C11<>"",Kunden!C11,"")
B14: 8 | C14: =IF(Kunden!C12<>"",Kunden!C12,"")
B15: 9 | C15: =IF(Kunden!C13<>"",Kunden!C13,"")
B16: 10 | C16: =IF(Kunden!C14<>"",Kunden!C14,"")
B17: 11 | C17: =IF(Kunden!C15<>"",Kunden!C15,"")
B18: 12 | C18: =IF(Kunden!C16<>"",Kunden!C16,"")
B19: 13 | C19: =IF(Kunden!C17<>"",Kunden!C17,"")
B20: 14 | C20: =IF(Kunden!C18<>"",Kunden!C18,"")
... B26: 20 | C26: =IF(Kunden!C24<>"",Kunden!C24,"")
B28: © iManagement • s.imboden • www.2iManagement.ch

Sheet Kosten
B1: =' '!A384 -> S T R U C T U R E D E S C O Û T S
B24: =' '!A65 -> No. | C24: =' '!A385 -> Coûts | D24: =' '!A386 -> en % | E24: =' '!A387 -> Influença-bilité? | F24: =' '!A70 -> Chances (+) et Dangers (-) | G24: =' '!A71 -> Mesures possibles | H24: =' '!A72 -> Statut
B25: 1 | C25: Personnel (formation + Ra&D) | D25: 0.8 | E25: 3
B26: 2 | C26: ? | D26: 0.2
B27: 3
B28: 4
B29: 5
B30: 6
B31: 7
B32: 8
B33: 9
B34: 10
B35: 11
B36: 12
B37: 13
B38: 14
B39: 15
C40: TOTAL | D40: =SUM(D25:D39) -> 1
B41: © iManagement • s.imboden • www.2iManagement.ch

Sheet Einnahmen
B1: =' '!A381 -> S O U R C E S D E R E V E N U S
B24: =' '!A65 -> No. | C24: =' '!A382 -> Source de revenu | D24: =' '!A386 -> en % | E24: =' '!A387 -> Influença-bilité? | F24: =' '!A70 -> Chances (+) et Dangers (-) | G24: =' '!A71 -> Mesures possibles | H24: =' '!A72 -> Statut
B25: 1 | C25: Revenu 1 | D25: 0.7 | E25: 1
B26: 2 | C26: ? | D26: 0.3
B27: 3
B28: 4
B29: 5
B30: 6
B31: 7
B32: 8
B33: 9
B34: 10
B35: 11
B36: 12
B37: 13
B38: 14
B39: 15
C40: TOTAL | D40: =SUM(D25:D39) -> 1
B41: © iManagement • s.imboden • www.2iManagement.ch

Sheet Markt
B1: =' '!A506 -> M A R C H É
B6: =' '!A177 -> No. | C6: =' '!A507 -> Marché | D6: =' '!A511 -> Caractéristiques | E6: =' '!A512 -> Intensité de la demande | F6: =' '!A508 -> Potentiel | G6: =' '!A509 -> Croissance attendue | H6: =' '!A510 -> Volume marché | I6: =' '!A517 -> en Sfr. | J6: =' '!A518 -> Par du marché [%] | K6: =' '!A517 -> en Sfr.
B7: M1 | C7: Markt 1 | E7: Marché de masse | F7: 10 | G7: 6 | H7: 2 | I7: 1000000 | J7: 0.3 | K7: =J7*I7 -> 300000 | L7: =IF(H7=3,3, IF(H7=2,2,1)) -> 2
B8: M2 | C8: Markt 2 | E8: Nischenmarkt | F8: 9 | G8: 10 | H8: 3 | I8: 500000 | J8: 0.1 | K8: =J8*I8 -> 50000 | L8: =IF(H8=3,3, IF(H8=2,2,1)) -> 3
B9: M3 | C9: Markt 3 | F9: 8 | G9: 1 | J9: 0.3 | K9: =J9*I9 -> 0 | L9: =IF(H9=3,3, IF(H9=2,2,1)) -> 1
B10: M4 | C10: Markt 4 | F10: 7 | G10: 3 | J10: 0.4 | K10: =J10*I10 -> 0 | L10: =IF(H10=3,3, IF(H10=2,2,1)) -> 1
B11: M5 | C11: Markt 5 | J11: 0.5 | K11: =J11*I11 -> 0 | L11: =IF(H11=3,3, IF(H11=2,2,1)) -> 1
B12: M6 | C12: Markt 6 | J12: 0.6 | K12: =J12*I12 -> 0 | L12: =IF(H12=3,3, IF(H12=2,2,1)) -> 1
B13: M7 | C13: Markt 7 | J13: 0.7 | K13: =J13*I13 -> 0 | L13: =IF(H13=3,3, IF(H13=2,2,1)) -> 1
B14: M8 | C14: Markt 8 | J14: 0.75 | K14: =J14*I14 -> 0 | L14: =IF(H14=3,3, IF(H14=2,2,1)) -> 1
B15: © iManagement - s.imboden | H15: =' '!A574 -> Totale | I15: =SUM(I7:I14) -> 1500000 | K15: =SUM(K7:K14) -> 350000
B52: © iManagement • s.imboden • www.2iManagement.ch

Sheet Branchenstruktur
B1: =' '!A89 -> 5 F O R C E S D E P O R T E R
G5: =' '!A90 -> Menace de nouv. entrants | H5: =IF($E$34<>0,$E$34,0.1) -> 3
G6: =' '!A93 -> Produits de substitution | H6: =IF($E$49<>0,$E$49,0.1) -> 1
G7: =' '!A91 -> Pouvoir de nég. fournisseurs | H7: =IF($E$64<>0,$E$64,0.1) -> 4
G8: =' '!A92 -> Pouvoir de nég. clients | H8: =IF($E$79<>0,$E$79,0.1) -> 2
G9: =' '!A94 -> Concurrence / rivalité | H9: =IF($E$94<>0,$E$94,0.1) -> 7
C22: =' '!A95 -> Menace de nouveaux entrants
B23: =' '!A100 -> No. | C23: =' '!A101 -> Désignation | D23: =' '!A102 -> Impact | E23: =' '!A103 -> Degré de danger | F23: =' '!A105 -> Ten- dance | G23: =' '!A106 -> Mesures possibles | H23: =' '!A107 -> Statut | I23: =COUNTIF(H23:H33,1) -> 0
B24: 1 | E24: 3 | F24: 1 | I24: =COUNTIF(H24:H33,2) -> 0
B25: =$B24+1 -> 2 | I25: =COUNTIF(H24:H34,3) -> 0
B26: =$B25+1 -> 3
B27: =$B26+1 -> 4
B28: =$B27+1 -> 5
B29: =$B28+1 -> 6
B30: =$B29+1 -> 7
B31: =$B30+1 -> 8
B32: =$B31+1 -> 9
B33: =$B32+1 -> 10
D34: =' '!$A$108 -> Somme | E34: =SUM(E24:E33) -> 3
C37: =' '!A97 -> Menace des produits de substitution
B38: =B23 -> No. | C38: =C23 -> Désignation | D38: =D23 -> Impact | E38: =E23 -> Degré de danger | F38: =F23 -> Ten- dance | G38: =G23 -> Mesures possibles | H38: =H23 -> Statut | I38: =COUNTIF(H38:H48,1) -> 0
B39: 1 | E39: 1 | F39: 2 | I39: =COUNTIF(H38:H48,2) -> 0
B40: =$B39+1 -> 2 | I40: =COUNTIF(H38:H50,3) -> 0
B41: =$B40+1 -> 3
B42: =$B41+1 -> 4
B43: =$B42+1 -> 5
B44: =$B43+1 -> 6
B45: =$B44+1 -> 7
B46: =$B45+1 -> 8
B47: =$B46+1 -> 9
B48: =$B47+1 -> 10
D49: =' '!$A$108 -> Somme | E49: =SUM(E39:E48) -> 1
C52: =' '!A96 -> Pouvoir de négociation des fournisseurs
B53: =B23 -> No. | C53: =C23 -> Désignation | D53: =D23 -> Impact | E53: =E23 -> Degré de danger | F53: =F23 -> Ten- dance | G53: =G23 -> Mesures possibles | H53: =H23 -> Statut | I53: =COUNTIF(H53:H63,1) -> 0
B54: 1 | E54: 4 | I54: =COUNTIF(H53:H63,2) -> 0
B55: =$B54+1 -> 2 | I55: =COUNTIF(H53:H64,3) -> 0
B56: =$B55+1 -> 3
B57: =$B56+1 -> 4
B58: =$B57+1 -> 5
B59: =$B58+1 -> 6
...

Sheet Entwicklungstrends
B1: =' '!A243 -> T E N D A N C E S D E D É V E L O P P E M E N T
C4: Politisch | D4: =IF(E24<>0,E24,0.1) -> 8
C5: Ökonomisch | D5: =IF(E39<>0,E39,0.1) -> 5
C6: Soziologisch | D6: =IF(E54<>0,E54,0.1) -> 2
C7: Technologisch | D7: =IF(E69<>0,E69,0.1) -> 3
C8: Rechtlich | D8: =IF(E84<>0,E84,0.1) -> 1
C9: Ökologisch | D9: =IF(E99<>0,E99,0.1) -> 9
C12: =' '!A250 -> Tendances politiques
B13: =' '!A251 -> No. | C13: =' '!A252 -> Désignation | D13: =' '!A253 -> Impact | E13: =' '!A254 -> Intensité de l'impact | F13: =' '!A255 -> Ten- dance | G13: =' '!A256 -> Mesures possibles | H13: =' '!A257 -> Statut | I13: =COUNTIF(H13:H23,1) -> 1
B14: 1 | E14: 4 | F14: 1 | H14: 1 | I14: =COUNTIF(H14:H23,2) -> 0
B15: =$B14+1 -> 2 | E15: 4 | I15: =COUNTIF(H15:H24,3) -> 0
B16: =$B15+1 -> 3
B17: =$B16+1 -> 4
B18: =$B17+1 -> 5
B19: =$B18+1 -> 6
B20: =$B19+1 -> 7
B21: =$B20+1 -> 8
B22: =$B21+1 -> 9
B23: =$B22+1 -> 10
D24: =' '!$A$108 -> Somme | E24: =SUM(E14:E23) -> 8
C27: =' '!A258 -> Tendances économiques
B28: =B13 -> No. | C28: =C13 -> Désignation | D28: =D13 -> Impact | E28: =E13 -> Intensité de l'impact | F28: =F13 -> Ten- dance | G28: =G13 -> Mesures possibles | H28: =H13 -> Statut | I28: =COUNTIF(H28:H38,1) -> 0
B29: 1 | E29: 2 | F29: 1 | H29: 3 | I29: =COUNTIF(H28:H38,2) -> 0
B30: =$B29+1 -> 2 | E30: 3 | I30: =COUNTIF(H28:H39,3) -> 1
B31: =$B30+1 -> 3
B32: =$B31+1 -> 4
B33: =$B32+1 -> 5
B34: =$B33+1 -> 6
B35: =$B34+1 -> 7
B36: =$B35+1 -> 8
B37: =$B36+1 -> 9
B38: =$B37+1 -> 10
D39: =' '!$A$108 -> Somme | E39: =SUM(E29:E38) -> 5
C42: =' '!A259 -> Tendances sociologiques
B43: =B13 -> No. | C43: =C13 -> Désignation | D43: =D13 -> Impact | E43: =E13 -> Intensité de l'impact | F43: =F13 -> Ten- dance | G43: =G13 -> Mesures possibles | H43: =H13 -> Statut | I43: =COUNTIF(H43:H53,1) -> 1
B44: 1 | E44: 2 | F44: 1 | H44: 1 | I44: =COUNTIF(H43:H53,2) -> 0
B45: =$B44+1 -> 2 | I45: =COUNTIF(H43:H54,3) -> 0
B46: =$B45+1 -> 3
B47: =$B46+1 -> 4
B48: =$B47+1 -> 5
...

Sheet SGE
B1: =' '!A375 -> D O M A I N E D' A C T I V I T É S T R A T É G I Q U E (DAS)
B4: =' '!A65 -> No. | C4: =' '!A377 -> DAS | D4: =' '!A378 -> Effets de synergies | E4: =' '!A379 -> Segments du marché | F4: =' '!A380 -> Indépendance | G4: =' '!A72 -> Statut
B5: 1 | F5: 5 | G5: 1
B6: 2
B7: 3
B8: 4
B9: 5
B10: 6
B11: 7
B12: 8
B13: 9
B14: 10
B16: © iManagement • s.imboden • www.2iManagement.ch

Sheet Marketing
B1: =' '!A519 -> M A R K E T I N G
B22: © iManagement • s.imboden • www.2iManagement.ch

Sheet Portfolio
B1: =' '!A109 -> M A T R I C E B C G
B33: =' '!A65 -> No. | C33: =' '!A121 -> Produit | D33: =' '!A112 -> Chiffre d'affaires | E33: =' '!A113 -> Croissance du marché | F33: =' '!A111 -> Part de marché relative | H33: =' '!A115 -> Remarques
B34: 1 | C34: =IF(Produkte!C5<>"",Produkte!C5,"") -> Product 1 | D34: 2 | E34: 6 | F34: 4
B35: 2 | C35: =IF(Produkte!C6<>"",Produkte!C6,"") -> Product 2 | D35: 1 | E35: 8 | F35: 8
B36: 3 | C36: =IF(Produkte!C7<>"",Produkte!C7,"")
B37: 4 | C37: =IF(Produkte!C8<>"",Produkte!C8,"")
B38: 5 | C38: =IF(Produkte!C9<>"",Produkte!C9,"")
B39: 6 | C39: =IF(Produkte!C10<>"",Produkte!C10,"")
B40: 7 | C40: =IF(Produkte!C11<>"",Produkte!C11,"")
B41: 8 | C41: =IF(Produkte!C12<>"",Produkte!C12,"")
B42: 9 | C42: =IF(Produkte!C13<>"",Produkte!C13,"")
B43: 10 | C43: =IF(Produkte!C14<>"",Produkte!C14,"")
B44: © iManagement - s.imboden
B47: =' '!A124 -> M A T R I C E M c K I N S E Y
B50: =' '!A65 -> No. | C50: =' '!A121 -> Produit | D50: =' '!A112 -> Chiffre d'affaires | E50: =' '!A126 -> Position concurrentielle | F50: =' '!A125 -> Attrait du marché | H50: =' '!A115 -> Remarques
B51: 1 | C51: =C34 -> Product 1 | D51: 1 | E51: 3 | F51: 3
B52: 2 | C52: =C35 -> Product 2 | D52: 2 | E52: 6 | F52: 7
B53: 3 | C53: =C36
B54: 4 | C54: =C37
B55: 5 | C55: =C38
B56: 6 | C56: =C39
B57: 7 | C57: =C40
B58: 8 | C58: =C41
B59: 9 | C59: =C42
B60: 10 | C60: =C43
B98: © iManagement • s.imboden • www.2iManagement.ch

Sheet Lebenszyklus
B1: =' '!A521 -> C Y C L E D E V I E
C34: © iManagement • s.imboden • www.2iManagement.ch

Sheet Benchmark
B1: =' '!A293 -> B E N C H M A R K I N G
B3: =' '!A294 -> Statut | C3: =' '!A295 -> No. | D3: =' '!A296 -> Objets de comparaison | E3: =' '!A298 -> Nous | F3: =' '!A299 -> Concurrence | I3: =' '!A297 -> Propositions d'amélioration
E4: l | F4: u
B5: =ABS(E5-F5) -> 2 | C5: 1 | E5: 1 | F5: 3
B6: =ABS(E6-F6) -> 0 | C6: 2 | E6: 0 | F6: 0
B7: =ABS(E7-F7) -> 0 | C7: 3 | E7: 0 | F7: 0
B8: =ABS(E8-F8) -> 0 | C8: 4 | E8: 0 | F8: 0
B9: =ABS(E9-F9) -> 0 | C9: 5 | E9: 0 | F9: 0
B10: =ABS(E10-F10) -> 0 | C10: 6 | E10: 0 | F10: 0
B11: =ABS(E11-F11) -> 0 | C11: 7 | E11: 0 | F11: 0
B12: =ABS(E12-F12) -> 0 | C12: 8 | E12: 0 | F12: 0
B13: =ABS(E13-F13) -> 0 | C13: 9 | E13: 0 | F13: 0
B14: =ABS(E14-F14) -> 0 | C14: 10 | E14: 0 | F14: 0
B15: =ABS(E15-F15) -> 0 | C15: 11 | E15: 0 | F15: 0
B16: =ABS(E16-F16) -> 0 | C16: 12 | E16: 0 | F16: 0
... B34: =ABS(E34-F34) -> 0 | C34: 30 | E34: 0 | F34: 0
B35: © iManagement • s.imboden • www.2iManagement.ch

Sheet Kommunikation
B1: =' '!A533 -> C O M M U N I C A T I O N
A4: x!A192
B7: =' '!A534 -> Publicité
B8: =' '!A548 -> No. | C8: =' '!A547 -> Désignation | D8: =' '!A544 -> en % | E8: =' '!A549 -> Forces principales | F8: =' '!A550 -> Faiblesses principales | G8: =' '!A543 -> Impact | H8: =' '!A545 -> Remarques | I8: =' '!A546 -> Statut
B9: 1 | G9: 3 | I9: 2 | J9: =IF(G9=0,0.1,G9) -> 3
B10: 2 | G10: 4 | J10: =IF(G10=0,0.1,G10) -> 4
B11: 3 | G11: 3 | J11: =IF(G11=0,0.1,G11) -> 3
B12: 4 | J12: =IF(G12=0,0.1,G12) -> 0.1
B13: 5 | J13: =IF(G13=0,0.1,G13) -> 0.1
B14: 6 | J14: =IF(G14=0,0.1,G14) -> 0.1
B15: 7 | J15: =IF(G15=0,0.1,G15) -> 0.1
B16: 8 | J16: =IF(G16=0,0.1,G16) -> 0.1
B17: 9 | J17: =IF(G17=0,0.1,G17) -> 0.1
B18: 10 | J18: =IF(G18=0,0.1,G18) -> 0.1
C19: TOTAL | D19: =SUM(D9:D18) -> 0
B21: =' '!A542 -> Promotion des ventes
B22: =$B$8 -> No. | C22: =$C$8 -> Désignation | D22: =$D$8 -> en % | E22: =$E$8 -> Forces principales | F22: =$F$8 -> Faiblesses principales | G22: =$G$8 -> Impact | H22: =H8 -> Remarques | I22: =$I$8 -> Statut
B23: 1 | D23: 0.8 | G23: 3 | I23: 2 | J23: =IF(G23=0,0.1,G23) -> 3
B24: 2 | D24: 0.01 | G24: 2 | J24: =IF(G24=0,0.1,G24) -> 2
B25: 3 | D25: 0.03 | G25: 4 | J25: =IF(G25=0,0.1,G25) -> 4
B26: 4 | D26: 0.02 | G26: 3 | J26: =IF(G26=0,0.1,G26) -> 3
B27: 5 | D27: 0.05 | G27: 2 | J27: =IF(G27=0,0.1,G27) -> 2
B28: 6 | D28: 0.05 | G28: 3 | J28: =IF(G28=0,0.1,G28) -> 3
B29: 7 | D29: 0.02 | G29: 3 | J29: =IF(G29=0,0.1,G29) -> 3
B30: 8 | D30: 0.02 | G30: 3 | J30: =IF(G30=0,0.1,G30) -> 3
B31: 9 | G31: 2 | J31: =IF(G31=0,0.1,G31) -> 2
B32: 10 | G32: 2 | J32: =IF(G32=0,0.1,G32) -> 2
C33: TOTAL | D33: =SUM(D23:D32) -> 1
B35: =' '!A536 -> Vente personnelle
B36: =$B$8 -> No. | C36: =$C$8 -> Désignation | D36: =$D$8 -> en % | E36: =$E$8 -> Forces principales | F36: =$F$8 -> Faiblesses principales | G36: =$G$8 -> Impact | H36: =H22 -> Remarques | I36: =$I$8 -> Statut
B37: 1 | G37: 3 | I37: 2 | J37: =IF(G37=0,0.1,G37) -> 3
B38: 2 | G38: 1 | J38: =IF(G38=0,0.1,G38) -> 1
B39: 3 | J39: =IF(G39=0,0.1,G39) -> 0.1
B40: 4 | J40: =IF(G40=0,0.1,G40) -> 0.1
B41: 5 | J41: =IF(G41=0,0.1,G41) -> 0.1
B42: 6 | J42: =IF(G42=0,0.1,G42) -> 0.1
B43: 7 | J43: =IF(G43=0,0.1,G43) -> 0.1
B44: 8 | J44: =IF(G44=0,0.1,G44) -> 0.1
B45: 9 | J45: =IF(G45=0,0.1,G45) -> 0.1
B46: 10 | J46: =IF(G46=0,0.1,G46) -> 0.1
...

Sheet Marketingmix
B1: =' '!A552 -> M I X - M A R K E T I N G
B5: =' '!A548 -> No. | C5: =' '!A553 -> Politique de produit | G5: =B5 -> No. | H5: =' '!A554 -> Politique de prix
B7: 1 | E7: =' '!A557 -> Quelles sont les caractéristiques du produit / service ? | G7: 1
B8: 2 | G8: 2
B9: 3 | G9: 3
B10: 4 | G10: 4
B11: 5 | G11: 5
B12: 6 | G12: 6
B13: 7 | G13: 7
B14: 8 | E14: =' '!A558 -> Quel prix mes clients sont prêts à payer? | G14: 8
B15: 9 | G15: 9
B16: 10 | G16: 10
B19: =B5 -> No. | C19: =' '!A555 -> Politique de distribution | G19: =B5 -> No. | H19: =' '!A556 -> Politique de communication
B21: 1 | E21: =' '!A559 -> Comment puis-je vendre le mieux mon produit / service? | G21: 1
B22: 2 | E22: Wie vertreibe ich das Produkt/ Dienstleistung am besten? | G22: 2
B23: 3 | G23: 3
B24: 4 | G24: 4
B25: 5 | G25: 5
B26: 6 | G26: 6
B27: 7 | G27: 7
B28: 8 | E28: =' '!A560 -> Comment puis-je communiquer le mieux avec mes clients? | G28: 8
B29: 9 | G29: 9
B30: 10 | G30: 10
B32: © iManagement • s.imboden • www.2iManagement.ch

Sheet Matrix
B1: =' '!A569 -> M A T R I C E D E C O M P A R A I S O N
D4: =E15 -> Idee 1 | E4: =G15 -> Idee 2 | F4: =I15 -> Idee 3 | G4: =K15 -> Idee 4 | H4: =M15 -> Idee 5 | I4: =O15 -> Idee 6
C5: =C17 -> Kriterium 1 | D5: =F17 -> 100 | E5: =H17 -> 40 | F5: =J17 -> 40 | G5: =L17 -> 40 | H5: =N17 -> 40 | I5: =P17 -> 40
C6: =C18 -> Kriterium 2 | D6: =F18 -> 25 | E6: =H18 -> 25 | F6: =J18 -> 25 | G6: =L18 -> 25 | H6: =N18 -> 25 | I6: =P18 -> 25
C7: =C19 -> Kriterium 3 | D7: =F19 -> 25 | E7: =H19 -> 25 | F7: =J19 -> 25 | G7: =L19 -> 25 | H7: =N19 -> 25 | I7: =P19 -> 25
C8: =C20 -> Kriterium 4 | D8: =F20 -> 81 | E8: =H20 -> 81 | F8: =J20 -> 54 | G8: =L20 -> 36 | H8: =N20 -> 9 | I8: =P20 -> 18
C9: =C21 -> Kriterium 5 | D9: =F21 -> 16 | E9: =H21 -> 16 | F9: =J21 -> 16 | G9: =L21 -> 16 | H9: =N21 -> 16 | I9: =P21 -> 16
C10: =C22 -> Kriterium 6 | D10: =F22 -> 35 | E10: =H22 -> 30 | F10: =J22 -> 35 | G10: =L22 -> 30 | H10: =N22 -> 30 | I10: =P22 -> 30
A11: x!A192 | C11: =C23 -> Kriterium 7 | D11: =F23 -> 9 | E11: =H23 -> 9 | F11: =J23 -> 9 | G11: =L23 -> 9 | H11: =N23 -> 9 | I11: =P23 -> 27
C12: =C24 -> Kriterium 8 | D12: =F24 -> 20 | E12: =H24 -> 20 | F12: =J24 -> 20 | G12: =L24 -> 20 | H12: =N24 -> 20 | I12: =P24 -> 50
D15: =' '!A572 -> Pondération | E15: Idee 1 | G15: Idee 2 | I15: Idee 3 | K15: Idee 4 | M15: Idee 5 | O15: Idee 6
E16: =' '!A573 -> Evaluation | F16: =' '!A574 -> Totale | G16: =E16 -> Evaluation | H16: =F16 -> Totale | I16: =E16 -> Evaluation | J16: =F16 -> Totale | K16: =E16 -> Evaluation | L16: =F16 -> Totale | M16: =E16 -> Evaluation | N16: =F16 -> Totale | O16: =E16 -> Evaluation | P16: =F16 -> Totale
B17: 1 | C17: Kriterium 1 | D17: 10 | E17: 10 | F17: =E17*D17 -> 100 | G17: 4 | H17: =D17*G17 -> 40 | I17: 4 | J17: =D17*I17 -> 40 | K17: 4 | L17: =D17*K17 -> 40 | M17: 4 | N17: =D17*M17 -> 40 | O17: 4 | P17: =D17*O17 -> 40
B18: 2 | C18: Kriterium 2 | D18: 5 | E18: 5 | F18: =E18*D18 -> 25 | G18: 5 | H18: =D18*G18 -> 25 | I18: 5 | J18: =D18*I18 -> 25 | K18: 5 | L18: =D18*K18 -> 25 | M18: 5 | N18: =D18*M18 -> 25 | O18: 5 | P18: =D18*O18 -> 25
B19: 3 | C19: Kriterium 3 | D19: 5 | E19: 5 | F19: =E19*D19 -> 25 | G19: 5 | H19: =D19*G19 -> 25 | I19: 5 | J19: =D19*I19 -> 25 | K19: 5 | L19: =D19*K19 -> 25 | M19: 5 | N19: =D19*M19 -> 25 | O19: 5 | P19: =D19*O19 -> 25
B20: 4 | C20: Kriterium 4 | D20: 9 | E20: 9 | F20: =E20*D20 -> 81 | G20: 9 | H20: =D20*G20 -> 81 | I20: 6 | J20: =D20*I20 -> 54 | K20: 4 | L20: =D20*K20 -> 36 | M20: 1 | N20: =D20*M20 -> 9 | O20: 2 | P20: =D20*O20 -> 18
B21: 5 | C21: Kriterium 5 | D21: 4 | E21: 4 | F21: =E21*D21 -> 16 | G21: 4 | H21: =D21*G21 -> 16 | I21: 4 | J21: =D21*I21 -> 16 | K21: 4 | L21: =D21*K21 -> 16 | M21: 4 | N21: =D21*M21 -> 16 | O21: 4 | P21: =D21*O21 -> 16
B22: 6 | C22: Kriterium 6 | D22: 5 | E22: 7 | F22: =E22*D22 -> 35 | G22: 6 | H22: =D22*G22 -> 30 | I22: 7 | J22: =D22*I22 -> 35 | K22: 6 | L22: =D22*K22 -> 30 | M22: 6 | N22: =D22*M22 -> 30 | O22: 6 | P22: =D22*O22 -> 30
B23: 7 | C23: Kriterium 7 | D23: 3 | E23: 3 | F23: =E23*D23 -> 9 | G23: 3 | H23: =D23*G23 -> 9 | I23: 3 | J23: =D23*I23 -> 9 | K23: 3 | L23: =D23*K23 -> 9 | M23: 3 | N23: =D23*M23 -> 9 | O23: 9 | P23: =D23*O23 -> 27
B24: 8 | C24: Kriterium 8 | D24: 5 | E24: 4 | F24: =E24*D24 -> 20 | G24: 4 | H24: =D24*G24 -> 20 | I24: 4 | J24: =D24*I24 -> 20 | K24: 4 | L24: =D24*K24 -> 20 | M24: 4 | N24: =D24*M24 -> 20 | O24: 10 | P24: =D24*O24 -> 50
C25: =' '!A574 -> Totale | F25: =SUM(F17:F24) -> 311 | H25: =SUM(H17:H24) -> 246 | J25: =SUM(J17:J24) -> 224 | L25: =SUM(L17:L24) -> 201 | N25: =SUM(N17:N24) -> 174 | P25: =SUM(P17:P24) -> 231
B26: © iManagement • s.imboden • www.2iManagement.ch

Sheet Swot-Analyse
B1: =' '!A300 -> A N A L Y S E S W O T
C5: =' '!A306 -> Forces | P5: =' '!A307 -> Faiblesses
B7: s1 | D7: 1 | E7: =IF(D7=5,"❺","") | F7: =IF(D7=4,"❹","") | G7: =IF(D7=3,"❸","") | H7: =IF(D7=2,"❷","") | I7: =IF(D7=1,"❶","") -> ❶ | J7: =IF(Q7=-1,"❶","") -> ❶ | K7: =IF(Q7=-2,"❷","") | L7: =IF(Q7=-3,"❸","") | M7: =IF(Q7=-4,"❹","") | N7: =IF(Q7=-5,"❺","") | O7: w1 | Q7: -1
B8: s2 | D8: 3 | E8: =IF(D8=5,"❺","") | F8: =IF(D8=4,"❹","") | G8: =IF(D8=3,"❸","") -> ❸ | H8: =IF(D8=2,"❷","") | I8: =IF(D8=1,"❶","") | J8: =IF(Q8=-1,"❶","") | K8: =IF(Q8=-2,"❷","") | L8: =IF(Q8=-3,"❸","") -> ❸ | M8: =IF(Q8=-4,"❹","") | N8: =IF(Q8=-5,"❺","") | O8: w2 | Q8: -3
B9: s3 | E9: =IF(D9=5,"❺","") | F9: =IF(D9=4,"❹","") | G9: =IF(D9=3,"❸","") | H9: =IF(D9=2,"❷","") | I9: =IF(D9=1,"❶","") | J9: =IF(Q9=-1,"❶","") | K9: =IF(Q9=-2,"❷","") | L9: =IF(Q9=-3,"❸","") | M9: =IF(Q9=-4,"❹","") | N9: =IF(Q9=-5,"❺","") | O9: w3
B10: s4 | E10: =IF(D10=5,"❺","") | F10: =IF(D10=4,"❹","") | G10: =IF(D10=3,"❸","") | H10: =IF(D10=2,"❷","") | I10: =IF(D10=1,"❶","") | J10: =IF(Q10=-1,"❶","") | K10: =IF(Q10=-2,"❷","") | L10: =IF(Q10=-3,"❸","") | M10: =IF(Q10=-4,"❹","") | N10: =IF(Q10=-5,"❺","") | O10: w4
B11: s5 | E11: =IF(D11=5,"❺","") | F11: =IF(D11=4,"❹","") | G11: =IF(D11=3,"❸","") | H11: =IF(D11=2,"❷","") | I11: =IF(D11=1,"❶","") | J11: =IF(Q11=-1,"❶","") | K11: =IF(Q11=-2,"❷","") | L11: =IF(Q11=-3,"❸","") | M11: =IF(Q11=-4,"❹","") | N11: =IF(Q11=-5,"❺","") | O11: w5
B12: s6 | E12: =IF(D12=5,"❺","") | F12: =IF(D12=4,"❹","") | G12: =IF(D12=3,"❸","") | H12: =IF(D12=2,"❷","") | I12: =IF(D12=1,"❶","") | J12: =IF(Q12=-1,"❶","") | K12: =IF(Q12=-2,"❷","") | L12: =IF(Q12=-3,"❸","") | M12: =IF(Q12=-4,"❹","") | N12: =IF(Q12=-5,"❺","") | O12: w6
B13: s7 | E13: =IF(D13=5,"❺","") | F13: =IF(D13=4,"❹","") | G13: =IF(D13=3,"❸","") | H13: =IF(D13=2,"❷","") | I13: =IF(D13=1,"❶","") | J13: =IF(Q13=-1,"❶","") | K13: =IF(Q13=-2,"❷","") | L13: =IF(Q13=-3,"❸","") | M13: =IF(Q13=-4,"❹","") | N13: =IF(Q13=-5,"❺","") | O13: w7
B14: s8 | E14: =IF(D14=5,"❺","") | F14: =IF(D14=4,"❹","") | G14: =IF(D14=3,"❸","") | H14: =IF(D14=2,"❷","") | I14: =IF(D14=1,"❶","") | J14: =IF(Q14=-1,"❶","") | K14: =IF(Q14=-2,"❷","") | L14: =IF(Q14=-3,"❸","") | M14: =IF(Q14=-4,"❹","") | N14: =IF(Q14=-5,"❺","") | O14: w8
B15: s9 | E15: =IF(D15=5,"❺","") | F15: =IF(D15=4,"❹","") | G15: =IF(D15=3,"❸","") | H15: =IF(D15=2,"❷","") | I15: =IF(D15=1,"❶","") | J15: =IF(Q15=-1,"❶","") | K15: =IF(Q15=-2,"❷","") | L15: =IF(Q15=-3,"❸","") | M15: =IF(Q15=-4,"❹","") | N15: =IF(Q15=-5,"❺","") | O15: w9
B16: s10 | E16: =IF(D16=5,"❺","") | F16: =IF(D16=4,"❹","") | G16: =IF(D16=3,"❸","") | H16: =IF(D16=2,"❷","") | I16: =IF(D16=1,"❶","") | J16: =IF(Q16=-1,"❶","") | K16: =IF(Q16=-2,"❷","") | L16: =IF(Q16=-3,"❸","") | M16: =IF(Q16=-4,"❹","") | N16: =IF(Q16=-5,"❺","") | O16: w10
B17: s11 | E17: =IF(D17=5,"❺","") | F17: =IF(D17=4,"❹","") | G17: =IF(D17=3,"❸","") | H17: =IF(D17=2,"❷","") | I17: =IF(D17=1,"❶","") | J17: =IF(Q17=-1,"❶","") | K17: =IF(Q17=-2,"❷","") | L17: =IF(Q17=-3,"❸","") | M17: =IF(Q17=-4,"❹","") | N17: =IF(Q17=-5,"❺","") | O17: w11
B18: s12 | E18: =IF(D18=5,"❺","") | F18: =IF(D18=4,"❹","") | G18: =IF(D18=3,"❸","") | H18: =IF(D18=2,"❷","") | I18: =IF(D18=1,"❶","") | J18: =IF(Q18=-1,"❶","") | K18: =IF(Q18=-2,"❷","") | L18: =IF(Q18=-3,"❸","") | M18: =IF(Q18=-4,"❹","") | N18: =IF(Q18=-5,"❺","") | O18: w12
B19: s13 | E19: =IF(D19=5,"❺","") | F19: =IF(D19=4,"❹","") | G19: =IF(D19=3,"❸","") | H19: =IF(D19=2,"❷","") | I19: =IF(D19=1,"❶","") | J19: =IF(Q19=-1,"❶","") | K19: =IF(Q19=-2,"❷","") | L19: =IF(Q19=-3,"❸","") | M19: =IF(Q19=-4,"❹","") | N19: =IF(Q19=-5,"❺","") | O19: w13
B20: s14 | E20: =IF(D20=5,"❺","") | F20: =IF(D20=4,"❹","") | G20: =IF(D20=3,"❸","") | H20: =IF(D20=2,"❷","") | I20: =IF(D20=1,"❶","") | J20: =IF(Q20=-1,"❶","") | K20: =IF(Q20=-2,"❷","") | L20: =IF(Q20=-3,"❸","") | M20: =IF(Q20=-4,"❹","") | N20: =IF(Q20=-5,"❺","") | O20: w14
... B26: s20 | E26: =IF(D26=5,"❺","") | F26: =IF(D26=4,"❹","") | G26: =IF(D26=3,"❸","") | H26: =IF(D26=2,"❷","") | I26: =IF(D26=1,"❶","") | J26: =IF(Q26=-1,"❶","") | K26: =IF(Q26=-2,"❷","") | L26: =IF(Q26=-3,"❸","") | M26: =IF(Q26=-4,"❹","") | N26: =IF(Q26=-5,"❺","") | O26: w20
C27: =' '!A308 -> Opportunités | E27: 5 | F27: 4 | G27: 3 | H27: 2 | I27: 1 | J27: -1 | K27: -2 | L27: -3 | M27: -4 | N27: -5 | P27: =' '!A309 -> Menaces
B28: o1 | D28: 1 | E28: =IF(D28=5,"❺","") | F28: =IF(D28=4,"❹","") | G28: =IF(D28=3,"❸","") | H28: =IF(D28=2,"❷","") | I28: =IF(D28=1,"❶","") -> ❶ | J28: =IF(Q28=-1,"❶","") | K28: =IF(Q28=-2,"❷","") | L28: =IF(Q28=-3,"❸","") | M28: =IF(Q28=-4,"❹","") | N28: =IF(Q28=-5,"❺","") | O28: t1
B29: o2 | D29: 3 | E29: =IF(D29=5,"❺","") | F29: =IF(D29=4,"❹","") | G29: =IF(D29=3,"❸","") -> ❸ | H29: =IF(D29=2,"❷","") | I29: =IF(D29=1,"❶","") | J29: =IF(Q29=-1,"❶","") | K29: =IF(Q29=-2,"❷","") | L29: =IF(Q29=-3,"❸","") | M29: =IF(Q29=-4,"❹","") | N29: =IF(Q29=-5,"❺","") | O29: t2
B30: o3 | E30: =IF(D30=5,"❺","") | F30: =IF(D30=4,"❹","") | G30: =IF(D30=3,"❸","") | H30: =IF(D30=2,"❷","") | I30: =IF(D30=1,"❶","") | J30: =IF(Q30=-1,"❶","") | K30: =IF(Q30=-2,"❷","") | L30: =IF(Q30=-3,"❸","") | M30: =IF(Q30=-4,"❹","") | N30: =IF(Q30=-5,"❺","") | O30: t3
B31: o4 | E31: =IF(D31=5,"❺","") | F31: =IF(D31=4,"❹","") | G31: =IF(D31=3,"❸","") | H31: =IF(D31=2,"❷","") | I31: =IF(D31=1,"❶","") | J31: =IF(Q31=-1,"❶","") | K31: =IF(Q31=-2,"❷","") | L31: =IF(Q31=-3,"❸","") | M31: =IF(Q31=-4,"❹","") | N31: =IF(Q31=-5,"❺","") | O31: t4
B32: o5 | E32: =IF(D32=5,"❺","") | F32: =IF(D32=4,"❹","") | G32: =IF(D32=3,"❸","") | H32: =IF(D32=2,"❷","") | I32: =IF(D32=1,"❶","") | J32: =IF(Q32=-1,"❶","") | K32: =IF(Q32=-2,"❷","") | L32: =IF(Q32=-3,"❸","") | M32: =IF(Q32=-4,"❹","") | N32: =IF(Q32=-5,"❺","") | O32: t5
B33: o6 | E33: =IF(D33=5,"❺","") | F33: =IF(D33=4,"❹","") | G33: =IF(D33=3,"❸","") | H33: =IF(D33=2,"❷","") | I33: =IF(D33=1,"❶","") | J33: =IF(Q33=-1,"❶","") | K33: =IF(Q33=-2,"❷","") | L33: =IF(Q33=-3,"❸","") | M33: =IF(Q33=-4,"❹","") | N33: =IF(Q33=-5,"❺","") | O33: t6
B34: o7 | E34: =IF(D34=5,"❺","") | F34: =IF(D34=4,"❹","") | G34: =IF(D34=3,"❸","") | H34: =IF(D34=2,"❷","") | I34: =IF(D34=1,"❶","") | J34: =IF(Q34=-1,"❶","") | K34: =IF(Q34=-2,"❷","") | L34: =IF(Q34=-3,"❸","") | M34: =IF(Q34=-4,"❹","") | N34: =IF(Q34=-5,"❺","") | O34: t7
B35: o8 | E35: =IF(D35=5,"❺","") | F35: =IF(D35=4,"❹","") | G35: =IF(D35=3,"❸","") | H35: =IF(D35=2,"❷","") | I35: =IF(D35=1,"❶","") | J35: =IF(Q35=-1,"❶","") | K35: =IF(Q35=-2,"❷","") | L35: =IF(Q35=-3,"❸","") | M35: =IF(Q35=-4,"❹","") | N35: =IF(Q35=-5,"❺","") | O35: t8
B36: o9 | E36: =IF(D36=5,"❺","") | F36: =IF(D36=4,"❹","") | G36: =IF(D36=3,"❸","") | H36: =IF(D36=2,"❷","") | I36: =IF(D36=1,"❶","") | J36: =IF(Q36=-1,"❶","") | K36: =IF(Q36=-2,"❷","") | L36: =IF(Q36=-3,"❸","") | M36: =IF(Q36=-4,"❹","") | N36: =IF(Q36=-5,"❺","") | O36: t9
B37: o10 | E37: =IF(D37=5,"❺","") | F37: =IF(D37=4,"❹","") | G37: =IF(D37=3,"❸","") | H37: =IF(D37=2,"❷","") | I37: =IF(D37=1,"❶","") | J37: =IF(Q37=-1,"❶","") | K37: =IF(Q37=-2,"❷","") | L37: =IF(Q37=-3,"❸","") | M37: =IF(Q37=-4,"❹","") | N37: =IF(Q37=-5,"❺","") | O37: t10
B38: o11 | E38: =IF(D38=5,"❺","") | F38: =IF(D38=4,"❹","") | G38: =IF(D38=3,"❸","") | H38: =IF(D38=2,"❷","") | I38: =IF(D38=1,"❶","") | J38: =IF(Q38=-1,"❶","") | K38: =IF(Q38=-2,"❷","") | L38: =IF(Q38=-3,"❸","") | M38: =IF(Q38=-4,"❹","") | N38: =IF(Q38=-5,"❺","") | O38: t11
B39: o12 | E39: =IF(D39=5,"❺","") | F39: =IF(D39=4,"❹","") | G39: =IF(D39=3,"❸","") | H39: =IF(D39=2,"❷","") | I39: =IF(D39=1,"❶","") | J39: =IF(Q39=-1,"❶","") | K39: =IF(Q39=-2,"❷","") | L39: =IF(Q39=-3,"❸","") | M39: =IF(Q39=-4,"❹","") | N39: =IF(Q39=-5,"❺","") | O39: t12
B40: o13 | E40: =IF(D40=5,"❺","") | F40: =IF(D40=4,"❹","") | G40: =IF(D40=3,"❸","") | H40: =IF(D40=2,"❷","") | I40: =IF(D40=1,"❶","") | J40: =IF(Q40=-1,"❶","") | K40: =IF(Q40=-2,"❷","") | L40: =IF(Q40=-3,"❸","") | M40: =IF(Q40=-4,"❹","") | N40: =IF(Q40=-5,"❺","") | O40: t13
B41: o14 | E41: =IF(D41=5,"❺","") | F41: =IF(D41=4,"❹","") | G41: =IF(D41=3,"❸","") | H41: =IF(D41=2,"❷","") | I41: =IF(D41=1,"❶","") | J41: =IF(Q41=-1,"❶","") | K41: =IF(Q41=-2,"❷","") | L41: =IF(Q41=-3,"❸","") | M41: =IF(Q41=-4,"❹","") | N41: =IF(Q41=-5,"❺","") | O41: t14
... B47: o20 | E47: =IF(D47=5,"❺","") | F47: =IF(D47=4,"❹","") | G47: =IF(D47=3,"❸","") | H47: =IF(D47=2,"❷","") | I47: =IF(D47=1,"❶","") | J47: =IF(Q47=-1,"❶","") | K47: =IF(Q47=-2,"❷","") | L47: =IF(Q47=-3,"❸","") | M47: =IF(Q47=-4,"❹","") | N47: =IF(Q47=-5,"❺","") | O47: t20
B48: © iManagement • s.imboden • www.2iManagement.ch

Sheet Risikomgmt
B1: =' '!A275 -> G E S T I O N D U R I S Q U E
B4: =' '!A284 -> No. | C4: =' '!A285 -> Risque | D4: =' '!A288 -> Étendue des dommages | E4: =' '!A287 -> Probabilité d'occurrence | F4: =' '!A286 -> Impact | G4: =' '!A289 -> Ten- dance | H4: =' '!A290 -> Mesures possibles | I4: =' '!A291 -> Statut
B5: R1 | C5: Risk 1 | D5: 6 | E5: 9 | G5: 2 | J5: 1
B6: R2 | C6: Risk 2 | D6: 3 | E6: 5 | G6: 1 | J6: 1
B7: R3 | J7: 1
B8: R4 | J8: 1
B9: R5 | J9: 1
B10: R6 | J10: 1
B11: R7 | J11: 1
B12: R8 | J12: 1
B13: R9 | J13: 1
B14: R10 | J14: 1
B15: R11 | J15: 1
B16: R12 | J16: 1
B17: R13 | J17: 1
B18: R14 | J18: 1
B19: R15 | J19: 1
B57: © iManagement • s.imboden • www.2iManagement.ch

Sheet Grobplan
B1: =' '!A562 -> P L A N I F I C A T I O N S O M M A I R E
B2: =' '!A567 -> Début calendrier | H2: ='Menu Toolbox'!$I$1 -> 0
B3: =TODAY() -> 46049 | I3: =YEAR(I7) -> 2026 | J3: =IF(YEAR(I7)=YEAR(J7),"",YEAR(I7)+1) | K3: =IF(YEAR(J7)=YEAR(K7),"",YEAR(J7)+1) | L3: =IF(YEAR(K7)=YEAR(L7),"",YEAR(K7)+1) | M3: =IF(YEAR(L7)=YEAR(M7),"",YEAR(L7)+1) | N3: =IF(YEAR(M7)=YEAR(N7),"",YEAR(M7)+1) | O3: =IF(YEAR(N7)=YEAR(O7),"",YEAR(N7)+1) | P3: =IF(YEAR(O7)=YEAR(P7),"",YEAR(O7)+1) | Q3: =IF(YEAR(P7)=YEAR(Q7),"",YEAR(P7)+1) | ... FL3: =IF(YEAR(FK7)=YEAR(FL7),"",YEAR(FK7)+1) | FM3: =YEAR(FL7) -> 2029
I4: =WEEKNUM(I7) -> 5 | J4: =WEEKNUM(J7) -> 6 | K4: =WEEKNUM(K7) -> 7 | L4: =WEEKNUM(L7) -> 8 | M4: =WEEKNUM(M7) -> 9 | N4: =WEEKNUM(N7) -> 10 | O4: =WEEKNUM(O7) -> 11 | P4: =WEEKNUM(P7) -> 12 | ... FM4: =WEEKNUM(FM7) -> 8
B5: Monat | H5: Oui | I5: =MONTH(I7) -> 1 | J5: =MONTH(J7) -> 2 | K5: =MONTH(K7) -> 2 | L5: =MONTH(L7) -> 2 | M5: =MONTH(M7) -> 2 | N5: =MONTH(N7) -> 3 | O5: =MONTH(O7) -> 3 | P5: =MONTH(P7) -> 3 | ... FM5: =MONTH(FM7) -> 2
B6: Ganzes Datum | I6: =I7 -> 46048 | J6: =J7 -> 46055 | K6: =K7 -> 46062 | L6: =L7 -> 46069 | M6: =M7 -> 46076 | N6: =N7 -> 46083 | O6: =O7 -> 46090 | P6: =P7 -> 46097 | ... FM6: =FM7 -> 47168
B7: =' '!A568 -> Tâches | C7: =' '!A563 -> Début | D7: =' '!A564 -> Fin | E7: 0 | F7: 0 | I7: =DATE(YEAR($B$3),MONTH($B$3),(DAY($B$3)+(2-WEEKDAY($B$3)))) -> 46048 | J7: =I7+7 -> 46055 | K7: =J7+7 -> 46062 | L7: =K7+7 -> 46069 | M7: =L7+7 -> 46076 | N7: =M7+7 -> 46083 | O7: =N7+7 -> 46090 | P7: =O7+7 -> 46097 | Q7: =P7+7 -> 46104 | ... FM7: =FL7+7 -> 47168
A8: 1 | B8: Tâche 1 | C8: =TODAY() -> 46049 | D8: =C8+14 -> 46063 | E8: 0 | F8: 1 | G8: 2 | H8: =IF(AND(ISNUMBER($C8),ISNUMBER($D8)),$D8-$C8+1,"") -> 15
A9: 2 | B9: Décision | C9: =C8 -> 46049 | D9: =C9 -> 46049 | E9: 1 | F9: 1 | G9: 1 | H9: =IF(AND(ISNUMBER($C9),ISNUMBER($D9)),$D9-$C9+1,"") -> 1
A10: 3 | F10: 3 | G10: 8 | H10: =IF(AND(ISNUMBER($C10),ISNUMBER($D10)),$D10-$C10+1,"")
A11: 4 | F11: 3 | H11: =IF(AND(ISNUMBER($C11),ISNUMBER($D11)),$D11-$C11+1,"")
A12: 5 | F12: 3 | H12: =IF(AND(ISNUMBER($C12),ISNUMBER($D12)),$D12-$C12+1,"")
A13: 6 | F13: 3 | H13: =IF(AND(ISNUMBER($C13),ISNUMBER($D13)),$D13-$C13+1,"") | J13: .
A14: 7 | F14: 3 | H14: =IF(AND(ISNUMBER($C14),ISNUMBER($D14)),$D14-$C14+1,"")
A15: 8 | F15: 3 | H15: =IF(AND(ISNUMBER($C15),ISNUMBER($D15)),$D15-$C15+1,"")
A16: 9 | F16: 3 | H16: =IF(AND(ISNUMBER($C16),ISNUMBER($D16)),$D16-$C16+1,"")
A17: 10 | F17: 3 | H17: =IF(AND(ISNUMBER($C17),ISNUMBER($D17)),$D17-$C17+1,"")
A18: 11 | F18: 3 | H18: =IF(AND(ISNUMBER($C18),ISNUMBER($D18)),$D18-$C18+1,"")
A19: 12 | F19: 3 | H19: =IF(AND(ISNUMBER($C19),ISNUMBER($D19)),$D19-$C19+1,"")
A20: 13 | F20: 3 | H20: =IF(AND(ISNUMBER($C20),ISNUMBER($D20)),$D20-$C20+1,"")
A21: 14 | F21: 3 | H21: =IF(AND(ISNUMBER($C21),ISNUMBER($D21)),$D21-$C21+1,"")
A22: 15 | F22: 3 | H22: =IF(AND(ISNUMBER($C22),ISNUMBER($D22)),$D22-$C22+1,"")
A23: 16 | F23: 3 | H23: =IF(AND(ISNUMBER($C23),ISNUMBER($D23)),$D23-$C23+1,"")
A24: 17 | F24: 3 | H24: =IF(AND(ISNUMBER($C24),ISNUMBER($D24)),$D24-$C24+1,"")
A25: 18 | F25: 3 | H25: =IF(AND(ISNUMBER($C25),ISNUMBER($D25)),$D25-$C25+1,"")
... A51: 44 | F51: 3 | H51: =IF(AND(ISNUMBER($C51),ISNUMBER($D51)),$D51-$C51+1,"")
