Workbook
Name __10: oIndikatoren!$A$113
Name __11: oIndikatoren!$A$125
Name __12: oIndikatoren!$A$137
Name __13: oIndikatoren!$A$149
Name __14: oIndikatoren!$A$161
Name __15: oIndikatoren!$A$173
Name __16: oIndikatoren!$A$185
Name __17: oIndikatoren!$A$197
Name __18: oIndikatoren!$A$209
Name __19: oIndikatoren!$A$221
Name __20: oIndikatoren!$A$233
Name __21: oIndikatoren!$A$245
Name __22: oIndikatoren!$A$257
Name __23: oIndikatoren!$A$269
Name __24: oIndikatoren!$A$281
Name __25: oIndikatoren!$A$293
Name __26: oIndikatoren!$A$305
Name __27: oIndikatoren!$A$317
Name __28: oIndikatoren!$A$329
Name __29: oIndikatoren!$A$341
Name __30: oIndikatoren!$A$353
Name __31: oIndikatoren!$A$365
Name __32: oIndikatoren!$A$377
Name __33: oIndikatoren!$A$389
Name __34: oIndikatoren!$A$401
Name __35: oIndikatoren!$A$413
Name __36: oIndikatoren!$A$425
Name __37: oIndikatoren!$A$437
Name __38: oIndikatoren!$A$449
Name __39: oIndikatoren!$A$461
Name __40: oIndikatoren!$A$473
Name __41: oIndikatoren!$A$485
Name __42: oIndikatoren!$A$497
Name __43: oIndikatoren!$A$509
Name __44: oIndikatoren!$A$521
Name __45: oIndikatoren!$A$533
Name __46: oIndikatoren!$A$545
Name __47: oIndikatoren!$A$557
Name __48: oIndikatoren!$A$569
Name __49: oIndikatoren!$A$581
Name __50: oIndikatoren!$A$593
Name __51: oIndikatoren!$A$605
Name __52: oIndikatoren!$A$617
Name __53: oIndikatoren!$A$629
Name __54: oIndikatoren!$A$641
Name __55: oIndikatoren!$A$653
Name __56: oIndikatoren!$A$665
Name __57: oIndikatoren!$A$677
Name __58: oIndikatoren!$A$689
Name __59: oIndikatoren!$A$701
Name __60: oIndikatoren!$A$713
Name __61: oIndikatoren!$A$725
Name __62: oIndikatoren!$A$737
Name __63: oIndikatoren!$A$749
Name __64: oIndikatoren!$A$761
Name __65: oIndikatoren!$A$773
Name __66: oIndikatoren!$A$785
Name __67: oIndikatoren!$A$797
Name __68: oIndikatoren!$A$809
Name __69: oIndikatoren!$A$821

Sheet  
A1: =OFFSET($C1,0,$B$4-1) -> Deutsch | C1: Deutsch | D1: Français | E1: English | F1: Italiano
A2: Aktuelle Sprache | C2: Sprache 1 | D2: Sprache 2 | E2: Sprache 3 | F2: Sprache 4 | G2: Sprache 5
A3: Aktuell angezeigte Sprache | C3: Deutsch | D3: Français | E3: English | F3: Italiano | G3: 5_???
B4: 1 | Z4: 55153
A5: =OFFSET($C5,0,$B$4-1) -> M A R K E T I N G - M A N A G E M E N T | C5: M A R K E T I N G - M A N A G E M E N T | D5: M A R K E T I N G - M A N A G E M E N T | E5: M A R K E T I N G - M A N A G E M E N T | F5: M A R K E T I N G - M A N A G E M E N T | G5: contact info@2imanagement.ch | Z5: =IF(AND('Menu Marketing'!C33="© iManagement • s.imboden • www.2iManagement.ch", Stakeholder!B25="© iManagement • s.imboden • www.2iManagement.ch", TODAY()<=$Z$4), $B$4,5) -> 5
A6: =OFFSET($C6,0,$B$4-1) -> Phasen | C6: Phasen | D6: Phases | E6: Phases | F6: Fasi | G6: contact info@2imanagement.ch | Z6: Deutsch
A7: =OFFSET($C7,0,$B$4-1) -> Fragen | C7: Fragen | D7: Questions | E7: Questions | F7: Domande | G7: contact info@2imanagement.ch | Z7: Français
A8: =OFFSET($C8,0,$B$4-1) -> Instrumente | C8: Instrumente | D8: Outils | E8: Instruments | F8: Strumenti | G8: contact info@2imanagement.ch | Z8: English
A9: =OFFSET($C9,0,$B$4-1) -> extern | C9: extern | D9: externe | E9: External | F9: interno | G9: contact info@2imanagement.ch | Z9: Italiano
A10: =OFFSET($C10,0,$B$4-1) -> intern | C10: intern | D10: interne | E10: Internal | F10: esterno | G10: contact info@2imanagement.ch
A11: =OFFSET($C11,0,$B$4-1) -> Situationsanalyse | C11: Situationsanalyse | D11: Analyse de la situation | E11: Situation analysis | F11: Analisi della situazione | G11: contact info@2imanagement.ch
A12: =OFFSET($C12,0,$B$4-1) -> IST-Zustand | C12: IST-Zustand | D12: ÉTAT actuel | E12: ACTUAL state | F12: Stato ATTUALE | G12: contact info@2imanagement.ch
A13: =OFFSET($C13,0,$B$4-1) -> Ziele & Strategien | C13: Ziele & Strategien | D13: Objectifs & Stratégies | E13: Objectives & Strategies | F13: Obiettivi e strategie | G13: contact info@2imanagement.ch
A14: =OFFSET($C14,0,$B$4-1) -> SOLL-Zustand | C14: SOLL-Zustand | D14: ÉTAT futur | E14: TARGET state | F14: Stato DESIDERATO | G14: contact info@2imanagement.ch
A15: =OFFSET($C15,0,$B$4-1) -> Szenarien | C15: Szenarien | D15: Scénarios | E15: Scenarios | F15: Scenari | G15: contact info@2imanagement.ch
A16: =OFFSET($C16,0,$B$4-1) -> Aktualisiert am: | C16: Aktualisiert am: | D16: Mis à jour le : | E16: Updated on: | F16: Aggiornato il: | G16: contact info@2imanagement.ch
A17: =OFFSET($C17,0,$B$4-1) -> Stakeholder | C17: Stakeholder | D17: Parties prenantes | E17: Stakeholder | F17: Portatori di interesse | G17: contact info@2imanagement.ch
A18: =OFFSET($C18,0,$B$4-1) -> PESTEL | C18: PESTEL | D18: PESTEL | E18: PESTEL | F18: PESTEL | G18: contact info@2imanagement.ch
A19: =OFFSET($C19,0,$B$4-1) -> Zukunfts-szenarien | C19: Zukunfts-szenarien | D19: Scénarios d'avenir | E19: Future scenarios | F19: Scenari futuri | G19: contact info@2imanagement.ch
A20: =OFFSET($C20,0,$B$4-1) -> Matrix | C20: Matrix | D20: Matrice | E20: Matrix | F20: Matrice | G20: contact info@2imanagement.ch
A21: =OFFSET($C21,0,$B$4-1) -> Konkurrenz | C21: Konkurrenz | D21: Concurrence | E21: Competition | F21: Concorrenza | G21: contact info@2imanagement.ch
... A51: =OFFSET($C51,0,$B$4-1) -> Wertschöpfungs-kette | C51: Wertschöpfungs-kette | D51: Chaîne de valeur | E51: Value chain | F51: Catena di creazione di valore | G51: contact info@2imanagement.ch
A52: =OFFSET($C52,0,$B$4-1) -> Ihr Logo: | C52: Ihr Logo: | D52: Votre logo: | E52: Your logo: | F52: Vostro logo:
A53: =OFFSET($C53,0,$B$4-1) -> S T A K E H O L D E R - A N A L Y S E | C53: S T A K E H O L D E R - A N A L Y S E | D53: A N A L Y S E D E S P A R T I E S P R E N A N T E S | E53: S T A K E H O L D E R A N A L Y S I S | F53: A N A L I S I D E G L I S T A K E H O L D E R | G53: contact info@2imanagement.ch
A54: =OFFSET($C54,0,$B$4-1) -> weites Umfeld | C54: weites Umfeld | D54: Contexte large | E54: Wider environment | F54: Contesto ampio | G54: contact info@2imanagement.ch
A55: =OFFSET($C55,0,$B$4-1) -> nahes Umfeld | C55: nahes Umfeld | D55: Contexte restreint | E55: Immediate environment | F55: Contesto ristretto | G55: contact info@2imanagement.ch
A56: =OFFSET($C56,0,$B$4-1) -> intern | C56: intern | D56: interne | E56: Internal | F56: interno | G56: contact info@2imanagement.ch
A57: =OFFSET($C57,0,$B$4-1) -> Wir | C57: Wir | D57: Nous | E57: Us | F57: Noi | G57: contact info@2imanagement.ch
A58: =OFFSET($C58,0,$B$4-1) -> häufiger Kontakt | C58: häufiger Kontakt | D58: contacts fréquents | E58: Frequent contacts | F58: Contatti frequenti | G58: contact info@2imanagement.ch
A59: =OFFSET($C59,0,$B$4-1) -> regelmässiger Kontakt | C59: regelmässiger Kontakt | D59: contacts réguliers | E59: Regular contacts | F59: Contatti regolari | G59: contact info@2imanagement.ch
A60: =OFFSET($C60,0,$B$4-1) -> seltener Kontakt | C60: seltener Kontakt | D60: contacts rares | E60: Rare contacts | F60: Contatti rari | G60: contact info@2imanagement.ch
A61: =OFFSET($C61,0,$B$4-1) -> hoch | C61: hoch | D61: grande | E61: High | F61: alto | G61: contact info@2imanagement.ch
A62: =OFFSET($C62,0,$B$4-1) -> gross | C62: gross | D62: grand | E62: Big | F62: grande | G62: contact info@2imanagement.ch
A63: =OFFSET($C63,0,$B$4-1) -> Einfluss der Stakeholder | C63: Einfluss der Stakeholder | D63: Influence des parties prenantes | E63: Stakeholder influence | F63: Influsso degli stakeholder | G63: contact info@2imanagement.ch
A64: =OFFSET($C64,0,$B$4-1) -> gering | C64: gering | D64: petite | E64: Low | F64: basso | G64: contact info@2imanagement.ch
... A170: =OFFSET($C170,0,$B$4-1) -> Bemerkungen | C170: Bemerkungen | D170: Remarques | E170: Remarks | F170: Osservazioni | G170: contact info@2imanagement.ch
A171: =OFFSET($C171,0,$B$4-1) -> Pro-zesse | C171: Pro-zesse | D171: Pro-cessus | E171: Pro-cesses | F171: Pro-cessi
A172: =OFFSET($C172,0,$B$4-1) -> P O T E N Z I A L A N A L Y S E | C172: P O T E N Z I A L A N A L Y S E | D172: A N A L Y S E D U P O T E N T I E L | E172: P O T E N T I A L A N A L Y S I S | F172: A N A L I S I D E L P O T E N Z I A L E | G172: contact info@2imanagement.ch
A173: =OFFSET($C173,0,$B$4-1) -> Vorteil | C173: Vorteil | D173: Avantage | E173: Advantage | F173: Vantaggio | G173: contact info@2imanagement.ch
A174: =OFFSET($C174,0,$B$4-1) -> Nachteil | C174: Nachteil | D174: Désavantage | E174: Disadvantage | F174: Svantaggio | G174: contact info@2imanagement.ch
...

Sheet Menu Marketing
C1: =' '!A5 -> M A R K E T I N G - M A N A G E M E N T
C33: © iManagement • dr. s.imboden • www.2iManagement.ch | M33: V4.2.5

Sheet Stakeholder
B1: =' '!A53 -> S T A K E H O L D E R - A N A L Y S E
B4: =' '!A67 -> Nr. | C4: =' '!A68 -> Anspruchsgruppe | D4: =' '!A70 -> Stärke der Interessen | E4: =' '!A71 -> Höhe des Einflusses | F4: =' '!A69 -> Interessen, Erwartungen | G4: =' '!A75 -> Grösse der Gruppe | H4: =' '!A72 -> Chancen (+) und Gefahren (-) | I4: =' '!A73 -> Mögliche Massnahmen | J4: =' '!A74 -> Status
B5: s1 | C5: Gruppe 1 | D5: 8.1818182 | E5: 4 | G5: 1 | J5: 1 | K5: =IF(G5=3,3, IF(G5=2,2,1)) -> 1
B6: s2 | C6: Gruppe 2 | D6: 5 | E6: 6 | G6: 2 | J6: 2 | K6: =IF(G6=3,3, IF(G6=2,2,1)) -> 2
B7: s3 | J7: 3 | K7: =IF(G7=3,3, IF(G7=2,2,1)) -> 1
B8: s4 | K8: =IF(G8=3,3, IF(G8=2,2,1)) -> 1
B9: s5 | K9: =IF(G9=3,3, IF(G9=2,2,1)) -> 1
B10: s6 | K10: =IF(G10=3,3, IF(G10=2,2,1)) -> 1
B11: s7 | K11: =IF(G11=3,3, IF(G11=2,2,1)) -> 1
B12: s8 | K12: =IF(G12=3,3, IF(G12=2,2,1)) -> 1
B13: s9 | K13: =IF(G13=3,3, IF(G13=2,2,1)) -> 1
B14: s10 | K14: =IF(G14=3,3, IF(G14=2,2,1)) -> 1
B15: s11 | K15: =IF(G15=3,3, IF(G15=2,2,1)) -> 1
B16: s12 | K16: =IF(G16=3,3, IF(G16=2,2,1)) -> 1
B17: s13 | K17: =IF(G17=3,3, IF(G17=2,2,1)) -> 1
B18: s14 | K18: =IF(G18=3,3, IF(G18=2,2,1)) -> 1
B19: s15 | K19: =IF(G19=3,3, IF(G19=2,2,1)) -> 1
... B24: s20 | K24: =IF(G24=3,3, IF(G24=2,2,1)) -> 1
B25: © iManagement • dr. s.imboden • www.2iManagement.ch
H28: =IF(C5<>"",CONCATENATE(" ",B5," ",C5),"") -> s1 Gruppe 1
H29: =IF(C6<>"",CONCATENATE(" ",B6," ",C6),"") -> s2 Gruppe 2
H30: =IF(C7<>"",CONCATENATE(" ",B7," ",C7),"")
H31: =IF(C8<>"",CONCATENATE(" ",B8," ",C8),"")
H32: =IF(C9<>"",CONCATENATE(" ",B9," ",C9),"")
H33: =IF(C10<>"",CONCATENATE(" ",B10," ",C10),"")
H34: =IF(C11<>"",CONCATENATE(" ",B11," ",C11),"")
H35: =IF(C12<>"",CONCATENATE(" ",B12," ",C12),"")
H36: =IF(C13<>"",CONCATENATE(" ",B13," ",C13),"")
H37: =IF(C14<>"",CONCATENATE(" ",B14," ",C14),"")
H38: =IF(C15<>"",CONCATENATE(" ",B15," ",C15),"")
H39: =IF(C16<>"",CONCATENATE(" ",B16," ",C16),"")
... H47: =IF(C24<>"",CONCATENATE(" ",B24," ",C24),"")
H71: =' '!A660 -> Pfeil kopieren: ctrl und linke Maustaste
H72: =' '!A58 -> häufiger Kontakt
H73: =' '!A59 -> regelmässiger Kontakt
H74: =' '!A60 -> seltener Kontakt
B75: © iManagement • dr. s.imboden • www.2iManagement.ch

Sheet PESTLE
B1: =' '!A81 -> P E S T E L - A N A L Y S E
C5: =' '!A82 -> Politische Einflussfaktoren | D5: =IF(E27<>0,E27,0.1) -> 11
C6: =' '!A90 -> Ökonomische Einflussfaktoren | D6: =IF(E41<>0,E41,0.1) -> 4
C7: =' '!A91 -> Soziologische Einflussfaktoren | D7: =IF(E55<>0,E55,0.1) -> 7
C8: =' '!A92 -> Technologische Einflussfaktoren | D8: =IF(E69<>0,E69,0.1) -> 4
C9: =' '!A93 -> Ökologische Einflussfaktoren | D9: =IF(E83<>0,E83,0.1) -> 1
C10: =' '!A94 -> Rechtliche Einflussfaktoren | D10: =IF(E97<>0,E97,0.1) -> 10
C15: =' '!A82 -> Politische Einflussfaktoren
B16: =' '!A83 -> Nr. | C16: =' '!A84 -> Einflussfaktoren | D16: =' '!A85 -> Auswirkungen | E16: =' '!A86 -> Stärke der Auswirkung | F16: =' '!A87 -> Trend | G16: =' '!A88 -> Mögliche Massnahmen | H16: =' '!A89 -> Status | I16: =COUNTIF(H16:H26,1) -> 1
B17: 1 | E17: 3 | F17: 2 | H17: 1 | I17: =COUNTIF(H17:H26,2) -> 0
B18: =$B17+1 -> 2 | E18: 4 | I18: =COUNTIF(H18:H27,3) -> 0
B19: =$B18+1 -> 3 | E19: 4
B20: =$B19+1 -> 4
B21: =$B20+1 -> 5
B22: =$B21+1 -> 6
B23: =$B22+1 -> 7
B24: =$B23+1 -> 8
B25: =$B24+1 -> 9
B26: =$B25+1 -> 10
D27: =' '!$A$118 -> Summe | E27: =SUM(E17:E26) -> 11
C29: =' '!A90 -> Ökonomische Einflussfaktoren
B30: =B16 -> Nr. | C30: =C16 -> Einflussfaktoren | D30: =D16 -> Auswirkungen | E30: =E16 -> Stärke der Auswirkung | F30: =F16 -> Trend | G30: =G16 -> Mögliche Massnahmen | H30: =H16 -> Status | I30: =COUNTIF(H30:H40,1) -> 0
B31: 1 | E31: 4 | F31: 1 | H31: 3 | I31: =COUNTIF(H30:H40,2) -> 1
B32: =$B31+1 -> 2 | H32: 2 | I32: =COUNTIF(H30:H41,3) -> 1
B33: =$B32+1 -> 3
B34: =$B33+1 -> 4
B35: =$B34+1 -> 5
B36: =$B35+1 -> 6
B37: =$B36+1 -> 7
B38: =$B37+1 -> 8
B39: =$B38+1 -> 9
B40: =$B39+1 -> 10
D41: =' '!$A$118 -> Summe | E41: =SUM(E31:E40) -> 4
C43: =' '!A91 -> Soziologische Einflussfaktoren
B44: =B16 -> Nr. | C44: =C16 -> Einflussfaktoren | D44: =D16 -> Auswirkungen | E44: =E16 -> Stärke der Auswirkung | F44: =F16 -> Trend | G44: =G16 -> Mögliche Massnahmen | H44: =H16 -> Status | I44: =COUNTIF(H44:H54,1) -> 1
B45: 1 | E45: 3 | F45: 1 | H45: 1 | I45: =COUNTIF(H44:H54,2) -> 0
B46: =$B45+1 -> 2 | E46: 4 | I46: =COUNTIF(H44:H55,3) -> 0
B47: =$B46+1 -> 3
B48: =$B47+1 -> 4
B49: =$B48+1 -> 5
...

Sheet Branchenstruktur
B1: =' '!A99 -> 5 - K R Ä F T E - M O D E L L (P O R T E R)
F5: =' '!A100 -> Bedrohung neue Mitbewerber | G5: =IF(E34<>0,E34,0.1) -> 10
F6: =' '!A103 -> Bedrohung durch Ersatzprodukte | G6: =IF(E49<>0,E49,0.1) -> 5
F7: =' '!A101 -> Verhandlungs-stärke Lieferanten | G7: =IF(E64<>0,E64,0.1) -> 2
F8: =' '!A102 -> Verhandlungs-stärke Kunden | G8: =IF(E79<>0,E79,0.1) -> 5
F9: =' '!A104 -> Mitbewerber/ Rivalität | G9: =IF(E94<>0,E94,0.1) -> 11
C22: =' '!A105 -> Bedrohung durch neue Mitbewerber
B23: =' '!A110 -> Nr. | C23: =' '!A111 -> Bezeichnung | D23: =' '!A112 -> Auswirkungen | E23: =' '!A113 -> Gefahren-grad | F23: =' '!A115 -> Trend | G23: =' '!A116 -> Mögliche Massnahmen | H23: =' '!A117 -> Status | I23: =COUNTIF(H23:H33,1) -> 1
B24: 1 | C24: Concurrent 1 | E24: 4 | F24: 2 | H24: 1 | I24: =COUNTIF(H24:H33,2) -> 2
B25: =$B24+1 -> 2 | E25: 4 | F25: 3 | H25: 2 | I25: =COUNTIF(H24:H34,3) -> 0
B26: =$B25+1 -> 3 | E26: 2 | F26: 3 | H26: 2
B27: =$B26+1 -> 4
B28: =$B27+1 -> 5
B29: =$B28+1 -> 6
B30: =$B29+1 -> 7
B31: =$B30+1 -> 8
B32: =$B31+1 -> 9
B33: =$B32+1 -> 10
D34: =' '!$A$118 -> Summe | E34: =SUM(E24:E33) -> 10
C37: =' '!A107 -> Bedrohung durch Ersatzprodukte
B38: =B23 -> Nr. | C38: =C23 -> Bezeichnung | D38: =D23 -> Auswirkungen | E38: Gefahren- grad | F38: =F23 -> Trend | G38: =G23 -> Mögliche Massnahmen | H38: =H23 -> Status | I38: =COUNTIF(H38:H48,1) -> 1
B39: 1 | E39: 2 | F39: 3 | H39: 1 | I39: =COUNTIF(H38:H48,2) -> 1
B40: =$B39+1 -> 2 | E40: 3 | F40: 3 | H40: 2 | I40: =COUNTIF(H38:H50,3) -> 0
B41: =$B40+1 -> 3
B42: =$B41+1 -> 4
B43: =$B42+1 -> 5
B44: =$B43+1 -> 6
B45: =$B44+1 -> 7
B46: =$B45+1 -> 8
B47: =$B46+1 -> 9
B48: =$B47+1 -> 10
D49: =' '!$A$118 -> Summe | E49: =SUM(E39:E48) -> 5
C52: =' '!A106 -> Verhandlungsstärke der Lieferanten
B53: =B23 -> Nr. | C53: =C23 -> Bezeichnung | D53: =D23 -> Auswirkungen | E53: =E23 -> Gefahren-grad | F53: =F23 -> Trend | G53: =G23 -> Mögliche Massnahmen | H53: =H23 -> Status | I53: =COUNTIF(H53:H63,1) -> 0
B54: 1 | C54: Marché du travail (recrutement des prof.) | D54: Pas assez de personnes qualifiés | E54: 2 | F54: 2 | G54: Augmenter l'attractivité en tant qu'employeur | H54: 2 | I54: =COUNTIF(H53:H63,2) -> 1
B55: =$B54+1 -> 2 | I55: =COUNTIF(H53:H64,3) -> 0
B56: =$B55+1 -> 3
B57: =$B56+1 -> 4
B58: =$B57+1 -> 5
B59: =$B58+1 -> 6
...

Sheet Marke
B1: =' '!A669 -> M A R K E
B2: =' '!A670 -> Identitätsprisma (Kapferer)
B30: © iManagement • dr. s.imboden • www.2iManagement.ch

Sheet Kernaktivitäten
B1: =' '!A276 -> K E R N A K T I V I T Ä T E N
B11: =' '!A305 -> Führungsprozesse
B12: =' '!A156 -> Nr. | C12: =' '!A277 -> Kernprozesse | D12: =' '!A358 -> in % | E12: =' '!A160 -> Hauptstärken | F12: =' '!A161 -> Hauptschwächen | G12: =' '!A163 -> Mehrwert für Kunden | H12: =' '!A165 -> Mögliche Massnahmen | I12: =' '!A166 -> Status
B13: 1 | G13: 3 | I13: 1
B14: 2 | G14: 0
B15: 3
B16: 4
B17: 5
B18: 4
B19: 5
B20: 6
B21: 7
B22: 8
B23: 9
B24: 10
C25: TOTAL | D25: =SUM(D13:D24) -> 0
B30: =' '!A306 -> Kernprozesse
B31: =B12 -> Nr. | C31: =C12 -> Kernprozesse | D31: =D12 -> in % | E31: =E12 -> Hauptstärken | F31: =F12 -> Hauptschwächen | G31: =G12 -> Mehrwert für Kunden | H31: =H12 -> Mögliche Massnahmen | I31: =I12 -> Status
B32: 1 | G32: 0
B33: 2
B34: 3
B35: 4
B36: 5
B37: 6
B38: 7
B39: 8
B40: 9
B41: 10
B42: 11
B43: 12
C44: TOTAL | D44: =SUM(D40:D43) -> 0
B49: =' '!A307 -> Unterstützungsprozesse
B50: =B31 -> Nr. | C50: =C31 -> Kernprozesse | D50: =D31 -> in % | E50: =E31 -> Hauptstärken | F50: =F31 -> Hauptschwächen | G50: =G31 -> Mehrwert für Kunden | H50: =H31 -> Mögliche Massnahmen | I50: =I31 -> Status
B51: 1 | G51: 2
B52: 2 | G52: 0
B53: 3
B54: 4
B55: 5
B56: 4
B57: 5
...

Sheet Kernkompetenzen
B1: =' '!A150 -> R E S S O U R C E N & K E R N K O M P E T E N Z E N
E4: =' '!A155 -> Strategische Wichtigkeit
B5: =' '!A156 -> Nr. | C5: =' '!A157 -> Kernressourcen | D5: =' '!A152 -> Kernkompetenzen | E5: =' '!A163 -> Mehrwert für Kunden | F5: =' '!A164 -> substituierbar | G5: =' '!A158 -> Hauptchancen | H5: =' '!A159 -> Hauptgefahren | I5: =' '!A165 -> Mögliche Massnahmen | J5: =' '!A166 -> Status
B6: R1 | C6: Ressource 1 | E6: 4 | F6: 2 | J6: 1
B7: R2 | C7: Ressource 2 | E7: 1 | F7: 4 | J7: 3
B8: R3
B9: R4
B10: R5
B11: R6
B12: R7
B13: R8
B14: R9
B15: R10
B16: R11
B17: R12
H33: =CONCATENATE(" ",B18," ",C18)
H34: =IF(C6<>"",CONCATENATE(" ",B6," ",C6),"") -> R1 Ressource 1
H35: =IF(C7<>"",CONCATENATE(" ",B7," ",C7),"") -> R2 Ressource 2
H36: =IF(C8<>"",CONCATENATE(" ",B8," ",C8),"")
H37: =IF(C9<>"",CONCATENATE(" ",B9," ",C9),"")
H38: =IF(C10<>"",CONCATENATE(" ",B10," ",C10),"")
H39: =IF(C11<>"",CONCATENATE(" ",B11," ",C11),"")
H40: =IF(C12<>"",CONCATENATE(" ",B12," ",C12),"")
H41: =IF(C13<>"",CONCATENATE(" ",B13," ",C13),"")
H42: =IF(C14<>"",CONCATENATE(" ",B14," ",C14),"")
H43: =IF(C15<>"",CONCATENATE(" ",B15," ",C15),"")
H44: =IF(C16<>"",CONCATENATE(" ",B16," ",C16),"")
H45: =IF(C17<>"",CONCATENATE(" ",B17," ",C17),"")
B51: © iManagement • dr. s.imboden • www.2iManagement.ch

Sheet Potenzial
B1: =' '!A172 -> P O T E N Z I A L A N A L Y S E
B3: x!A236 | D3: =' '!A173 -> Vorteil | F3: =' '!A175 -> Konkurrenz | H3: =' '!A174 -> Nachteil
C5: =' '!A176 -> Nr. | D5: =' '!A177 -> Schlüsselfaktor | H5: =' '!A178 -> Bemerkungen
B6: =' '!A209 -> Absatz | C6: 1 | D6: =' '!A179 -> Produkt, Sortiment | E6: 1
C7: 2 | D7: =' '!A180 -> Preise, Konditionen | E7: 0
C8: 3 | D8: =' '!A181 -> Marktanteil, Marktwachstum, Marktstruktur | E8: -2
C9: 4 | D9: =' '!A182 -> Markenname, Markenimage | E9: -1
C10: 5 | D10: =' '!A183 -> Vertriebsorganisation | E10: 0
C11: 6 | D11: =' '!A184 -> Kundendienst | E11: 0
C12: 7 | D12: =' '!A185 -> Lieferzeiten, Termintreue, Zuverlässigkeit | E12: 0
B13: =' '!A210 -> Produktion | C13: 8 | D13: =' '!A186 -> Qualität | E13: 1
C14: 9 | D14: =' '!A187 -> Kostenniveau | E14: 0
C15: 10 | D15: =' '!A188 -> Modernität der Anlagen | E15: 2
C16: 11 | D16: =' '!A189 -> Produktivität | E16: 1
C17: 12 | D17: =' '!A190 -> Umweltbelastung, Energieverbrauch | E17: 1
C18: 13 | D18: =' '!A191 -> Standort, Logistik | E18: -1
B19: =' '!A211 -> Beschaffung | C19: 14 | D19: =' '!A192 -> Versorgungsengpässe | E19: 0
C20: 15 | D20: =' '!A193 -> Preisabhängigkeit | E20: 0
C21: 16 | D21: =' '!A194 -> Wechselkursabhängigkeit | E21: 0
C22: 17 | D22: =' '!A195 -> Zulieferqualität | E22: 0
B23: =' '!A212 -> F&E | C23: 18 | D23: =' '!A196 -> Innovation, Patente | E23: 0
C24: 19 | D24: =' '!A197 -> Know-how | E24: 1
C25: 20 | D25: =' '!A198 -> Ausstattung | E25: 2
B26: =' '!A213 -> Personal | C26: 21 | D26: =' '!A199 -> Motivation und Engagement der MA | E26: 2
C27: 22 | D27: =' '!A200 -> Führungsinstrumente, Management | E27: -2
C28: 23 | D28: =' '!A201 -> Schlanke, flexible Organisation | E28: 0
C29: 24 | D29: =' '!A202 -> Ausbildung, Qualifikation der MA | E29: 0
C30: 25 | D30: =' '!A203 -> Altersstruktur | E30: 1
C31: 26 | D31: =' '!A204 -> Fluktuationsrate, Krankenstand | E31: 1
B32: =' '!A214 -> Verwaltung | C32: 27 | D32: =' '!A205 -> Finanzkraft, Liquidität | E32: 1
C33: 28 | D33: =' '!A206 -> Standort, Raumreserven | E33: 1
C34: 29 | D34: =' '!A207 -> Controlling | E34: 0
C35: 30 | D35: =' '!A208 -> Entscheidungswege | E35: 0
B36: © iManagement • dr. s.imboden • www.2iManagement.ch

Sheet Swot-Analyse
B1: =' '!A266 -> S W O T - A N A L Y S E
C5: =' '!A272 -> Stärken | E5: 5 | F5: 4 | G5: 3 | H5: 2 | I5: 1 | J5: -1 | K5: -2 | L5: -3 | M5: -4 | N5: -5 | P5: =' '!A273 -> Schwächen
B7: s1 | C7: Strength 1 | D7: 5 | E7: =IF(D7=5,"❺","") -> ❺ | F7: =IF(D7=4,"❹","") | G7: =IF(D7=3,"❸","") | H7: =IF(D7=2,"❷","") | I7: =IF(D7=1,"❶","") | J7: =IF(Q7=-1,"❶","") | K7: =IF(Q7=-2,"❷","") | L7: =IF(Q7=-3,"❸","") | M7: =IF(Q7=-4,"❹","") | N7: =IF(Q7=-5,"❺","") -> ❺ | O7: w1 | P7: Faiblesse 1 | Q7: -5
B8: s2 | D8: 3 | E8: =IF(D8=5,"❺","") | F8: =IF(D8=4,"❹","") | G8: =IF(D8=3,"❸","") -> ❸ | H8: =IF(D8=2,"❷","") | I8: =IF(D8=1,"❶","") | J8: =IF(Q8=-1,"❶","") | K8: =IF(Q8=-2,"❷","") | L8: =IF(Q8=-3,"❸","") | M8: =IF(Q8=-4,"❹","") -> ❹ | N8: =IF(Q8=-5,"❺","") | O8: w2 | Q8: -4
B9: s3 | E9: =IF(D9=5,"❺","") | F9: =IF(D9=4,"❹","") | G9: =IF(D9=3,"❸","") | H9: =IF(D9=2,"❷","") | I9: =IF(D9=1,"❶","") | J9: =IF(Q9=-1,"❶","") | K9: =IF(Q9=-2,"❷","") -> ❷ | L9: =IF(Q9=-3,"❸","") | M9: =IF(Q9=-4,"❹","") | N9: =IF(Q9=-5,"❺","") | O9: w3 | Q9: -2
B10: s4 | E10: =IF(D10=5,"❺","") | F10: =IF(D10=4,"❹","") | G10: =IF(D10=3,"❸","") | H10: =IF(D10=2,"❷","") | I10: =IF(D10=1,"❶","") | J10: =IF(Q10=-1,"❶","") | K10: =IF(Q10=-2,"❷","") | L10: =IF(Q10=-3,"❸","") | M10: =IF(Q10=-4,"❹","") | N10: =IF(Q10=-5,"❺","") | O10: w4
B11: s5 | E11: =IF(D11=5,"❺","") | F11: =IF(D11=4,"❹","") | G11: =IF(D11=3,"❸","") | H11: =IF(D11=2,"❷","") | I11: =IF(D11=1,"❶","") | J11: =IF(Q11=-1,"❶","") | K11: =IF(Q11=-2,"❷","") | L11: =IF(Q11=-3,"❸","") | M11: =IF(Q11=-4,"❹","") | N11: =IF(Q11=-5,"❺","") | O11: w5
B12: s6 | E12: =IF(D12=5,"❺","") | F12: =IF(D12=4,"❹","") | G12: =IF(D12=3,"❸","") | H12: =IF(D12=2,"❷","") | I12: =IF(D12=1,"❶","") | J12: =IF(Q12=-1,"❶","") | K12: =IF(Q12=-2,"❷","") | L12: =IF(Q12=-3,"❸","") | M12: =IF(Q12=-4,"❹","") | N12: =IF(Q12=-5,"❺","") | O12: w6
B13: s7 | E13: =IF(D13=5,"❺","") | F13: =IF(D13=4,"❹","") | G13: =IF(D13=3,"❸","") | H13: =IF(D13=2,"❷","") | I13: =IF(D13=1,"❶","") | J13: =IF(Q13=-1,"❶","") | K13: =IF(Q13=-2,"❷","") | L13: =IF(Q13=-3,"❸","") | M13: =IF(Q13=-4,"❹","") | N13: =IF(Q13=-5,"❺","") | O13: w7
B14: s8 | E14: =IF(D14=5,"❺","") | F14: =IF(D14=4,"❹","") | G14: =IF(D14=3,"❸","") | H14: =IF(D14=2,"❷","") | I14: =IF(D14=1,"❶","") | J14: =IF(Q14=-1,"❶","") | K14: =IF(Q14=-2,"❷","") | L14: =IF(Q14=-3,"❸","") | M14: =IF(Q14=-4,"❹","") | N14: =IF(Q14=-5,"❺","") | O14: w8
B15: s9 | E15: =IF(D15=5,"❺","") | F15: =IF(D15=4,"❹","") | G15: =IF(D15=3,"❸","") | H15: =IF(D15=2,"❷","") | I15: =IF(D15=1,"❶","") | J15: =IF(Q15=-1,"❶","") | K15: =IF(Q15=-2,"❷","") | L15: =IF(Q15=-3,"❸","") | M15: =IF(Q15=-4,"❹","") | N15: =IF(Q15=-5,"❺","") | O15: w9
B16: s10 | E16: =IF(D16=5,"❺","") | F16: =IF(D16=4,"❹","") | G16: =IF(D16=3,"❸","") | H16: =IF(D16=2,"❷","") | I16: =IF(D16=1,"❶","") | J16: =IF(Q16=-1,"❶","") | K16: =IF(Q16=-2,"❷","") | L16: =IF(Q16=-3,"❸","") | M16: =IF(Q16=-4,"❹","") | N16: =IF(Q16=-5,"❺","") | O16: w10
B17: s11 | E17: =IF(D17=5,"❺","") | F17: =IF(D17=4,"❹","") | G17: =IF(D17=3,"❸","") | H17: =IF(D17=2,"❷","") | I17: =IF(D17=1,"❶","") | J17: =IF(Q17=-1,"❶","") | K17: =IF(Q17=-2,"❷","") | L17: =IF(Q17=-3,"❸","") | M17: =IF(Q17=-4,"❹","") | N17: =IF(Q17=-5,"❺","") | O17: w11
B18: s12 | E18: =IF(D18=5,"❺","") | F18: =IF(D18=4,"❹","") | G18: =IF(D18=3,"❸","") | H18: =IF(D18=2,"❷","") | I18: =IF(D18=1,"❶","") | J18: =IF(Q18=-1,"❶","") | K18: =IF(Q18=-2,"❷","") | L18: =IF(Q18=-3,"❸","") | M18: =IF(Q18=-4,"❹","") | N18: =IF(Q18=-5,"❺","") | O18: w12
B19: s13 | E19: =IF(D19=5,"❺","") | F19: =IF(D19=4,"❹","") | G19: =IF(D19=3,"❸","") | H19: =IF(D19=2,"❷","") | I19: =IF(D19=1,"❶","") | J19: =IF(Q19=-1,"❶","") | K19: =IF(Q19=-2,"❷","") | L19: =IF(Q19=-3,"❸","") | M19: =IF(Q19=-4,"❹","") | N19: =IF(Q19=-5,"❺","") | O19: w13
B20: s14 | E20: =IF(D20=5,"❺","") | F20: =IF(D20=4,"❹","") | G20: =IF(D20=3,"❸","") | H20: =IF(D20=2,"❷","") | I20: =IF(D20=1,"❶","") | J20: =IF(Q20=-1,"❶","") | K20: =IF(Q20=-2,"❷","") | L20: =IF(Q20=-3,"❸","") | M20: =IF(Q20=-4,"❹","") | N20: =IF(Q20=-5,"❺","") | O20: w14
B21: s15 | E21: =IF(D21=5,"❺","") | F21: =IF(D21=4,"❹","") | G21: =IF(D21=3,"❸","") | H21: =IF(D21=2,"❷","") | I21: =IF(D21=1,"❶","") | J21: =IF(Q21=-1,"❶","") | K21: =IF(Q21=-2,"❷","") | L21: =IF(Q21=-3,"❸","") | M21: =IF(Q21=-4,"❹","") | N21: =IF(Q21=-5,"❺","") | O21: w15
... B26: s20 | E26: =IF(D26=5,"❺","") | F26: =IF(D26=4,"❹","") | G26: =IF(D26=3,"❸","") | H26: =IF(D26=2,"❷","") | I26: =IF(D26=1,"❶","") | J26: =IF(Q26=-1,"❶","") | K26: =IF(Q26=-2,"❷","") | L26: =IF(Q26=-3,"❸","") | M26: =IF(Q26=-4,"❹","") | N26: =IF(Q26=-5,"❺","") | O26: w20
C27: =' '!A274 -> Chancen | E27: 5 | F27: 4 | G27: 3 | H27: 2 | I27: 1 | J27: -1 | K27: -2 | L27: -3 | M27: -4 | N27: -5 | P27: =' '!A275 -> Gefahren
B28: o1 | C28: Opportunité 1 | D28: 5 | E28: =IF(D28=5,"❺","") -> ❺ | F28: =IF(D28=4,"❹","") | G28: =IF(D28=3,"❸","") | H28: =IF(D28=2,"❷","") | I28: =IF(D28=1,"❶","") | J28: =IF(Q28=-1,"❶","") | K28: =IF(Q28=-2,"❷","") -> ❷ | L28: =IF(Q28=-3,"❸","") | M28: =IF(Q28=-4,"❹","") | N28: =IF(Q28=-5,"❺","") | O28: t1 | P28: Danger 1 | Q28: -2
B29: o2 | D29: 3 | E29: =IF(D29=5,"❺","") | F29: =IF(D29=4,"❹","") | G29: =IF(D29=3,"❸","") -> ❸ | H29: =IF(D29=2,"❷","") | I29: =IF(D29=1,"❶","") | J29: =IF(Q29=-1,"❶","") | K29: =IF(Q29=-2,"❷","") -> ❷ | L29: =IF(Q29=-3,"❸","") | M29: =IF(Q29=-4,"❹","") | N29: =IF(Q29=-5,"❺","") | O29: t2 | Q29: -2
B30: o3 | D30: 4 | E30: =IF(D30=5,"❺","") | F30: =IF(D30=4,"❹","") -> ❹ | G30: =IF(D30=3,"❸","") | H30: =IF(D30=2,"❷","") | I30: =IF(D30=1,"❶","") | J30: =IF(Q30=-1,"❶","") | K30: =IF(Q30=-2,"❷","") | L30: =IF(Q30=-3,"❸","") | M30: =IF(Q30=-4,"❹","") | N30: =IF(Q30=-5,"❺","") | O30: t3
B31: o4 | E31: =IF(D31=5,"❺","") | F31: =IF(D31=4,"❹","") | G31: =IF(D31=3,"❸","") | H31: =IF(D31=2,"❷","") | I31: =IF(D31=1,"❶","") | J31: =IF(Q31=-1,"❶","") | K31: =IF(Q31=-2,"❷","") | L31: =IF(Q31=-3,"❸","") | M31: =IF(Q31=-4,"❹","") | N31: =IF(Q31=-5,"❺","") | O31: t4
B32: o5 | E32: =IF(D32=5,"❺","") | F32: =IF(D32=4,"❹","") | G32: =IF(D32=3,"❸","") | H32: =IF(D32=2,"❷","") | I32: =IF(D32=1,"❶","") | J32: =IF(Q32=-1,"❶","") | K32: =IF(Q32=-2,"❷","") | L32: =IF(Q32=-3,"❸","") | M32: =IF(Q32=-4,"❹","") | N32: =IF(Q32=-5,"❺","") | O32: t5
B33: o6 | E33: =IF(D33=5,"❺","") | F33: =IF(D33=4,"❹","") | G33: =IF(D33=3,"❸","") | H33: =IF(D33=2,"❷","") | I33: =IF(D33=1,"❶","") | J33: =IF(Q33=-1,"❶","") | K33: =IF(Q33=-2,"❷","") | L33: =IF(Q33=-3,"❸","") | M33: =IF(Q33=-4,"❹","") | N33: =IF(Q33=-5,"❺","") | O33: t6
B34: o7 | E34: =IF(D34=5,"❺","") | F34: =IF(D34=4,"❹","") | G34: =IF(D34=3,"❸","") | H34: =IF(D34=2,"❷","") | I34: =IF(D34=1,"❶","") | J34: =IF(Q34=-1,"❶","") | K34: =IF(Q34=-2,"❷","") | L34: =IF(Q34=-3,"❸","") | M34: =IF(Q34=-4,"❹","") | N34: =IF(Q34=-5,"❺","") | O34: t7
B35: o8 | E35: =IF(D35=5,"❺","") | F35: =IF(D35=4,"❹","") | G35: =IF(D35=3,"❸","") | H35: =IF(D35=2,"❷","") | I35: =IF(D35=1,"❶","") | J35: =IF(Q35=-1,"❶","") | K35: =IF(Q35=-2,"❷","") | L35: =IF(Q35=-3,"❸","") | M35: =IF(Q35=-4,"❹","") | N35: =IF(Q35=-5,"❺","") | O35: t8
B36: o9 | E36: =IF(D36=5,"❺","") | F36: =IF(D36=4,"❹","") | G36: =IF(D36=3,"❸","") | H36: =IF(D36=2,"❷","") | I36: =IF(D36=1,"❶","") | J36: =IF(Q36=-1,"❶","") | K36: =IF(Q36=-2,"❷","") | L36: =IF(Q36=-3,"❸","") | M36: =IF(Q36=-4,"❹","") | N36: =IF(Q36=-5,"❺","") | O36: t9
B37: o10 | E37: =IF(D37=5,"❺","") | F37: =IF(D37=4,"❹","") | G37: =IF(D37=3,"❸","") | H37: =IF(D37=2,"❷","") | I37: =IF(D37=1,"❶","") | J37: =IF(Q37=-1,"❶","") | K37: =IF(Q37=-2,"❷","") | L37: =IF(Q37=-3,"❸","") | M37: =IF(Q37=-4,"❹","") | N37: =IF(Q37=-5,"❺","") | O37: t10
B38: o11 | E38: =IF(D38=5,"❺","") | F38: =IF(D38=4,"❹","") | G38: =IF(D38=3,"❸","") | H38: =IF(D38=2,"❷","") | I38: =IF(D38=1,"❶","") | J38: =IF(Q38=-1,"❶","") | K38: =IF(Q38=-2,"❷","") | L38: =IF(Q38=-3,"❸","") | M38: =IF(Q38=-4,"❹","") | N38: =IF(Q38=-5,"❺","") | O38: t11
B39: o12 | E39: =IF(D39=5,"❺","") | F39: =IF(D39=4,"❹","") | G39: =IF(D39=3,"❸","") | H39: =IF(D39=2,"❷","") | I39: =IF(D39=1,"❶","") | J39: =IF(Q39=-1,"❶","") | K39: =IF(Q39=-2,"❷","") | L39: =IF(Q39=-3,"❸","") | M39: =IF(Q39=-4,"❹","") | N39: =IF(Q39=-5,"❺","") | O39: t12
B40: o13 | E40: =IF(D40=5,"❺","") | F40: =IF(D40=4,"❹","") | G40: =IF(D40=3,"❸","") | H40: =IF(D40=2,"❷","") | I40: =IF(D40=1,"❶","") | J40: =IF(Q40=-1,"❶","") | K40: =IF(Q40=-2,"❷","") | L40: =IF(Q40=-3,"❸","") | M40: =IF(Q40=-4,"❹","") | N40: =IF(Q40=-5,"❺","") | O40: t13
B41: o14 | E41: =IF(D41=5,"❺","") | F41: =IF(D41=4,"❹","") | G41: =IF(D41=3,"❸","") | H41: =IF(D41=2,"❷","") | I41: =IF(D41=1,"❶","") | J41: =IF(Q41=-1,"❶","") | K41: =IF(Q41=-2,"❷","") | L41: =IF(Q41=-3,"❸","") | M41: =IF(Q41=-4,"❹","") | N41: =IF(Q41=-5,"❺","") | O41: t14
B42: o15 | E42: =IF(D42=5,"❺","") | F42: =IF(D42=4,"❹","") | G42: =IF(D42=3,"❸","") | H42: =IF(D42=2,"❷","") | I42: =IF(D42=1,"❶","") | J42: =IF(Q42=-1,"❶","") | K42: =IF(Q42=-2,"❷","") | L42: =IF(Q42=-3,"❸","") | M42: =IF(Q42=-4,"❹","") | N42: =IF(Q42=-5,"❺","") | O42: t15
... B47: o20 | E47: =IF(D47=5,"❺","") | F47: =IF(D47=4,"❹","") | G47: =IF(D47=3,"❸","") | H47: =IF(D47=2,"❷","") | I47: =IF(D47=1,"❶","") | J47: =IF(Q47=-1,"❶","") | K47: =IF(Q47=-2,"❷","") | L47: =IF(Q47=-3,"❸","") | M47: =IF(Q47=-4,"❹","") | N47: =IF(Q47=-5,"❺","") | O47: t20
B48: © iManagement • dr. s.imboden • www.2iManagement.ch

Sheet Forces
B1: =' '!A360 -> S T Ä R K E N & S C H W Ä C H E N
E3: =(P10+P15+P24+P29+P33+P41+P46+P50+P55) -> 195 | H3: =' '!A365 -> trifft überhaupt nicht zu | J3: =' '!A364 -> trifft eher nicht zu | L3: =' '!A363 -> trifft teilweise zu | N3: =' '!A362 -> trifft eher zu | P3: =' '!A361 -> trifft voll zu | S3: =' '!A413 -> Auswirkung (1 - 10)
E4: =(N10+N15+N24+N29+N33+N41+N50+N55) -> 80
U6: =CONCATENATE(' '!A417," ",E4," / ",E3) -> Total Punkte : 80 / 195
H7: =(COUNTIF(B118:B164,1)/39) -> 0.051282051 | J7: =(COUNTIF(B118:B164,2)/39) -> 0.20512821 | L7: =(COUNTIF(B118:B164,3)/39) -> 0.23076923 | N7: =(COUNTIF(B118:B164,4)/39) -> 0.15384615 | P7: =(COUNTIF(B118:B164,5)/39) -> 0.076923077
B10: 1 | D10: CUSTOMER RELATIONSHIP | G10: =SUM(B118:B121) -> 13 | N10: =SUM(B118:B121) -> 13 | O10: / | P10: 20
B11: 1.1 | D11: =' '!A366 -> Unser generierte Mehrwert entspricht den Bedürfnissen der Kunden | S11: 9
B12: 1.2 | D12: =' '!A367 -> Unser generierte Mehrwert hat einen grossen Einfluss auf unser (Networking) | S12: 7
B13: 1.3 | D13: =' '!A368 -> Es bestehen grosse Synergien zwischen Produkte und Dienstleistungen | S13: 5
B14: 1.4 | D14: =' '!A369 -> Unsere Kunden sind sehr zufrieden | S14: 3
B15: 2 | D15: REVENUE STREAMS | N15: =SUM(B123:B130) -> 25 | O15: / | P15: 40
B16: 2.1 | D16: =' '!A371 -> Unsere Margen sind hoch | S16: 5
B17: 2.2 | D17: =' '!A372 -> Unsere Erträge sind vorhersehbar | S17: 4
B18: 2.3 | D18: =' '!A373 -> Wir haben wiederkehrende Einnahmen und häufige wiederholte Käufe | S18: 8
B19: 2.4 | D19: =' '!A374 -> Unsere Einnahmequellen sind diversifiziert | S19: 8
B20: 2.5 | D20: =' '!A375 -> Unsere Einnahmequellen sind nachhaltig | S20: 5
B21: 2.6 | D21: =' '!A376 -> Wir ziehen die Erträge ein bevor wir weitere Verpflichtungen eingehen | S21: 9
B22: 2.7 | D22: =' '!A377 -> Die Höhe der Rechnungsbeträge entsprechen dem, was der Kunde bereit ist zu bezahlen | S22: 5
B23: 2.8 | D23: =' '!A378 -> Unsere Preisgestaltung entspricht dem, was der Kunde bereit ist zu bezahlen | S23: 7
B24: 3 | D24: COST STRUCTURE | N24: =SUM(B132:B135) -> 13 | O24: / | P24: 20
B25: 3.1 | D25: =' '!A380 -> Unsere Kosten sind vorhersehbar | S25: 5
B26: 3.2 | D26: =' '!A381 -> Unsere Kostenstruktur ist richtig auf unser Geschäftsmodell abgestimmt | S26: 5
B27: 3.3 | D27: =' '!A382 -> Unser Geschäft ist profitabel | S27: 5
B28: 3.4 | D28: =' '!A383 -> Wir profitieren von Skaleneffekten | S28: 5
B29: 4 | D29: CUSTOMER SEGMENTS | N29: =SUM(B137:B139) -> 6 | O29: / | P29: 15
B30: 4.1 | D30: =' '!A385 -> Die Fluktuationsrate der Kunden ist gering | S30: 5
B31: 4.2 | D31: =' '!A386 -> Die Kundensegmentierung ist gut | S31: 5
B32: 4.3 | D32: =' '!A387 -> Wir gewinnen regelmässig neue Kunden | S32: 5
B33: 5 | D33: CHANNELS | N33: =SUM(B141:B147) -> 11 | O33: / | P33: 35
B34: 5.1 | D34: =' '!A389 -> Unsere Vertriebskanäle sind sehr effektiv | S34: 5
B35: 5.2 | D35: =' '!A390 -> Unsere Vertriebskanäle sind profitabel | S35: 5
B36: 5.3 | D36: =' '!A391 -> Die Penetration der Vertriebskanäle ist gut | S36: 5
B37: 5.4 | D37: =' '!A392 -> Die Vertriebskanäle werden von unseren Kunden einfach identifiziert | S37: 5
B38: 5.5 | D38: =' '!A393 -> Die Vertriebskanäle sind sehr stark integriert | S38: 5
B39: 5.6 | D39: =' '!A394 -> Mit den Vertriebskanäle können Synergien und Kostenvorteile realisiert werden (economies of scope) | S39: 5
B40: 5.7 | D40: =' '!A395 -> Die Vertriebskanäle sind gut auf die Kundensegmente abgestimmt | S40: 5
B41: 6 | D41: CUSTOMER RELATIONSHIP | N41: =SUM(B149:B152) -> 6 | O41: / | P41: 20
B42: 6.1 | D42: =' '!A397 -> Die Beziehungen zu den Kunden ist sehr solide | S42: 5
B43: 6.2 | D43: =' '!A398 -> Die Qualität der Beziehung entspricht der Kundensegmentierung | S43: 5
B44: 6.3 | D44: =' '!A399 -> Die Kundenbeziehung ist so stark, dass ein Wechsel hohe Kosten für den Kunden bringt | S44: 5
...

Sheet Chances
B1: =' '!A422 -> C H A N C E N & G E F A H R E N
E3: =(N10+N18+N27+N31+N40+N48+N56+N63+N69) -> 183 | H3: =' '!A365 -> trifft überhaupt nicht zu | J3: =' '!A364 -> trifft eher nicht zu | L3: =' '!A363 -> trifft teilweise zu | N3: =' '!A362 -> trifft eher zu | P3: =' '!A361 -> trifft voll zu | S3: =' '!A413 -> Auswirkung (1 - 10)
E4: =(P10+P18+P27+P31+P40+P48+P56+P63+P69) -> 295
U6: =CONCATENATE(' '!A417," ",E3," / ",E4) -> Total Punkte : 183 / 295
H7: =(COUNTIF(B134:B200,1)/59) -> 0.084745763 | J7: =(COUNTIF(B134:B200,2)/59) -> 0.28813559 | L7: =(COUNTIF(B134:B200,3)/59) -> 0.25423729 | N7: =(COUNTIF(B134:B200,4)/59) -> 0.18644068 | P7: =(COUNTIF(B134:B200,5)/59) -> 0.18644068
B10: 1 | D10: CUSTOMER RELATIONSHIP | G10: =SUM(B134:B137) -> 13 | N10: =SUM(B134:B140) -> 23 | O10: / | P10: 35
B11: 1.1 | D11: =' '!A423 -> Wir können wiederkehrende Einnahmen generieren, indem wir von Produkte Dienstleistungen ableiten | S11: 9
B12: 1.2 | D12: =' '!A424 -> Wir können unsere Produkte und Dienstleistungen besser integrieren | S12: 8
B13: 1.3 | D13: =' '!A425 -> Wir können andere Kundenbedürfnisse befriedigen | S13: 7
B14: 1.4 | D14: =' '!A426 -> Es gibt Ergänzungen oder mögliche Erweiterungen die zusätzlichen Mehrwert schaffen | S14: 6
B15: 1.5 | D15: =' '!A427 -> Wir können andere Aufgaben unserer Kunden anbieten | S15: 4
B16: 1.6 | D16: =' '!A428 -> Es gibt Ersatzprodukte und -dienstleistungen | S16: 3
B17: 1.7 | D17: =' '!A429 -> Wettbewerber können den Kunden Mehrwert und tiefere Preise anbieten | S17: 3
B18: 2 | D18: REVENUE STREAMS | N18: =SUM(B142:B149) -> 22 | O18: / | P18: 40
B19: 2.1 | D19: =' '!A431 -> Wir können punktuell Transaktionsumsatz aus wiederkehrenden Einkommen generieren | S19: 10
B20: 2.2 | D20: =' '!A432 -> Unsere Kunden sind bereit für zusätzliche Produkte oder Dienstleistungen zu bezahlen | S20: 9
B21: 2.3 | D21: =' '!A433 -> Wir haben die Möglichkeit Querverkäufe intern oder mit Partner zu tätigen | S21: 8
B22: 2.4 | D22: =' '!A434 -> Wir können zusätzliche Einnahmequellen generieren oder neu entwickeln | S22: 7
B23: 2.5 | D23: =' '!A435 -> Wir können die Preise erhöhen | S23: 6
B24: 2.6 | D24: =' '!A436 -> Unsere Margen geraten durch Konkurrenten und/oder neuen Technologien unter Druck | S24: 5
B25: 2.7 | D25: =' '!A437 -> Wir sind von einem oder mehreren Einkommensquellen abhängig | S25: 4
B26: 2.8 | D26: =' '!A438 -> Wir haben Einnahmequellen, die bald versiegen werden | S26: 3
B27: 3 | D27: COST STRUCTURE | N27: =SUM(B151:B153) -> 9 | O27: / | P27: 15
B28: 3.1 | D28: =' '!A440 -> Wir können unsere Kosten senken | S28: 10
B29: 3.2 | D29: =' '!A441 -> Einige Kosten können unberechenbar werden | S29: 4
B30: 3.3 | D30: =' '!A442 -> Einige Kosten drohen schneller zu wachsen als die entsprechenden Einkünfte | S30: 10
B31: 4 | D31: CUSTOMER SEGMENTS | N31: =SUM(B155:B162) -> 24 | O31: / | P31: 40
B32: 4.1 | D32: =' '!A444 -> Wir können von einem wachsenden/expandierenden Markt profitieren | S32: 10
B33: 4.2 | D33: =' '!A445 -> Wir können neue Kundensegemente bedienen | S33: 9
B34: 4.3 | D34: =' '!A446 -> Aufgrund einer feineren Segmentierung, können wir unsere Kunden besser bedienen | S34: 8
B35: 4.4 | D35: =' '!A447 -> Es besteht die Gefahr, dass unser Markt bald gesättigt ist | S35: 7
B36: 4.5 | D36: =' '!A448 -> Unsere Konkurrenten bedrohen unseren Marktanteil | S36: 6
B37: 4.6 | D37: =' '!A449 -> Es besteht die Möglichkeit, dass wir Kunden verlieren | S37: 5
B38: 4.7 | D38: =' '!A450 -> Es besteht die Gefahr, dass unsere Kunden in Zahlungsverzug geraten | S38: 4
B39: 4.8 | D39: =' '!A451 -> Es besteht das Risiko, dass sich der Wettbewerb verschärft | S39: 3
B40: 5 | D40: CHANNELS | N40: =SUM(B164:B170) -> 20 | O40: / | P40: 35
B41: 5.1 | D41: =' '!A453 -> Wir können die Effizienz, die Effektivität und die Leistungsfähigkeit unserer Vertriebskanäle verbessern | S41: 1
B42: 5.2 | D42: =' '!A454 -> Wir können die Integration unserer Vertriebskanäle verbessern | S42: 2
B43: 5.3 | D43: =' '!A455 -> Wir können zusätzliche Vertriebskanäle finden | S43: 3
B44: 5.4 | D44: =' '!A456 -> Wir können unsere Margen steigern indem wir unsere Kunden direkt bedienen | S44: 4
...

Sheet Normstrategien
B1: =' '!A662 -> N O R M S T R A T E G I E N
D4: =' '!A667 -> Interne Faktoren | G4: =' '!A272 -> Stärken | K4: =' '!A273 -> Schwächen
F5: s1 | G5: =IF('Swot-Analyse'!C7<>"",'Swot-Analyse'!C7,"") -> Strength 1 | H5: =IF('Swot-Analyse'!D7<>"",'Swot-Analyse'!D7,"") -> 5 | J5: w1 | K5: =IF('Swot-Analyse'!P7<>"",'Swot-Analyse'!P7,"") -> Faiblesse 1 | L5: =IF('Swot-Analyse'!Q7<>"",'Swot-Analyse'!Q7,"") -> -5
F6: s2 | G6: =IF('Swot-Analyse'!C8<>"",'Swot-Analyse'!C8,"") | H6: =IF('Swot-Analyse'!D8<>"",'Swot-Analyse'!D8,"") -> 3 | J6: w2 | K6: =IF('Swot-Analyse'!P8<>"",'Swot-Analyse'!P8,"") | L6: =IF('Swot-Analyse'!Q8<>"",'Swot-Analyse'!Q8,"") -> -4
F7: s3 | G7: =IF('Swot-Analyse'!C9<>"",'Swot-Analyse'!C9,"") | H7: =IF('Swot-Analyse'!D9<>"",'Swot-Analyse'!D9,"") | J7: w3 | K7: =IF('Swot-Analyse'!P9<>"",'Swot-Analyse'!P9,"") | L7: =IF('Swot-Analyse'!Q9<>"",'Swot-Analyse'!Q9,"") -> -2
F8: s4 | G8: =IF('Swot-Analyse'!C10<>"",'Swot-Analyse'!C10,"") | H8: =IF('Swot-Analyse'!D10<>"",'Swot-Analyse'!D10,"") | J8: w4 | K8: =IF('Swot-Analyse'!P10<>"",'Swot-Analyse'!P10,"") | L8: =IF('Swot-Analyse'!Q10<>"",'Swot-Analyse'!Q10,"")
F9: s5 | G9: =IF('Swot-Analyse'!C11<>"",'Swot-Analyse'!C11,"") | H9: =IF('Swot-Analyse'!D11<>"",'Swot-Analyse'!D11,"") | J9: w5 | K9: =IF('Swot-Analyse'!P11<>"",'Swot-Analyse'!P11,"") | L9: =IF('Swot-Analyse'!Q11<>"",'Swot-Analyse'!Q11,"")
F10: s6 | G10: =IF('Swot-Analyse'!C12<>"",'Swot-Analyse'!C12,"") | H10: =IF('Swot-Analyse'!D12<>"",'Swot-Analyse'!D12,"") | J10: w6 | K10: =IF('Swot-Analyse'!P12<>"",'Swot-Analyse'!P12,"") | L10: =IF('Swot-Analyse'!Q12<>"",'Swot-Analyse'!Q12,"")
F11: s7 | G11: =IF('Swot-Analyse'!C13<>"",'Swot-Analyse'!C13,"") | H11: =IF('Swot-Analyse'!D13<>"",'Swot-Analyse'!D13,"") | J11: w7 | K11: =IF('Swot-Analyse'!P13<>"",'Swot-Analyse'!P13,"") | L11: =IF('Swot-Analyse'!Q13<>"",'Swot-Analyse'!Q13,"")
F12: s8 | G12: =IF('Swot-Analyse'!C14<>"",'Swot-Analyse'!C14,"") | H12: =IF('Swot-Analyse'!D14<>"",'Swot-Analyse'!D14,"") | J12: w8 | K12: =IF('Swot-Analyse'!P14<>"",'Swot-Analyse'!P14,"") | L12: =IF('Swot-Analyse'!Q14<>"",'Swot-Analyse'!Q14,"")
F13: s9 | G13: =IF('Swot-Analyse'!C15<>"",'Swot-Analyse'!C15,"") | H13: =IF('Swot-Analyse'!D15<>"",'Swot-Analyse'!D15,"") | J13: w9 | K13: =IF('Swot-Analyse'!P15<>"",'Swot-Analyse'!P15,"") | L13: =IF('Swot-Analyse'!Q15<>"",'Swot-Analyse'!Q15,"")
F14: s10 | G14: =IF('Swot-Analyse'!C16<>"",'Swot-Analyse'!C16,"") | H14: =IF('Swot-Analyse'!D16<>"",'Swot-Analyse'!D16,"") | J14: w10 | K14: =IF('Swot-Analyse'!P16<>"",'Swot-Analyse'!P16,"") | L14: =IF('Swot-Analyse'!Q16<>"",'Swot-Analyse'!Q16,"")
F15: s11 | G15: =IF('Swot-Analyse'!C17<>"",'Swot-Analyse'!C17,"") | H15: =IF('Swot-Analyse'!D17<>"",'Swot-Analyse'!D17,"") | J15: w11 | K15: =IF('Swot-Analyse'!P17<>"",'Swot-Analyse'!P17,"") | L15: =IF('Swot-Analyse'!Q17<>"",'Swot-Analyse'!Q17,"")
F16: s12 | G16: =IF('Swot-Analyse'!C18<>"",'Swot-Analyse'!C18,"") | H16: =IF('Swot-Analyse'!D18<>"",'Swot-Analyse'!D18,"") | J16: w12 | K16: =IF('Swot-Analyse'!P18<>"",'Swot-Analyse'!P18,"") | L16: =IF('Swot-Analyse'!Q18<>"",'Swot-Analyse'!Q18,"")
... F21: s17 | G21: =IF('Swot-Analyse'!C23<>"",'Swot-Analyse'!C23,"") | H21: =IF('Swot-Analyse'!D23<>"",'Swot-Analyse'!D23,"") | J21: w17 | K21: =IF('Swot-Analyse'!P23<>"",'Swot-Analyse'!P23,"") | L21: =IF('Swot-Analyse'!Q23<>"",'Swot-Analyse'!Q23,"")
C22: =' '!A668 -> Externe Faktoren | F22: s18 | G22: =IF('Swot-Analyse'!C24<>"",'Swot-Analyse'!C24,"") | H22: =IF('Swot-Analyse'!D24<>"",'Swot-Analyse'!D24,"") | J22: w18 | K22: =IF('Swot-Analyse'!P24<>"",'Swot-Analyse'!P24,"") | L22: =IF('Swot-Analyse'!Q24<>"",'Swot-Analyse'!Q24,"")
C24: =' '!A274 -> Chancen | G24: =' '!A663 -> SO-Strategien | K24: =' '!A665 -> WO-Strategien
B25: o1 | C25: =IF('Swot-Analyse'!C28<>"",'Swot-Analyse'!C28,"") -> Opportunité 1 | D25: =IF('Swot-Analyse'!D28<>"",'Swot-Analyse'!D28,"") -> 5 | F25: 1 | J25: 9
B26: o2 | C26: =IF('Swot-Analyse'!C29<>"",'Swot-Analyse'!C29,"") | D26: =IF('Swot-Analyse'!D29<>"",'Swot-Analyse'!D29,"") -> 3 | F26: 2 | J26: 2
B27: o3 | C27: =IF('Swot-Analyse'!C30<>"",'Swot-Analyse'!C30,"") | D27: =IF('Swot-Analyse'!D30<>"",'Swot-Analyse'!D30,"") -> 4 | F27: 3 | J27: 3
B28: o4 | C28: =IF('Swot-Analyse'!C31<>"",'Swot-Analyse'!C31,"") | D28: =IF('Swot-Analyse'!D31<>"",'Swot-Analyse'!D31,"") | F28: 4 | J28: 4
B29: o5 | C29: =IF('Swot-Analyse'!C32<>"",'Swot-Analyse'!C32,"") | D29: =IF('Swot-Analyse'!D32<>"",'Swot-Analyse'!D32,"") | F29: 5 | J29: 5
B30: o6 | C30: =IF('Swot-Analyse'!C33<>"",'Swot-Analyse'!C33,"") | D30: =IF('Swot-Analyse'!D33<>"",'Swot-Analyse'!D33,"") | F30: 2 | J30: 10
B31: o7 | C31: =IF('Swot-Analyse'!C34<>"",'Swot-Analyse'!C34,"") | D31: =IF('Swot-Analyse'!D34<>"",'Swot-Analyse'!D34,"") | F31: 7 | J31: 7
B32: o8 | C32: =IF('Swot-Analyse'!C35<>"",'Swot-Analyse'!C35,"") | D32: =IF('Swot-Analyse'!D35<>"",'Swot-Analyse'!D35,"") | F32: 8 | J32: 8
B33: o9 | C33: =IF('Swot-Analyse'!C36<>"",'Swot-Analyse'!C36,"") | D33: =IF('Swot-Analyse'!D36<>"",'Swot-Analyse'!D36,"") | F33: 9 | J33: 9
B34: o10 | C34: =IF('Swot-Analyse'!C37<>"",'Swot-Analyse'!C37,"") | D34: =IF('Swot-Analyse'!D37<>"",'Swot-Analyse'!D37,"") | F34: 10 | J34: 10
B35: o11 | C35: =IF('Swot-Analyse'!C38<>"",'Swot-Analyse'!C38,"") | D35: =IF('Swot-Analyse'!D38<>"",'Swot-Analyse'!D38,"") | F35: 3 | J35: 11
B36: o12 | C36: =IF('Swot-Analyse'!C39<>"",'Swot-Analyse'!C39,"") | D36: =IF('Swot-Analyse'!D39<>"",'Swot-Analyse'!D39,"") | F36: 12 | J36: 12
... B42: o18 | C42: =IF('Swot-Analyse'!C45<>"",'Swot-Analyse'!C45,"") | D42: =IF('Swot-Analyse'!D45<>"",'Swot-Analyse'!D45,"") | F42: 18 | J42: 18
C44: =' '!A275 -> Gefahren | G44: =' '!A664 -> ST-Strategien | K44: =' '!A666 -> WT-Strategien
B45: t1 | C45: =IF('Swot-Analyse'!P28<>"",'Swot-Analyse'!P28,"") -> Danger 1 | D45: =IF('Swot-Analyse'!Q28<>"",'Swot-Analyse'!Q28,"") -> -2 | F45: 5 | J45: 13
B46: t2 | C46: =IF('Swot-Analyse'!P29<>"",'Swot-Analyse'!P29,"") | D46: =IF('Swot-Analyse'!Q29<>"",'Swot-Analyse'!Q29,"") -> -2 | F46: 2 | J46: 2
B47: t3 | C47: =IF('Swot-Analyse'!P30<>"",'Swot-Analyse'!P30,"") | D47: =IF('Swot-Analyse'!Q30<>"",'Swot-Analyse'!Q30,"") | F47: 3 | J47: 3
B48: t4 | C48: =IF('Swot-Analyse'!P31<>"",'Swot-Analyse'!P31,"") | D48: =IF('Swot-Analyse'!Q31<>"",'Swot-Analyse'!Q31,"") | F48: 4 | J48: 4
B49: t5 | C49: =IF('Swot-Analyse'!P32<>"",'Swot-Analyse'!P32,"") | D49: =IF('Swot-Analyse'!Q32<>"",'Swot-Analyse'!Q32,"") | F49: 5 | J49: 5
B50: t6 | C50: =IF('Swot-Analyse'!P33<>"",'Swot-Analyse'!P33,"") | D50: =IF('Swot-Analyse'!Q33<>"",'Swot-Analyse'!Q33,"") | F50: 6 | J50: 14
B51: t7 | C51: =IF('Swot-Analyse'!P34<>"",'Swot-Analyse'!P34,"") | D51: =IF('Swot-Analyse'!Q34<>"",'Swot-Analyse'!Q34,"") | F51: 7 | J51: 7
B52: t8 | C52: =IF('Swot-Analyse'!P35<>"",'Swot-Analyse'!P35,"") | D52: =IF('Swot-Analyse'!Q35<>"",'Swot-Analyse'!Q35,"") | F52: 8 | J52: 8
B53: t9 | C53: =IF('Swot-Analyse'!P36<>"",'Swot-Analyse'!P36,"") | D53: =IF('Swot-Analyse'!Q36<>"",'Swot-Analyse'!Q36,"") | F53: 9 | J53: 9
...

Sheet Kunden
B1: =' '!A319 -> K U N D E N
B4: =' '!A67 -> Nr. | C4: =' '!A326 -> Kunde | D4: =' '!A327 -> Loyalität | E4: =' '!A328 -> Profitabi-lität | F4: =' '!A329 -> ABC-Kunde | G4: =' '!A331 -> Merkmale (demografisch, sozioökonomisch etc.) | H4: =' '!A334 -> Kaufverhalten | I4: =' '!A339 -> Ewarteter Umsatz | J4: =' '!A74 -> Status
B5: C1 | C5: Client 1 | D5: 10 | E5: 9 | F5: A | K5: =IF(F5="A",3, IF(F5="B",2,1)) -> 3
B6: C2 | C6: Client 2 | D6: 8 | E6: 6 | F6: B | K6: =IF(F6="A",3, IF(F6="B",2,1)) -> 2
B7: C3 | C7: Client 3 | D7: 3 | E7: 4 | F7: C | K7: =IF(F7="A",3, IF(F7="B",2,1)) -> 1
B8: C4 | K8: =IF(F8="A",3, IF(F8="B",2,1)) -> 1
B9: C5 | K9: =IF(F9="A",3, IF(F9="B",2,1)) -> 1
B10: C6 | K10: =IF(F10="A",3, IF(F10="B",2,1)) -> 1
B11: C7 | K11: =IF(F11="A",3, IF(F11="B",2,1)) -> 1
B12: C8 | K12: =IF(F12="A",3, IF(F12="B",2,1)) -> 1
B13: C9 | K13: =IF(F13="A",3, IF(F13="B",2,1)) -> 1
B14: C10 | K14: =IF(F14="A",3, IF(F14="B",2,1)) -> 1
B15: C11 | K15: =IF(F15="A",3, IF(F15="B",2,1)) -> 1
B16: C12 | K16: =IF(F16="A",3, IF(F16="B",2,1)) -> 1
B17: C13 | K17: =IF(F17="A",3, IF(F17="B",2,1)) -> 1
B18: C14 | K18: =IF(F18="A",3, IF(F18="B",2,1)) -> 1
B19: C15 | K19: =IF(F19="A",3, IF(F19="B",2,1)) -> 1
... B24: C20 | K24: =IF(F24="A",3, IF(F24="B",2,1)) -> 1
B25: © iManagement • dr. s.imboden • www.2iManagement.ch | H25: =' '!A317 -> Total | I25: =SUM(I5:I24) -> 0
H39: =IF(C5<>"",CONCATENATE(B5," ",C5),"") -> C1 Client 1
H40: =IF(C6<>"",CONCATENATE(B6," ",C6),"") -> C2 Client 2
H41: =IF(C7<>"",CONCATENATE(B7," ",C7),"") -> C3 Client 3
H42: =IF(C8<>"",CONCATENATE(B8," ",C8),"")
H43: =IF(C9<>"",CONCATENATE(B9," ",C9),"")
H44: =IF(C10<>"",CONCATENATE(B10," ",C10),"")
H45: =IF(C11<>"",CONCATENATE(B11," ",C11),"")
H46: =IF(C12<>"",CONCATENATE(B12," ",C12),"")
H47: =IF(C13<>"",CONCATENATE(B13," ",C13),"")
H48: =IF(C14<>"",CONCATENATE(B14," ",C14),"")
H49: =IF(C15<>"",CONCATENATE(B15," ",C15),"")
H50: =IF(C16<>"",CONCATENATE(B16," ",C16),"")
... H58: =IF(C24<>"",CONCATENATE(B24," ",C24),"")

Sheet Empathy
B1: =' '!A633 -> C U S T O M E R E M P A T H Y M A P
B39: © iManagement • dr. s.imboden • www.2iManagement.ch

Sheet Markt
B1: =' '!A576 -> M A R K T
B6: =' '!A67 -> Nr. | C6: =' '!A577 -> Markt | D6: =' '!A581 -> Merkmale | E6: =' '!A582 -> Nachfrage-intensität | F6: =' '!A578 -> Potenzial | G6: =' '!A579 -> Erwarteter Wachstum | H6: =' '!A580 -> Markt-volumen | I6: =Logo!D12 -> CHF | J6: =' '!A588 -> Marktanteil [%] | K6: =Logo!D12 -> CHF
B7: M1 | C7: Markt 1 | E7: Zukunftsmarkt | F7: 10 | G7: 6 | H7: 2 | I7: 1000000 | J7: 0.1 | K7: =J7*I7 -> 100000 | L7: =100%-J7 -> 0.9 | M7: =IF(H7=3,3, IF(H7=2,2,1)) -> 2
B8: M2 | C8: Markt 2 | E8: Nischenmarkt | F8: 9 | G8: 10 | H8: 3 | I8: 500000 | J8: 0.2 | K8: =J8*I8 -> 100000 | L8: =100%-J8 -> 0.8 | M8: =IF(H8=3,3, IF(H8=2,2,1)) -> 3
B9: M3 | C9: Markt 3 | F9: 8 | G9: 1 | H9: 2 | J9: 0.3 | K9: =J9*I9 -> 0 | L9: =100%-J9 -> 0.7 | M9: =IF(H9=3,3, IF(H9=2,2,1)) -> 2
B10: M4 | C10: Markt 4 | F10: 7 | G10: 3 | H10: 1 | J10: 0.4 | K10: =J10*I10 -> 0 | L10: =100%-J10 -> 0.6 | M10: =IF(H10=3,3, IF(H10=2,2,1)) -> 1
B11: M5 | C11: Markt 5 | F11: 6 | G11: 2 | H11: 1 | J11: 0.5 | K11: =J11*I11 -> 0 | L11: =100%-J11 -> 0.5 | M11: =IF(H11=3,3, IF(H11=2,2,1)) -> 1
B12: M6 | C12: Markt 6 | F12: 5 | G12: 4 | H12: 1 | J12: 0.6 | K12: =J12*I12 -> 0 | L12: =100%-J12 -> 0.4 | M12: =IF(H12=3,3, IF(H12=2,2,1)) -> 1
B13: M7 | C13: Markt 7 | F13: 4 | G13: 5 | H13: 2 | J13: 0.7 | K13: =J13*I13 -> 0 | L13: =100%-J13 -> 0.3 | M13: =IF(H13=3,3, IF(H13=2,2,1)) -> 2
B14: M8 | C14: Markt 8 | F14: 3 | G14: 6 | H14: 1 | J14: 0.8 | K14: =J14*I14 -> 0 | L14: =100%-J14 -> 0.2 | M14: =IF(H14=3,3, IF(H14=2,2,1)) -> 1
B15: © iManagement • dr. s.imboden • www.2iManagement.ch | H15: =' '!A317 -> Total | I15: =SUM(I7:I14) -> 1500000 | K15: =SUM(K7:K14) -> 200000
I41: =IF(C7<>"",CONCATENATE(B7," ",C7),"") -> M1 Markt 1
I42: =IF(C8<>"",CONCATENATE(B8," ",C8),"") -> M2 Markt 2
I43: =IF(C9<>"",CONCATENATE(B9," ",C9),"") -> M3 Markt 3
I44: =IF(C10<>"",CONCATENATE(B10," ",C10),"") -> M4 Markt 4
I45: =IF(C11<>"",CONCATENATE(B11," ",C11),"") -> M5 Markt 5
I46: =IF(C12<>"",CONCATENATE(B12," ",C12),"") -> M6 Markt 6
I47: =IF(C13<>"",CONCATENATE(B13," ",C13),"") -> M7 Markt 7
I48: =IF(C14<>"",CONCATENATE(B14," ",C14),"") -> M8 Markt 8

Sheet Produkte
B1: =' '!A310 -> P R O D U K T E & D I E N S T L E I S T U N G E N
B4: =' '!A67 -> Nr. | C4: =' '!A311 -> Produkt/Dienstleistung | D4: =' '!A314 -> USP/UAP | E4: =' '!A315 -> Nachfrage | F4: =' '!A316 -> Umsatz | G4: =' '!A72 -> Chancen (+) und Gefahren (-) | H4: =' '!A318 -> Marketing Strategie | I4: =' '!A74 -> Status
B5: P1 | C5: Produit 1 | D5: 3 | E5: 8 | F5: 2 | J5: =IF(F5=3,3, IF(F5=2,2,1)) -> 2
B6: P2 | C6: Produit 2 | D6: 8 | E6: 6 | F6: 1 | J6: =IF(F6=3,3, IF(F6=2,2,1)) -> 1
B7: P3 | J7: =IF(F7=3,3, IF(F7=2,2,1)) -> 1
B8: P4 | J8: =IF(F8=3,3, IF(F8=2,2,1)) -> 1
B9: P5 | J9: =IF(F9=3,3, IF(F9=2,2,1)) -> 1
B10: P6 | J10: =IF(F10=3,3, IF(F10=2,2,1)) -> 1
B11: P7 | J11: =IF(F11=3,3, IF(F11=2,2,1)) -> 1
B12: P8 | J12: =IF(F12=3,3, IF(F12=2,2,1)) -> 1
B13: P9 | J13: =IF(F13=3,3, IF(F13=2,2,1)) -> 1
B14: P10 | J14: =IF(F14=3,3, IF(F14=2,2,1)) -> 1
B15: P11 | J15: =IF(F15=3,3, IF(F15=2,2,1)) -> 1
B16: P12 | J16: =IF(F16=3,3, IF(F16=2,2,1)) -> 1
B17: P13 | J17: =IF(F17=3,3, IF(F17=2,2,1)) -> 1
B18: P14 | J18: =IF(F18=3,3, IF(F18=2,2,1)) -> 1
... B24: P20 | J24: =IF(F24=3,3, IF(F24=2,2,1)) -> 1
B25: © iManagement • dr. s.imboden • www.2iManagement.ch
H36: =IF(C5<>"",CONCATENATE(" ",B5," ",C5),"") -> P1 Produit 1
H37: =IF(C6<>"",CONCATENATE(" ",B6," ",C6),"") -> P2 Produit 2
H38: =IF(C7<>"",CONCATENATE(" ",B7," ",C7),"")
H39: =IF(C8<>"",CONCATENATE(" ",B8," ",C8),"")
H40: =IF(C9<>"",CONCATENATE(" ",B9," ",C9),"")
H41: =IF(C10<>"",CONCATENATE(" ",B10," ",C10),"")
H42: =IF(C11<>"",CONCATENATE(" ",B11," ",C11),"")
H43: =IF(C12<>"",CONCATENATE(" ",B12," ",C12),"")
H44: =IF(C13<>"",CONCATENATE(" ",B13," ",C13),"")
H45: =IF(C14<>"",CONCATENATE(" ",B14," ",C14),"")
H46: =IF(C15<>"",CONCATENATE(" ",B15," ",C15),"")
H47: =IF(C16<>"",CONCATENATE(" ",B16," ",C16),"")
... H55: =IF(C24<>"",CONCATENATE(" ",B24," ",C24),"")

Sheet Packaging
B1: =' '!A681 -> P A C K A G I N G
C4: =' '!A682 -> Technische Funktion | G4: =' '!A683 -> Kommuniative Funktion
B6: t1 | C6: xy | D6: 5 | F6: c1 | G6: xy | H6: -5
B7: t2 | D7: 3 | F7: c2 | H7: -4
B8: t3 | F8: c3 | H8: -2
B9: t4 | F9: c4
B10: t5 | F10: c5
B11: t6 | F11: c6
B12: t7 | F12: c7
B13: t8 | F13: c8
B14: t9 | F14: c9
B15: t10 | F15: c10
B16: t11 | F16: c11
B17: t12 | F17: c12
B18: t13 | F18: c13
B19: t14 | F19: c14
B20: t15 | F20: c15
... B23: t18 | F23: c18
B24: © iManagement • dr. s.imboden • www.2iManagement.ch

Sheet Portfolio
B1: =' '!A119 -> B C G M A T R I X
B33: =' '!A67 -> Nr. | C33: =' '!A131 -> Produkt | D33: =' '!A122 -> Umsatz | E33: =' '!A123 -> Marktwachstum | F33: =' '!A121 -> Relativer Marktanteil | H33: =' '!A125 -> Bemerkungen
B34: 1 | C34: =IF(Produkte!$C$5="","",Produkte!$C$5) -> Produit 1 | D34: 1 | E34: 1 | F34: 1
B35: 2 | C35: =IF(Produkte!$C$6="","",Produkte!$C$6) -> Produit 2 | D35: 1 | E35: 3 | F35: 2
B36: 3 | C36: =IF(Produkte!$C$7="","",Produkte!$C$7)
B37: 4 | C37: =IF(Produkte!$C$8="","",Produkte!$C$8)
B38: 5 | C38: =IF(Produkte!$C$9="","",Produkte!$C$9)
B39: 6 | C39: =IF(Produkte!$C$10="","",Produkte!$C$10)
B40: 7 | C40: =IF(Produkte!$C$11="","",Produkte!$C$11)
B41: 8 | C41: =IF(Produkte!$C$12="","",Produkte!$C$12)
B42: 9 | C42: =IF(Produkte!$C$13="","",Produkte!$C$13)
B43: 10 | C43: =IF(Produkte!$C$14="","",Produkte!$C$14)
B44: © iManagement • dr. s.imboden • www.2iManagement.ch
B47: =' '!A134 -> M c K I N S E Y P O R T F O L I O
B50: =' '!A67 -> Nr. | C50: =' '!A131 -> Produkt | D50: =' '!A122 -> Umsatz | E50: =' '!A137 -> Wettbewerbs-position | F50: =' '!A135 -> Markt-attraktivität | H50: =' '!A125 -> Bemerkungen
B51: 1 | C51: =IF(Produkte!$C$5="","",Produkte!$C$5) -> Produit 1 | D51: 1 | E51: 3 | F51: 3
B52: 2 | C52: =IF(Produkte!$C$6="","",Produkte!$C$6) -> Produit 2 | D52: 1 | E52: 6 | F52: 4
B53: 3 | C53: =IF(Produkte!$C$7="","",Produkte!$C$7)
B54: 4 | C54: =IF(Produkte!$C$8="","",Produkte!$C$8)
B55: 5 | C55: =IF(Produkte!$C$9="","",Produkte!$C$9)
B56: 6 | C56: =IF(Produkte!$C$10="","",Produkte!$C$10)
B57: 7 | C57: =IF(Produkte!$C$11="","",Produkte!$C$11)
B58: 8 | C58: =IF(Produkte!$C$12="","",Produkte!$C$12)
B59: 9 | C59: =IF(Produkte!$C$13="","",Produkte!$C$13)
B60: 10 | C60: =IF(Produkte!$C$14="","",Produkte!$C$14)
B61: © iManagement • dr. s.imboden • www.2iManagement.ch

Sheet Lebenszyklus
B1: =' '!A519 -> P R O D U K T - L E B E N S Z Y K L U S
C34: © iManagement • dr. s.imboden • www.2iManagement.ch

Sheet Kommunikation
B1: =' '!A589 -> K O M M U N I K A T I O N
A4: x!A192
B7: =' '!A590 -> Werbung
B8: =' '!$A$156 -> Nr. | C8: =' '!A169 -> Bezeichnung | D8: =' '!$A$358 -> in % | E8: =' '!A160 -> Hauptstärken | F8: =' '!A161 -> Hauptschwächen | G8: =' '!A599 -> Impact | H8: =' '!A170 -> Bemerkungen | I8: =' '!$A$166 -> Status
B9: 1 | G9: 3 | I9: 2 | J9: =IF(G9=0,0.1,G9) -> 3
B10: 2 | G10: 4 | J10: =IF(G10=0,0.1,G10) -> 4
B11: 3 | G11: 3 | J11: =IF(G11=0,0.1,G11) -> 3
B12: 4 | J12: =IF(G12=0,0.1,G12) -> 0.1
B13: 5 | J13: =IF(G13=0,0.1,G13) -> 0.1
B14: 6 | J14: =IF(G14=0,0.1,G14) -> 0.1
B15: 7 | J15: =IF(G15=0,0.1,G15) -> 0.1
B16: 8 | J16: =IF(G16=0,0.1,G16) -> 0.1
B17: 9 | J17: =IF(G17=0,0.1,G17) -> 0.1
B18: 10 | J18: =IF(G18=0,0.1,G18) -> 0.1
C19: TOTAL | D19: =SUM(D9:D18) -> 0
B21: =' '!A598 -> Verkaufsförderung
B22: =' '!$A$156 -> Nr. | C22: =$C$8 -> Bezeichnung | D22: =' '!$A$358 -> in % | E22: =$E$8 -> Hauptstärken | F22: =$F$8 -> Hauptschwächen | G22: =$G$8 -> Impact | H22: =H8 -> Bemerkungen | I22: =' '!$A$166 -> Status
B23: 1 | D23: 0.8 | G23: 3 | I23: 2 | J23: =IF(G23=0,0.1,G23) -> 3
B24: 2 | D24: 0.01 | G24: 2 | J24: =IF(G24=0,0.1,G24) -> 2
B25: 3 | D25: 0.03 | G25: 4 | J25: =IF(G25=0,0.1,G25) -> 4
B26: 4 | D26: 0.02 | G26: 3 | J26: =IF(G26=0,0.1,G26) -> 3
B27: 5 | D27: 0.05 | G27: 2 | J27: =IF(G27=0,0.1,G27) -> 2
B28: 6 | D28: 0.05 | G28: 3 | J28: =IF(G28=0,0.1,G28) -> 3
B29: 7 | D29: 0.02 | G29: 3 | J29: =IF(G29=0,0.1,G29) -> 3
B30: 8 | D30: 0.02 | G30: 3 | J30: =IF(G30=0,0.1,G30) -> 3
B31: 9 | G31: 2 | J31: =IF(G31=0,0.1,G31) -> 2
B32: 10 | G32: 2 | J32: =IF(G32=0,0.1,G32) -> 2
C33: TOTAL | D33: =SUM(D23:D32) -> 1
B35: =' '!A592 -> Pers. Verkauf
B36: =' '!$A$156 -> Nr. | C36: =$C$8 -> Bezeichnung | D36: =' '!$A$358 -> in % | E36: =$E$8 -> Hauptstärken | F36: =$F$8 -> Hauptschwächen | G36: =$G$8 -> Impact | H36: =H22 -> Bemerkungen | I36: =' '!$A$166 -> Status
B37: 1 | G37: 3 | I37: 2 | J37: =IF(G37=0,0.1,G37) -> 3
B38: 2 | G38: 1 | J38: =IF(G38=0,0.1,G38) -> 1
B39: 3 | J39: =IF(G39=0,0.1,G39) -> 0.1
B40: 4 | J40: =IF(G40=0,0.1,G40) -> 0.1
B41: 5 | J41: =IF(G41=0,0.1,G41) -> 0.1
B42: 6 | J42: =IF(G42=0,0.1,G42) -> 0.1
B43: 7 | J43: =IF(G43=0,0.1,G43) -> 0.1
B44: 8 | J44: =IF(G44=0,0.1,G44) -> 0.1
B45: 9 | J45: =IF(G45=0,0.1,G45) -> 0.1
B46: 10 | J46: =IF(G46=0,0.1,G46) -> 0.1
...

Sheet Matrix
B1: =' '!A626 -> V E R G L E I C H S - M A T R I X
D4: =E15 -> ? | E4: =G15 -> ? | F4: =I15 -> ? | G4: =K15 -> ? | H4: =M15 -> ? | I4: =O15 -> ?
C5: =IF(C24<>"",C24,"") -> Kriterium 8 | D5: =IF(C24<>"",F24,"") -> 20 | E5: =IF(C24<>"",H24,"") -> 20 | F5: =IF(C24<>"",J24,"") -> 20 | G5: =IF(C24<>"",L24,"") -> 20 | H5: =IF(C24<>"",N24,"") -> 20 | I5: =IF(C24<>"",P24,"") -> 50
C6: =IF(C23<>"",C23,"") -> Kriterium 7 | D6: =IF(C23<>"",F23,"") -> 56 | E6: =IF(C23<>"",H23,"") -> 21 | F6: =IF(C23<>"",J23,"") -> 21 | G6: =IF(C23<>"",L23,"") -> 21 | H6: =IF(C23<>"",N23,"") -> 21 | I6: =IF(C23<>"",P23,"") -> 63
C7: =IF(C22<>"",C22,"") -> Kriterium 6 | D7: =IF(C22<>"",F22,"") -> 35 | E7: =IF(C22<>"",H22,"") -> 30 | F7: =IF(C22<>"",J22,"") -> 35 | G7: =IF(C22<>"",L22,"") -> 30 | H7: =IF(C22<>"",N22,"") -> 30 | I7: =IF(C22<>"",P22,"") -> 30
C8: =IF(C21<>"",C21,"") -> Kriterium 5 | D8: =IF(C21<>"",F21,"") -> 16 | E8: =IF(C21<>"",H21,"") -> 16 | F8: =IF(C21<>"",J21,"") -> 16 | G8: =IF(C21<>"",L21,"") -> 16 | H8: =IF(C21<>"",N21,"") -> 16 | I8: =IF(C21<>"",P21,"") -> 16
C9: =IF(C20<>"",C20,"") -> Kriterium 4 | D9: =IF(C20<>"",F20,"") -> 81 | E9: =IF(C20<>"",H20,"") -> 81 | F9: =IF(C20<>"",J20,"") -> 54 | G9: =IF(C20<>"",L20,"") -> 36 | H9: =IF(C20<>"",N20,"") -> 9 | I9: =IF(C20<>"",P20,"") -> 18
C10: =IF(C19<>"",C19,"") -> Kriterium 3 | D10: =IF(C19<>"",F19,"") -> 25 | E10: =IF(C19<>"",H19,"") -> 25 | F10: =IF(C19<>"",J19,"") -> 25 | G10: =IF(C19<>"",L19,"") -> 25 | H10: =IF(C19<>"",N19,"") -> 25 | I10: =IF(C19<>"",P19,"") -> 25
A11: x!A192 | C11: =IF(C18<>"",C18,"") -> Kriterium 2 | D11: =IF(C18<>"",F18,"") -> 25 | E11: =IF(C18<>"",H18,"") -> 25 | F11: =IF(C18<>"",J18,"") -> 25 | G11: =IF(C18<>"",L18,"") -> 25 | H11: =IF(C18<>"",N18,"") -> 25 | I11: =IF(C18<>"",P18,"") -> 25
C12: =IF(C17<>"",C17,"") -> Kriterium 1 | D12: =IF(C17<>"",F17,"") -> 100 | E12: =IF(C17<>"",H17,"") -> 40 | F12: =IF(C17<>"",J17,"") -> 40 | G12: =IF(C17<>"",L17,"") -> 40 | H12: =IF(C17<>"",N17,"") -> 40 | I12: =IF(C17<>"",P17,"") -> 40
B15: =' '!$A$156 -> Nr. | D15: =' '!A629 -> Gewichtung | E15: ? | G15: ? | I15: ? | K15: ? | M15: ? | O15: ?
E16: =' '!A630 -> Bewertung | F16: =' '!A631 -> Total | G16: =E16 -> Bewertung | H16: =F16 -> Total | I16: =E16 -> Bewertung | J16: =F16 -> Total | K16: =E16 -> Bewertung | L16: =F16 -> Total | M16: =E16 -> Bewertung | N16: =F16 -> Total | O16: =E16 -> Bewertung | P16: =F16 -> Total
B17: 1 | C17: Kriterium 1 | D17: 10 | E17: 10 | F17: =E17*D17 -> 100 | G17: 4 | H17: =D17*G17 -> 40 | I17: 4 | J17: =D17*I17 -> 40 | K17: 4 | L17: =D17*K17 -> 40 | M17: 4 | N17: =D17*M17 -> 40 | O17: 4 | P17: =D17*O17 -> 40
B18: 2 | C18: Kriterium 2 | D18: 5 | E18: 5 | F18: =E18*D18 -> 25 | G18: 5 | H18: =D18*G18 -> 25 | I18: 5 | J18: =D18*I18 -> 25 | K18: 5 | L18: =D18*K18 -> 25 | M18: 5 | N18: =D18*M18 -> 25 | O18: 5 | P18: =D18*O18 -> 25
B19: 3 | C19: Kriterium 3 | D19: 5 | E19: 5 | F19: =E19*D19 -> 25 | G19: 5 | H19: =D19*G19 -> 25 | I19: 5 | J19: =D19*I19 -> 25 | K19: 5 | L19: =D19*K19 -> 25 | M19: 5 | N19: =D19*M19 -> 25 | O19: 5 | P19: =D19*O19 -> 25
B20: 4 | C20: Kriterium 4 | D20: 9 | E20: 9 | F20: =E20*D20 -> 81 | G20: 9 | H20: =D20*G20 -> 81 | I20: 6 | J20: =D20*I20 -> 54 | K20: 4 | L20: =D20*K20 -> 36 | M20: 1 | N20: =D20*M20 -> 9 | O20: 2 | P20: =D20*O20 -> 18
B21: 5 | C21: Kriterium 5 | D21: 4 | E21: 4 | F21: =E21*D21 -> 16 | G21: 4 | H21: =D21*G21 -> 16 | I21: 4 | J21: =D21*I21 -> 16 | K21: 4 | L21: =D21*K21 -> 16 | M21: 4 | N21: =D21*M21 -> 16 | O21: 4 | P21: =D21*O21 -> 16
B22: 6 | C22: Kriterium 6 | D22: 5 | E22: 7 | F22: =E22*D22 -> 35 | G22: 6 | H22: =D22*G22 -> 30 | I22: 7 | J22: =D22*I22 -> 35 | K22: 6 | L22: =D22*K22 -> 30 | M22: 6 | N22: =D22*M22 -> 30 | O22: 6 | P22: =D22*O22 -> 30
B23: 7 | C23: Kriterium 7 | D23: 7 | E23: 8 | F23: =E23*D23 -> 56 | G23: 3 | H23: =D23*G23 -> 21 | I23: 3 | J23: =D23*I23 -> 21 | K23: 3 | L23: =D23*K23 -> 21 | M23: 3 | N23: =D23*M23 -> 21 | O23: 9 | P23: =D23*O23 -> 63
B24: 8 | C24: Kriterium 8 | D24: 5 | E24: 4 | F24: =E24*D24 -> 20 | G24: 4 | H24: =D24*G24 -> 20 | I24: 4 | J24: =D24*I24 -> 20 | K24: 4 | L24: =D24*K24 -> 20 | M24: 4 | N24: =D24*M24 -> 20 | O24: 10 | P24: =D24*O24 -> 50
C25: =' '!A631 -> Total | F25: =SUM(F17:F24) -> 358 | H25: =SUM(H17:H24) -> 258 | J25: =SUM(J17:J24) -> 236 | L25: =SUM(L17:L24) -> 213 | N25: =SUM(N17:N24) -> 186 | P25: =SUM(P17:P24) -> 267
