Workbook
Name __10: oIndikatoren!$A$113
Name __11: oIndikatoren!$A$125
Name __12: oIndikatoren!$A$137
Name __13: oIndikatoren!$A$149
Name __14: oIndikatoren!$A$161
Name __15: oIndikatoren!$A$173
Name __16: oIndikatoren!$A$185
Name __17: oIndikatoren!$A$197
Name __18: oIndikatoren!$A$209
Name __19: oIndikatoren!$A$221
Name __20: oIndikatoren!$A$233
Name __21: oIndikatoren!$A$245
Name __22: oIndikatoren!$A$257
Name __23: oIndikatoren!$A$269
Name __24: oIndikatoren!$A$281
Name __25: oIndikatoren!$A$293
Name __26: oIndikatoren!$A$305
Name __27: oIndikatoren!$A$317
Name __28: oIndikatoren!$A$329
Name __29: oIndikatoren!$A$341
Name __30: oIndikatoren!$A$353
Name __31: oIndikatoren!$A$365
Name __32: oIndikatoren!$A$377
Name __33: oIndikatoren!$A$389
Name __34: oIndikatoren!$A$401
Name __35: oIndikatoren!$A$413
Name __36: oIndikatoren!$A$425
Name __37: oIndikatoren!$A$437
Name __38: oIndikatoren!$A$449
Name __39: oIndikatoren!$A$461
Name __40: oIndikatoren!$A$473
Name __41: oIndikatoren!$A$485
Name __42: oIndikatoren!$A$497
Name __43: oIndikatoren!$A$509
Name __44: oIndikatoren!$A$521
Name __45: oIndikatoren!$A$533
Name __46: oIndikatoren!$A$545
Name __47: oIndikatoren!$A$557
Name __48: oIndikatoren!$A$569
Name __49: oIndikatoren!$A$581
Name __50: oIndikatoren!$A$593
Name __51: oIndikatoren!$A$605
Name __52: oIndikatoren!$A$617
Name __53: oIndikatoren!$A$629
Name __54: oIndikatoren!$A$641
Name __55: oIndikatoren!$A$653
Name __56: oIndikatoren!$A$665
Name __57: oIndikatoren!$A$677
Name __58: oIndikatoren!$A$689
Name __59: oIndikatoren!$A$701
Name __60: oIndikatoren!$A$713
Name __61: oIndikatoren!$A$725
Name __62: oIndikatoren!$A$737
Name __63: oIndikatoren!$A$749
Name __64: oIndikatoren!$A$761
Name __65: oIndikatoren!$A$773
Name __66: oIndikatoren!$A$785
Name __67: oIndikatoren!$A$797
Name __68: oIndikatoren!$A$809
Name __69: oIndikatoren!$A$821

Sheet  
A1: =OFFSET($C1,0,$Z$5-1) -> Français | C1: Deutsch | D1: Français | E1: English | F1: Italiano
A2: Aktuelle Sprache | C2: Sprache 1 | D2: Sprache 2 | E2: Sprache 3 | F2: Sprache 4 | G2: Sprache 5
A3: Aktuell angezeigte Sprache | C3: Deutsch | D3: Français | E3: English | F3: Italiano | G3: 5_???
B4: 2 | Z4: 55153
A5: =OFFSET($C5,0,$Z$5-1) -> G E S T I O N D E L ' I N N O V A T I O N | C5: I N N O V A T I O N S M A N A G E M E N T | D5: G E S T I O N D E L ' I N N O V A T I O N | E5: I N N O V A T I O N M A N A G E M E N T | G5: contact info@2imanagement.ch | Z5: =IF(AND('Menu Innovation'!C35="© iManagement • s.imboden • www.2iManagement.ch", TODAY()<=$Z$4), $B$4,5) -> 2
A6: =OFFSET($C6,0,$Z$5-1) -> Vision stratégies | C6: Vision & Strategien | D6: Vision stratégies | E6: Vision and strategies | G6: contact info@2imanagement.ch | Z6: Deutsch
A7: =OFFSET($C7,0,$Z$5-1) -> Phase d'exploration | C7: Explorationsphase | D7: Phase d'exploration | E7: Explorative phase | G7: contact info@2imanagement.ch | Z7: Français
A8: =OFFSET($C8,0,$Z$5-1) -> Phase créative | C8: Kreativphase | D8: Phase créative | E8: Creative phase | G8: contact info@2imanagement.ch | Z8: English
A9: =OFFSET($C9,0,$Z$5-1) -> Phase de l'innovation | C9: Innovationsphase | D9: Phase de l'innovation | E9: Innovation phase | G9: contact info@2imanagement.ch | Z9: Italiano
A10: =OFFSET($C10,0,$Z$5-1) -> Analyse | C10: Analyse | D10: Analyse | E10: Analysis | G10: contact info@2imanagement.ch
A11: =OFFSET($C11,0,$Z$5-1) -> Stratégies d'innovation | C11: Innovationsstrategien | D11: Stratégies d'innovation | E11: Innovation strategies | G11: contact info@2imanagement.ch
A12: =OFFSET($C12,0,$Z$5-1) -> Gestion des idées | C12: Ideenmanagement | D12: Gestion des idées | E12: Ideas management | G12: contact info@2imanagement.ch
A13: =OFFSET($C13,0,$Z$5-1) -> Objectifs & stratégies | C13: Ziele & Strategien | D13: Objectifs & stratégies | E13: Goals & strategies | G13: contact info@2imanagement.ch
A14: =OFFSET($C14,0,$Z$5-1) -> Business Plan | C14: Business Plan | D14: Business Plan | E14: Business Plan | G14: contact info@2imanagement.ch
A15: =OFFSET($C15,0,$Z$5-1) -> Réalisation & Controlling | C15: Umsetzung & Controlling | D15: Réalisation & Controlling | E15: Implementation & Controlling | G15: contact info@2imanagement.ch
A16: =OFFSET($C16,0,$Z$5-1) -> CULTURE D'INNOVATION | C16: INNOVATIONSKULTUR | D16: CULTURE D'INNOVATION | E16: Innovation culture | G16: contact info@2imanagement.ch
A17: =OFFSET($C17,0,$Z$5-1) -> Parties prenantes | C17: Stakeholder | D17: Parties prenantes | E17: Stakeholder | G17: contact info@2imanagement.ch
A18: =OFFSET($C18,0,$Z$5-1) -> Produits | C18: Produkte | D18: Produits | E18: Products | G18: contact info@2imanagement.ch
A19: =OFFSET($C19,0,$Z$5-1) -> Processus | C19: Prozesse | D19: Processus | E19: Processes | G19: contact info@2imanagement.ch
A20: =OFFSET($C20,0,$Z$5-1) -> Analyse des erreurs | C20: Fehleranalyse | D20: Analyse des erreurs | E20: Error analysis | G20: contact info@2imanagement.ch
A21: =OFFSET($C21,0,$Z$5-1) -> Causes et effets | C21: Ursache - Wirkung | D21: Causes et effets | E21: Cause - effect | G21: contact info@2imanagement.ch
... A47: =OFFSET($C47,0,$Z$5-1) -> Consumer Trend Canvas | C47: Consumer Trend Canvas | D47: Consumer Trend Canvas | E47: Consumer Trend Canvas | G47: contact info@2imanagement.ch
A48: =OFFSET($C48,0,$Z$5-1) -> Créativité | C48: Kreativität | D48: Créativité | E48: Creativity
A49: =OFFSET($C49,0,$Z$5-1) -> Intéligence créative | C49: Kreative Intelligenz | D49: Intéligence créative | E49: Creative intelligence
A50: =OFFSET($C50,0,$Z$5-1) -> Votre logo: | C50: Ihr Logo: | D50: Votre logo: | E50: Your logo: | F50: Vostro logo:
A51: =OFFSET($C51,0,$Z$5-1) -> T E N D A N C E S D E D É V E L O P P E M E N T | C51: E N T W I C K L U N G S T R E N D S | D51: T E N D A N C E S D E D É V E L O P P E M E N T | E51: D E V E L O P M E N T T R E N D S | G51: contact info@2imanagement.ch
A52: =OFFSET($C52,0,$Z$5-1) -> Tendances politiques | C52: Politische Trends | D52: Tendances politiques | E52: Political trends | G52: contact info@2imanagement.ch
A53: =OFFSET($C53,0,$Z$5-1) -> No. | C53: Nr. | D53: No. | E53: No. | G53: contact info@2imanagement.ch
A54: =OFFSET($C54,0,$Z$5-1) -> Facteurs d'influence | C54: Einflussfaktoren | D54: Facteurs d'influence | E54: Influencing factors | G54: contact info@2imanagement.ch
A55: =OFFSET($C55,0,$Z$5-1) -> Impact sur l'innovation | C55: Auswirkungen auf die Innovation | D55: Impact sur l'innovation | E55: Impact on innovation | G55: contact info@2imanagement.ch
A56: =OFFSET($C56,0,$Z$5-1) -> Intensité de l'impact | C56: Stärke der Auswirkungen | D56: Intensité de l'impact | E56: Strength of impact | G56: contact info@2imanagement.ch
A57: =OFFSET($C57,0,$Z$5-1) -> Ten- dance | C57: Trend | D57: Ten- dance | E57: Trend | G57: contact info@2imanagement.ch
A58: =OFFSET($C58,0,$Z$5-1) -> Mesures / innovations possibles | C58: Mögliche Massnahmen / Innovationen | D58: Mesures / innovations possibles | E58: Possible measures / innovations | G58: contact info@2imanagement.ch
A59: =OFFSET($C59,0,$Z$5-1) -> Statut | C59: Status | D59: Statut | E59: Status | G59: contact info@2imanagement.ch
A60: =OFFSET($C60,0,$Z$5-1) -> Tendances économiques | C60: Ökonomische Trends | D60: Tendances économiques | E60: Economic trends | G60: contact info@2imanagement.ch
A61: =OFFSET($C61,0,$Z$5-1) -> Tendances sociologiques | C61: Soziologische Trends | D61: Tendances sociologiques | E61: Sociological trends | G61: contact info@2imanagement.ch
A62: =OFFSET($C62,0,$Z$5-1) -> Tendances technologiques | C62: Technologische Trends | D62: Tendances technologiques | E62: Technological trends | G62: contact info@2imanagement.ch
... A64: =OFFSET($C64,0,$Z$5-1) -> Tendances légales | C64: Rechtliche Trends | D64: Tendances légales | E64: Legal trends | G64: contact info@2imanagement.ch
A65: =OFFSET($C65,0,$Z$5-1) -> P O T E N T I E L D ' I N N O V A T I O N | C65: I N N O V A T I O N S P O T E N Z I A L | D65: P O T E N T I E L D ' I N N O V A T I O N | E65: P O T E N T I A L A N A L Y S I S | F65: A N A L I S I D E L P O T E N Z I A L E | G65: contact info@2imanagement.ch
A66: =OFFSET($C66,0,$Z$5-1) -> Avantage | C66: Vorteil | D66: Avantage | E66: Advantage | F66: Vantaggio | G66: contact info@2imanagement.ch
...

Sheet Menu Innovation
C1: =' '!A5 -> G E S T I O N D E L ' I N N O V A T I O N
C35: © iManagement • s.imboden • www.2iManagement.ch | M35: V1.4.2

Sheet Analyse
B1: =' '!A342 -> A N A L Y S E
B27: © iManagement • s.imboden • www.2iManagement.ch

Sheet IdeenMgmt
B1: =' '!A318 -> G E S T I O N D E S I D É E S
B27: © iManagement • s.imboden • www.2iManagement.ch

Sheet Umsetzung
B1: =' '!A404 -> R É A L I S A T I O N & C O N T R O L L I N G
B27: © iManagement • s.imboden • www.2iManagement.ch

Sheet Produkte
B1: =' '!A143 -> P R O D U I T S & P R E S T A T I O N S C L É
B4: =' '!A152 -> No. | C4: =' '!A144 -> Produit/Prestations de service | D4: =' '!A147 -> USP | E4: =' '!A148 -> Demande | F4: =' '!A149 -> Chiffre d'affaire | G4: =' '!A151 -> Stratégie d'innovation possible | H4: =' '!A154 -> Statut
B5: P1 | C5: Produit 1 | D5: 3 | E5: 6 | F5: 1 | H5: 2 | I5: =IF(F5=3,3, IF(F5=2,2,1)) -> 1
B6: P2 | C6: Produit2 | D6: 8 | E6: 9 | F6: 2 | I6: =IF(F6=3,3, IF(F6=2,2,1)) -> 2
B7: P3 | C7: Produit 3 | I7: =IF(F7=3,3, IF(F7=2,2,1)) -> 1
B8: P4 | C8: Produit 4 | I8: =IF(F8=3,3, IF(F8=2,2,1)) -> 1
B9: P5 | C9: Produit 5 | I9: =IF(F9=3,3, IF(F9=2,2,1)) -> 1
B10: © iManagement • s.imboden • www.2iManagement.ch
G36: =CONCATENATE(" ",B5," ",C5) -> P1 Produit 1
G37: =CONCATENATE(" ",B6," ",C6) -> P2 Produit2
G38: =CONCATENATE(" ",B7," ",C7) -> P3 Produit 3
G39: =CONCATENATE(" ",B8," ",C8) -> P4 Produit 4
G40: =CONCATENATE(" ",B9," ",C9) -> P5 Produit 5

Sheet Prozesse
B1: =' '!A405 -> A N A L Y S E D E S P R O C E S S U S
B2: =' '!A399 -> du: | C2: 41640 | D2: =' '!A400 -> au: | E2: 42004
B4: =' '!A349 -> Ranking | C4: =' '!A406 -> Processus | D4: =' '!A408 -> Nbr. amélio. | E4: =' '!A407 -> Améliorations | F4: =' '!A412 -> Plus-value pour clients | G4: =' '!A409 -> Date | H4: =' '!A397 -> Statut
B5: =IF(D5="","",RANK(D5,D$5:D$24)+COUNTIF(D$5:D5,D5)-1) -> 20 | C5: Process 1 | D5: 2 | F5: 2 | G5: 41275 | H5: 2
B6: =IF(D6="","",RANK(D6,D$5:D$24)+COUNTIF(D$5:D6,D6)-1) -> 19 | C6: Process 2 | D6: 3 | F6: 6
B7: =IF(D7="","",RANK(D7,D$5:D$24)+COUNTIF(D$5:D7,D7)-1) -> 18 | C7: Process 3 | D7: 5 | F7: 10
B8: =IF(D8="","",RANK(D8,D$5:D$24)+COUNTIF(D$5:D8,D8)-1) -> 2 | C8: Process 4 | D8: 9
B9: =IF(D9="","",RANK(D9,D$5:D$24)+COUNTIF(D$5:D9,D9)-1) -> 4 | C9: Process 5 | D9: 6
B10: =IF(D10="","",RANK(D10,D$5:D$24)+COUNTIF(D$5:D10,D10)-1) -> 1 | C10: Process 6 | D10: 10
B11: =IF(D11="","",RANK(D11,D$5:D$24)+COUNTIF(D$5:D11,D11)-1) -> 5 | C11: Process 7 | D11: 6
B12: =IF(D12="","",RANK(D12,D$5:D$24)+COUNTIF(D$5:D12,D12)-1) -> 6 | C12: Process 8 | D12: 6
B13: =IF(D13="","",RANK(D13,D$5:D$24)+COUNTIF(D$5:D13,D13)-1) -> 7 | C13: Process 9 | D13: 6
B14: =IF(D14="","",RANK(D14,D$5:D$24)+COUNTIF(D$5:D14,D14)-1) -> 8 | C14: Process 10 | D14: 6
B15: =IF(D15="","",RANK(D15,D$5:D$24)+COUNTIF(D$5:D15,D15)-1) -> 9 | C15: Process 11 | D15: 6
B16: =IF(D16="","",RANK(D16,D$5:D$24)+COUNTIF(D$5:D16,D16)-1) -> 10 | C16: Process 12 | D16: 6
B17: =IF(D17="","",RANK(D17,D$5:D$24)+COUNTIF(D$5:D17,D17)-1) -> 11 | C17: Process 13 | D17: 6
B18: =IF(D18="","",RANK(D18,D$5:D$24)+COUNTIF(D$5:D18,D18)-1) -> 12 | C18: Process 14 | D18: 6
B19: =IF(D19="","",RANK(D19,D$5:D$24)+COUNTIF(D$5:D19,D19)-1) -> 3 | C19: Process 15 | D19: 8
... B24: =IF(D24="","",RANK(D24,D$5:D$24)+COUNTIF(D$5:D24,D24)-1) -> 17 | C24: Process 20 | D24: 6
B25: © iManagement • s.imboden • www.2iManagement.ch
B28: Pareto X Axis | C28: Bars | D28: Ordered Rank | E28: Percentage
B29: =IF(D5="","",INDEX($B$5:$D$24,MATCH(D29,$B$5:$B$24,0),2)) -> Process 6 | C29: =IF(D5="","",INDEX($B$5:$D$24,MATCH(D29,$B$5:$B$24,0),3)) -> 10 | D29: 1 | E29: =IF(C29="","",C29/SUM($C$29:$C$48)) -> 0.082644628
B30: =IF(D6="","",INDEX($B$5:$D$24,MATCH(D30,$B$5:$B$24,0),2)) -> Process 4 | C30: =IF(D6="","",INDEX($B$5:$D$24,MATCH(D30,$B$5:$B$24,0),3)) -> 9 | D30: 2 | E30: =IF(C30="","",(C30/SUM($C$29:$C$48)+E29)) -> 0.15702479
B31: =IF(D7="","",INDEX($B$5:$D$24,MATCH(D31,$B$5:$B$24,0),2)) -> Process 15 | C31: =IF(D7="","",INDEX($B$5:$D$24,MATCH(D31,$B$5:$B$24,0),3)) -> 8 | D31: 3 | E31: =IF(C31="","",(C31/SUM($C$29:$C$48)+E30)) -> 0.2231405
B32: =IF(D8="","",INDEX($B$5:$D$24,MATCH(D32,$B$5:$B$24,0),2)) -> Process 5 | C32: =IF(D8="","",INDEX($B$5:$D$24,MATCH(D32,$B$5:$B$24,0),3)) -> 6 | D32: 4 | E32: =IF(C32="","",(C32/SUM($C$29:$C$48)+E31)) -> 0.27272727
B33: =IF(D9="","",INDEX($B$5:$D$24,MATCH(D33,$B$5:$B$24,0),2)) -> Process 7 | C33: =IF(D9="","",INDEX($B$5:$D$24,MATCH(D33,$B$5:$B$24,0),3)) -> 6 | D33: 5 | E33: =IF(C33="","",(C33/SUM($C$29:$C$48)+E32)) -> 0.32231405
B34: =IF(D10="","",INDEX($B$5:$D$24,MATCH(D34,$B$5:$B$24,0),2)) -> Process 8 | C34: =IF(D10="","",INDEX($B$5:$D$24,MATCH(D34,$B$5:$B$24,0),3)) -> 6 | D34: 6 | E34: =IF(C34="","",(C34/SUM($C$29:$C$48)+E33)) -> 0.37190083
B35: =IF(D11="","",INDEX($B$5:$D$24,MATCH(D35,$B$5:$B$24,0),2)) -> Process 9 | C35: =IF(D11="","",INDEX($B$5:$D$24,MATCH(D35,$B$5:$B$24,0),3)) -> 6 | D35: 7 | E35: =IF(C35="","",(C35/SUM($C$29:$C$48)+E34)) -> 0.4214876
B36: =IF(D12="","",INDEX($B$5:$D$24,MATCH(D36,$B$5:$B$24,0),2)) -> Process 10 | C36: =IF(D12="","",INDEX($B$5:$D$24,MATCH(D36,$B$5:$B$24,0),3)) -> 6 | D36: 8 | E36: =IF(C36="","",(C36/SUM($C$29:$C$48)+E35)) -> 0.47107438
B37: =IF(D13="","",INDEX($B$5:$D$24,MATCH(D37,$B$5:$B$24,0),2)) -> Process 11 | C37: =IF(D13="","",INDEX($B$5:$D$24,MATCH(D37,$B$5:$B$24,0),3)) -> 6 | D37: 9 | E37: =IF(C37="","",(C37/SUM($C$29:$C$48)+E36)) -> 0.52066116
B38: =IF(D14="","",INDEX($B$5:$D$24,MATCH(D38,$B$5:$B$24,0),2)) -> Process 12 | C38: =IF(D14="","",INDEX($B$5:$D$24,MATCH(D38,$B$5:$B$24,0),3)) -> 6 | D38: 10 | E38: =IF(C38="","",(C38/SUM($C$29:$C$48)+E37)) -> 0.57024793
B39: =IF(D15="","",INDEX($B$5:$D$24,MATCH(D39,$B$5:$B$24,0),2)) -> Process 13 | C39: =IF(D15="","",INDEX($B$5:$D$24,MATCH(D39,$B$5:$B$24,0),3)) -> 6 | D39: 11 | E39: =IF(C39="","",(C39/SUM($C$29:$C$48)+E38)) -> 0.61983471
B40: =IF(D16="","",INDEX($B$5:$D$24,MATCH(D40,$B$5:$B$24,0),2)) -> Process 14 | C40: =IF(D16="","",INDEX($B$5:$D$24,MATCH(D40,$B$5:$B$24,0),3)) -> 6 | D40: 12 | E40: =IF(C40="","",(C40/SUM($C$29:$C$48)+E39)) -> 0.66942149
B41: =IF(D17="","",INDEX($B$5:$D$24,MATCH(D41,$B$5:$B$24,0),2)) -> Process 16 | C41: =IF(D17="","",INDEX($B$5:$D$24,MATCH(D41,$B$5:$B$24,0),3)) -> 6 | D41: 13 | E41: =IF(C41="","",(C41/SUM($C$29:$C$48)+E40)) -> 0.71900826
... B48: =IF(D24="","",INDEX($B$5:$D$24,MATCH(D48,$B$5:$B$24,0),2)) -> Process 1 | C48: =IF(D24="","",INDEX($B$5:$D$24,MATCH(D48,$B$5:$B$24,0),3)) -> 2 | D48: 20 | E48: =IF(C48="","",(C48/SUM($C$29:$C$48)+E47)) -> 1

Sheet Fehler
B1: =' '!A392 -> A N A L Y S E D E S E R R E U R E S
B2: =' '!A399 -> du: | C2: 41640 | D2: =' '!A400 -> au: | E2: 42004
B4: =' '!A349 -> Ranking | C4: =' '!A394 -> Erreur | D4: =' '!A351 -> Fré-quence | E4: =' '!A393 -> Processus / Produit / Prestation de service | F4: =' '!A395 -> Raisons | G4: =' '!A396 -> Innovations possibles pour éviter les erreurs | H4: =' '!A398 -> Probabilité d'occurence | I4: =' '!A397 -> Statut
B5: =IF(D5="","",RANK(D5,D$5:D$24)+COUNTIF(D$5:D5,D5)-1) -> 5 | C5: Error 1 | D5: 15 | H5: 2 | I5: 2
B6: =IF(D6="","",RANK(D6,D$5:D$24)+COUNTIF(D$5:D6,D6)-1) -> 18 | C6: Error 2 | D6: 2 | H6: 1
B7: =IF(D7="","",RANK(D7,D$5:D$24)+COUNTIF(D$5:D7,D7)-1) -> 10 | C7: Error 3 | D7: 10
B8: =IF(D8="","",RANK(D8,D$5:D$24)+COUNTIF(D$5:D8,D8)-1) -> 15 | C8: Error 4 | D8: 5
B9: =IF(D9="","",RANK(D9,D$5:D$24)+COUNTIF(D$5:D9,D9)-1) -> 13 | C9: Error 5 | D9: 7
B10: =IF(D10="","",RANK(D10,D$5:D$24)+COUNTIF(D$5:D10,D10)-1) -> 6 | C10: Error 6 | D10: 15
B11: =IF(D11="","",RANK(D11,D$5:D$24)+COUNTIF(D$5:D11,D11)-1) -> 14 | C11: Error 7 | D11: 7
B12: =IF(D12="","",RANK(D12,D$5:D$24)+COUNTIF(D$5:D12,D12)-1) -> 2 | C12: Error 8 | D12: 80
B13: =IF(D13="","",RANK(D13,D$5:D$24)+COUNTIF(D$5:D13,D13)-1) -> 12 | C13: Error 9 | D13: 9
B14: =IF(D14="","",RANK(D14,D$5:D$24)+COUNTIF(D$5:D14,D14)-1) -> 11 | C14: Error 10 | D14: 10
B15: =IF(D15="","",RANK(D15,D$5:D$24)+COUNTIF(D$5:D15,D15)-1) -> 8 | C15: Error 11 | D15: 12
B16: =IF(D16="","",RANK(D16,D$5:D$24)+COUNTIF(D$5:D16,D16)-1) -> 9 | C16: Error 12 | D16: 12
B17: =IF(D17="","",RANK(D17,D$5:D$24)+COUNTIF(D$5:D17,D17)-1) -> 7 | C17: Error 13 | D17: 13
B18: =IF(D18="","",RANK(D18,D$5:D$24)+COUNTIF(D$5:D18,D18)-1) -> 17 | C18: Error 14 | D18: 3
... B23: =IF(D23="","",RANK(D23,D$5:D$24)+COUNTIF(D$5:D23,D23)-1) -> 16 | C23: Error 19 | D23: 5
B24: =IF(D24="","",RANK(D24,D$5:D$24)+COUNTIF(D$5:D24,D24)-1)
B25: © iManagement • s.imboden • www.2iManagement.ch
B28: Pareto X Axis | C28: Bars | D28: Ordered Rank | E28: Percentage
B29: =IF(D5="","",INDEX($B$5:$D$24,MATCH(D29,$B$5:$B$24,0),2)) -> Error 18 | C29: =IF(D5="","",INDEX($B$5:$D$24,MATCH(D29,$B$5:$B$24,0),3)) -> 86 | D29: 1 | E29: =IF(C29="","",C29/SUM($C$29:$C$48)) -> 0.21882952
B30: =IF(D6="","",INDEX($B$5:$D$24,MATCH(D30,$B$5:$B$24,0),2)) -> Error 8 | C30: =IF(D6="","",INDEX($B$5:$D$24,MATCH(D30,$B$5:$B$24,0),3)) -> 80 | D30: 2 | E30: =IF(C30="","",(C30/SUM($C$29:$C$48)+E29)) -> 0.42239186
B31: =IF(D7="","",INDEX($B$5:$D$24,MATCH(D31,$B$5:$B$24,0),2)) -> Error 17 | C31: =IF(D7="","",INDEX($B$5:$D$24,MATCH(D31,$B$5:$B$24,0),3)) -> 55 | D31: 3 | E31: =IF(C31="","",(C31/SUM($C$29:$C$48)+E30)) -> 0.56234097
B32: =IF(D8="","",INDEX($B$5:$D$24,MATCH(D32,$B$5:$B$24,0),2)) -> Error 15 | C32: =IF(D8="","",INDEX($B$5:$D$24,MATCH(D32,$B$5:$B$24,0),3)) -> 45 | D32: 4 | E32: =IF(C32="","",(C32/SUM($C$29:$C$48)+E31)) -> 0.67684478
B33: =IF(D9="","",INDEX($B$5:$D$24,MATCH(D33,$B$5:$B$24,0),2)) -> Error 1 | C33: =IF(D9="","",INDEX($B$5:$D$24,MATCH(D33,$B$5:$B$24,0),3)) -> 15 | D33: 5 | E33: =IF(C33="","",(C33/SUM($C$29:$C$48)+E32)) -> 0.71501272
B34: =IF(D10="","",INDEX($B$5:$D$24,MATCH(D34,$B$5:$B$24,0),2)) -> Error 6 | C34: =IF(D10="","",INDEX($B$5:$D$24,MATCH(D34,$B$5:$B$24,0),3)) -> 15 | D34: 6 | E34: =IF(C34="","",(C34/SUM($C$29:$C$48)+E33)) -> 0.75318066
B35: =IF(D11="","",INDEX($B$5:$D$24,MATCH(D35,$B$5:$B$24,0),2)) -> Error 13 | C35: =IF(D11="","",INDEX($B$5:$D$24,MATCH(D35,$B$5:$B$24,0),3)) -> 13 | D35: 7 | E35: =IF(C35="","",(C35/SUM($C$29:$C$48)+E34)) -> 0.78625954
B36: =IF(D12="","",INDEX($B$5:$D$24,MATCH(D36,$B$5:$B$24,0),2)) -> Error 11 | C36: =IF(D12="","",INDEX($B$5:$D$24,MATCH(D36,$B$5:$B$24,0),3)) -> 12 | D36: 8 | E36: =IF(C36="","",(C36/SUM($C$29:$C$48)+E35)) -> 0.81679389
B37: =IF(D13="","",INDEX($B$5:$D$24,MATCH(D37,$B$5:$B$24,0),2)) -> Error 12 | C37: =IF(D13="","",INDEX($B$5:$D$24,MATCH(D37,$B$5:$B$24,0),3)) -> 12 | D37: 9 | E37: =IF(C37="","",(C37/SUM($C$29:$C$48)+E36)) -> 0.84732824
B38: =IF(D14="","",INDEX($B$5:$D$24,MATCH(D38,$B$5:$B$24,0),2)) -> Error 3 | C38: =IF(D14="","",INDEX($B$5:$D$24,MATCH(D38,$B$5:$B$24,0),3)) -> 10 | D38: 10 | E38: =IF(C38="","",(C38/SUM($C$29:$C$48)+E37)) -> 0.87277354
B39: =IF(D15="","",INDEX($B$5:$D$24,MATCH(D39,$B$5:$B$24,0),2)) -> Error 10 | C39: =IF(D15="","",INDEX($B$5:$D$24,MATCH(D39,$B$5:$B$24,0),3)) -> 10 | D39: 11 | E39: =IF(C39="","",(C39/SUM($C$29:$C$48)+E38)) -> 0.89821883
B40: =IF(D16="","",INDEX($B$5:$D$24,MATCH(D40,$B$5:$B$24,0),2)) -> Error 9 | C40: =IF(D16="","",INDEX($B$5:$D$24,MATCH(D40,$B$5:$B$24,0),3)) -> 9 | D40: 12 | E40: =IF(C40="","",(C40/SUM($C$29:$C$48)+E39)) -> 0.92111959
B41: =IF(D17="","",INDEX($B$5:$D$24,MATCH(D41,$B$5:$B$24,0),2)) -> Error 5 | C41: =IF(D17="","",INDEX($B$5:$D$24,MATCH(D41,$B$5:$B$24,0),3)) -> 7 | D41: 13 | E41: =IF(C41="","",(C41/SUM($C$29:$C$48)+E40)) -> 0.9389313
... B48: =IF(D24="","",INDEX($B$5:$D$24,MATCH(D48,$B$5:$B$24,0),2)) | C48: =IF(D24="","",INDEX($B$5:$D$24,MATCH(D48,$B$5:$B$24,0),3)) | D48: 20 | E48: =IF(C48="","",(C48/SUM($C$29:$C$48)+E47))

Sheet Fishbone
B1: =' '!A346 -> D I A G R A M M E D E C A U S E S E T E F F E T S
D3: People | J3: Process | R3: Product
D5: Cause 1
E7: Cause 2
AB9: Problem
D21: Management | J21: Equipement | R21: Environement
D23: © iManagement • s.imboden • www.2iManagement.ch

Sheet Stakeholder
B1: =' '!A454 -> A N A L Y S E D E S P A R T I E S P R E N A N T E S
B4: =' '!A468 -> No. | C4: =' '!A469 -> Groupe de parties prenantes | D4: =' '!A471 -> Etendue de l'intérêt | E4: =' '!A472 -> Etendue de l'influence | F4: =' '!A470 -> Intérêt, attentes | G4: =' '!A476 -> Taille du groupe | H4: =' '!A473 -> Chances (+) et Dangers (-) | I4: =' '!A474 -> Innovations possibles | J4: =' '!A475 -> Statut
B5: s1 | C5: Groupe 1 | D5: 8.1818182 | E5: 4 | G5: 2 | J5: 1 | K5: =IF(G5=3,3, IF(G5=2,2,1)) -> 2
B6: s2 | D6: 5 | E6: 6 | G6: 1 | J6: 2 | K6: =IF(G6=3,3, IF(G6=2,2,1)) -> 1
B7: s3 | D7: 9.0909091 | E7: 8 | G7: 3 | J7: 3 | K7: =IF(G7=3,3, IF(G7=2,2,1)) -> 3
B8: s4 | K8: =IF(G8=3,3, IF(G8=2,2,1)) -> 1
B9: s5 | K9: =IF(G9=3,3, IF(G9=2,2,1)) -> 1
B10: s6 | K10: =IF(G10=3,3, IF(G10=2,2,1)) -> 1
B11: s7 | K11: =IF(G11=3,3, IF(G11=2,2,1)) -> 1
B12: s8 | K12: =IF(G12=3,3, IF(G12=2,2,1)) -> 1
B13: s9 | K13: =IF(G13=3,3, IF(G13=2,2,1)) -> 1
B14: s10 | K14: =IF(G14=3,3, IF(G14=2,2,1)) -> 1
B15: s11 | K15: =IF(G15=3,3, IF(G15=2,2,1)) -> 1
B16: s12 | K16: =IF(G16=3,3, IF(G16=2,2,1)) -> 1
B17: s13 | K17: =IF(G17=3,3, IF(G17=2,2,1)) -> 1
B18: s14 | K18: =IF(G18=3,3, IF(G18=2,2,1)) -> 1
B19: s15 | K19: =IF(G19=3,3, IF(G19=2,2,1)) -> 1
... B24: s20 | K24: =IF(G24=3,3, IF(G24=2,2,1)) -> 1
B25: © iManagement • s.imboden • www.2iManagement.ch
H28: =CONCATENATE(" ",B5," ",C5) -> s1 Groupe 1
H29: =CONCATENATE(" ",B6," ",C6) -> s2
H30: =CONCATENATE(" ",B7," ",C7) -> s3
H31: =CONCATENATE(" ",B8," ",C8) -> s4
H32: =CONCATENATE(" ",B9," ",C9) -> s5
H33: =CONCATENATE(" ",B10," ",C10) -> s6
H34: =CONCATENATE(" ",B11," ",C11) -> s7
H35: =CONCATENATE(" ",B12," ",C12) -> s8
H36: =CONCATENATE(" ",B13," ",C13) -> s9
H37: =CONCATENATE(" ",B14," ",C14) -> s10
H38: =CONCATENATE(" ",B15," ",C15) -> s11
H39: =CONCATENATE(" ",B16," ",C16) -> s12
... H47: =CONCATENATE(" ",B24," ",C24) -> s20

Sheet Reklamationen
B1: =' '!A401 -> R É C L A M A T I O N S D E S C L I E N T S
B2: =' '!A399 -> du: | C2: 41640 | D2: =' '!A400 -> au: | E2: 42004
B4: =' '!A349 -> Ranking | C4: =' '!A402 -> Réclamations | D4: =' '!A351 -> Fré-quence | E4: =' '!A393 -> Processus / Produit / Prestation de service | F4: =' '!A395 -> Raisons | G4: =' '!A403 -> Innovations possibles pour éviter les réclamations | H4: =' '!A398 -> Probabilité d'occurence | I4: =' '!A397 -> Statut
B5: =IF(D5="","",RANK(D5,D$5:D$24)+COUNTIF(D$5:D5,D5)-1) -> 5 | C5: Reklamation 1 | D5: 15 | H5: 2 | I5: 2
B6: =IF(D6="","",RANK(D6,D$5:D$24)+COUNTIF(D$5:D6,D6)-1) -> 19 | C6: Reklamation 2 | D6: 2 | H6: 6 | I6: 1
B7: =IF(D7="","",RANK(D7,D$5:D$24)+COUNTIF(D$5:D7,D7)-1) -> 10 | C7: Reklamation 3 | D7: 10
B8: =IF(D8="","",RANK(D8,D$5:D$24)+COUNTIF(D$5:D8,D8)-1) -> 15 | C8: Reklamation 4 | D8: 5
B9: =IF(D9="","",RANK(D9,D$5:D$24)+COUNTIF(D$5:D9,D9)-1) -> 13 | C9: Reklamation 5 | D9: 7
B10: =IF(D10="","",RANK(D10,D$5:D$24)+COUNTIF(D$5:D10,D10)-1) -> 6 | C10: Reklamation 6 | D10: 15
B11: =IF(D11="","",RANK(D11,D$5:D$24)+COUNTIF(D$5:D11,D11)-1) -> 14 | C11: Reklamation 7 | D11: 7
B12: =IF(D12="","",RANK(D12,D$5:D$24)+COUNTIF(D$5:D12,D12)-1) -> 2 | C12: Reklamation 8 | D12: 80
B13: =IF(D13="","",RANK(D13,D$5:D$24)+COUNTIF(D$5:D13,D13)-1) -> 12 | C13: Reklamation 9 | D13: 9
B14: =IF(D14="","",RANK(D14,D$5:D$24)+COUNTIF(D$5:D14,D14)-1) -> 11 | C14: Reklamation 10 | D14: 10
B15: =IF(D15="","",RANK(D15,D$5:D$24)+COUNTIF(D$5:D15,D15)-1) -> 8 | C15: Reklamation 11 | D15: 12
B16: =IF(D16="","",RANK(D16,D$5:D$24)+COUNTIF(D$5:D16,D16)-1) -> 9 | C16: Reklamation 12 | D16: 12
B17: =IF(D17="","",RANK(D17,D$5:D$24)+COUNTIF(D$5:D17,D17)-1) -> 7 | C17: Reklamation 13 | D17: 13
B18: =IF(D18="","",RANK(D18,D$5:D$24)+COUNTIF(D$5:D18,D18)-1) -> 17 | C18: Reklamation 14 | D18: 3
... B24: =IF(D24="","",RANK(D24,D$5:D$24)+COUNTIF(D$5:D24,D24)-1) -> 18 | C24: Reklamation 20 | D24: 3
B25: © iManagement • s.imboden • www.2iManagement.ch
B28: Pareto X Axis | C28: Bars | D28: Ordered Rank | E28: Percentage
B29: =IF(D5="","",INDEX($B$5:$D$24,MATCH(D29,$B$5:$B$24,0),2)) -> Reklamation 18 | C29: =IF(D5="","",INDEX($B$5:$D$24,MATCH(D29,$B$5:$B$24,0),3)) -> 86 | D29: 1 | E29: =IF(C29="","",C29/SUM($C$29:$C$48)) -> 0.21717172
B30: =IF(D6="","",INDEX($B$5:$D$24,MATCH(D30,$B$5:$B$24,0),2)) -> Reklamation 8 | C30: =IF(D6="","",INDEX($B$5:$D$24,MATCH(D30,$B$5:$B$24,0),3)) -> 80 | D30: 2 | E30: =IF(C30="","",(C30/SUM($C$29:$C$48)+E29)) -> 0.41919192
B31: =IF(D7="","",INDEX($B$5:$D$24,MATCH(D31,$B$5:$B$24,0),2)) -> Reklamation 17 | C31: =IF(D7="","",INDEX($B$5:$D$24,MATCH(D31,$B$5:$B$24,0),3)) -> 55 | D31: 3 | E31: =IF(C31="","",(C31/SUM($C$29:$C$48)+E30)) -> 0.55808081
B32: =IF(D8="","",INDEX($B$5:$D$24,MATCH(D32,$B$5:$B$24,0),2)) -> Reklamation 15 | C32: =IF(D8="","",INDEX($B$5:$D$24,MATCH(D32,$B$5:$B$24,0),3)) -> 45 | D32: 4 | E32: =IF(C32="","",(C32/SUM($C$29:$C$48)+E31)) -> 0.67171717
B33: =IF(D9="","",INDEX($B$5:$D$24,MATCH(D33,$B$5:$B$24,0),2)) -> Reklamation 1 | C33: =IF(D9="","",INDEX($B$5:$D$24,MATCH(D33,$B$5:$B$24,0),3)) -> 15 | D33: 5 | E33: =IF(C33="","",(C33/SUM($C$29:$C$48)+E32)) -> 0.70959596
B34: =IF(D10="","",INDEX($B$5:$D$24,MATCH(D34,$B$5:$B$24,0),2)) -> Reklamation 6 | C34: =IF(D10="","",INDEX($B$5:$D$24,MATCH(D34,$B$5:$B$24,0),3)) -> 15 | D34: 6 | E34: =IF(C34="","",(C34/SUM($C$29:$C$48)+E33)) -> 0.74747475
B35: =IF(D11="","",INDEX($B$5:$D$24,MATCH(D35,$B$5:$B$24,0),2)) -> Reklamation 13 | C35: =IF(D11="","",INDEX($B$5:$D$24,MATCH(D35,$B$5:$B$24,0),3)) -> 13 | D35: 7 | E35: =IF(C35="","",(C35/SUM($C$29:$C$48)+E34)) -> 0.78030303
B36: =IF(D12="","",INDEX($B$5:$D$24,MATCH(D36,$B$5:$B$24,0),2)) -> Reklamation 11 | C36: =IF(D12="","",INDEX($B$5:$D$24,MATCH(D36,$B$5:$B$24,0),3)) -> 12 | D36: 8 | E36: =IF(C36="","",(C36/SUM($C$29:$C$48)+E35)) -> 0.81060606
B37: =IF(D13="","",INDEX($B$5:$D$24,MATCH(D37,$B$5:$B$24,0),2)) -> Reklamation 12 | C37: =IF(D13="","",INDEX($B$5:$D$24,MATCH(D37,$B$5:$B$24,0),3)) -> 12 | D37: 9 | E37: =IF(C37="","",(C37/SUM($C$29:$C$48)+E36)) -> 0.84090909
B38: =IF(D14="","",INDEX($B$5:$D$24,MATCH(D38,$B$5:$B$24,0),2)) -> Reklamation 3 | C38: =IF(D14="","",INDEX($B$5:$D$24,MATCH(D38,$B$5:$B$24,0),3)) -> 10 | D38: 10 | E38: =IF(C38="","",(C38/SUM($C$29:$C$48)+E37)) -> 0.86616162
B39: =IF(D15="","",INDEX($B$5:$D$24,MATCH(D39,$B$5:$B$24,0),2)) -> Reklamation 10 | C39: =IF(D15="","",INDEX($B$5:$D$24,MATCH(D39,$B$5:$B$24,0),3)) -> 10 | D39: 11 | E39: =IF(C39="","",(C39/SUM($C$29:$C$48)+E38)) -> 0.89141414
B40: =IF(D16="","",INDEX($B$5:$D$24,MATCH(D40,$B$5:$B$24,0),2)) -> Reklamation 9 | C40: =IF(D16="","",INDEX($B$5:$D$24,MATCH(D40,$B$5:$B$24,0),3)) -> 9 | D40: 12 | E40: =IF(C40="","",(C40/SUM($C$29:$C$48)+E39)) -> 0.91414141
B41: =IF(D17="","",INDEX($B$5:$D$24,MATCH(D41,$B$5:$B$24,0),2)) -> Reklamation 5 | C41: =IF(D17="","",INDEX($B$5:$D$24,MATCH(D41,$B$5:$B$24,0),3)) -> 7 | D41: 13 | E41: =IF(C41="","",(C41/SUM($C$29:$C$48)+E40)) -> 0.93181818
... B48: =IF(D24="","",INDEX($B$5:$D$24,MATCH(D48,$B$5:$B$24,0),2)) -> Reklamation 16 | C48: =IF(D24="","",INDEX($B$5:$D$24,MATCH(D48,$B$5:$B$24,0),3)) -> 2 | D48: 20 | E48: =IF(C48="","",(C48/SUM($C$29:$C$48)+E47)) -> 1

Sheet Benchmark
B1: =' '!A126 -> B E N C H M A R K I N G
B3: =' '!A127 -> Statut | C3: =' '!A128 -> No. | D3: =' '!A129 -> Objets de comparaison | E3: =' '!A131 -> Nous | F3: =' '!A132 -> Concurrence | I3: =' '!A130 -> Innovations possibles
E4: l | F4: u
A5: =E5-F5 -> 1 | B5: =IF(A5>=2,1, IF(OR(A5=1,A5=-1, AND(E5=0,F5=0)),2,3)) -> 2 | C5: 1 | D5: Comparaison 1 | E5: 2 | F5: 1
A6: =E6-F6 -> -2 | B6: =IF(A6>=2,1, IF(OR(A6=1,A6=-1, AND(E6=0,F6=0)),2,3)) -> 3 | C6: 2 | D6: Comparaison 2 | E6: 1 | F6: 3
A7: =E7-F7 -> -1 | B7: =IF(A7>=2,1, IF(OR(A7=1,A7=-1, AND(E7=0,F7=0)),2,3)) -> 2 | C7: 3 | E7: 1 | F7: 2
A8: =E8-F8 -> -2 | B8: =IF(A8>=2,1, IF(OR(A8=1,A8=-1, AND(E8=0,F8=0)),2,3)) -> 3 | C8: 4 | E8: -1 | F8: 1
A9: =E9-F9 -> -4 | B9: =IF(A9>=2,1, IF(OR(A9=1,A9=-1, AND(E9=0,F9=0)),2,3)) -> 3 | C9: 5 | E9: -3 | F9: 1
A10: =E10-F10 -> 0 | B10: =IF(A10>=2,1, IF(OR(A10=1,A10=-1, AND(E10=0,F10=0)),2,3)) -> 3 | C10: 6 | E10: 1 | F10: 1
A11: =E11-F11 -> -4 | B11: =IF(A11>=2,1, IF(OR(A11=1,A11=-1, AND(E11=0,F11=0)),2,3)) -> 3 | C11: 7 | E11: -3 | F11: 1
A12: =E12-F12 -> 2 | B12: =IF(A12>=2,1, IF(OR(A12=1,A12=-1, AND(E12=0,F12=0)),2,3)) -> 1 | C12: 8 | E12: 3 | F12: 1
A13: =E13-F13 -> 0 | B13: =IF(A13>=2,1, IF(OR(A13=1,A13=-1, AND(E13=0,F13=0)),2,3)) -> 3 | C13: 9 | E13: 1 | F13: 1
A14: =E14-F14 -> -2 | B14: =IF(A14>=2,1, IF(OR(A14=1,A14=-1, AND(E14=0,F14=0)),2,3)) -> 3 | C14: 10 | E14: -1 | F14: 1
A15: =E15-F15 -> 1 | B15: =IF(A15>=2,1, IF(OR(A15=1,A15=-1, AND(E15=0,F15=0)),2,3)) -> 2 | C15: 11 | E15: 2 | F15: 1
A16: =E16-F16 -> -2 | B16: =IF(A16>=2,1, IF(OR(A16=1,A16=-1, AND(E16=0,F16=0)),2,3)) -> 3 | C16: 12 | E16: -1 | F16: 1
A17: =E17-F17 -> -1 | B17: =IF(A17>=2,1, IF(OR(A17=1,A17=-1, AND(E17=0,F17=0)),2,3)) -> 2 | C17: 13 | E17: 0 | F17: 1
A18: =E18-F18 -> -3 | B18: =IF(A18>=2,1, IF(OR(A18=1,A18=-1, AND(E18=0,F18=0)),2,3)) -> 3 | C18: 14 | E18: -2 | F18: 1
... A34: =E34-F34 -> 0 | B34: =IF(A34>=2,1, IF(OR(A34=1,A34=-1, AND(E34=0,F34=0)),2,3)) -> 2 | C34: 30 | E34: 0 | F34: 0
B35: © iManagement • s.imboden • www.2iManagement.ch

Sheet Trends
B1: =' '!A51 -> T E N D A N C E S D E D É V E L O P P E M E N T
C5: =' '!A52 -> Tendances politiques | D5: =IF(E27<>0,E27,0.1) -> 3
C6: =' '!A60 -> Tendances économiques | D6: =IF(E41<>0,E41,0.1) -> 0.1
C7: =' '!A61 -> Tendances sociologiques | D7: =IF(E55<>0,E55,0.1) -> 1
C8: =' '!A62 -> Tendances technologiques | D8: =IF(E69<>0,E69,0.1) -> 3
C9: =' '!A63 -> Tendances écologiques | D9: =IF(E83<>0,E83,0.1) -> 0.1
C10: =' '!A64 -> Tendances légales | D10: =E97 -> 0
C15: =' '!A52 -> Tendances politiques
B16: =' '!A53 -> No. | C16: =' '!A54 -> Facteurs d'influence | D16: =' '!A55 -> Impact sur l'innovation | E16: =' '!A56 -> Intensité de l'impact | F16: =' '!A57 -> Ten- dance | G16: =' '!A58 -> Mesures / innovations possibles | H16: =' '!A59 -> Statut | I16: =COUNTIF(H16:H26,1) -> 1
B17: 1 | E17: 4 | F17: 2 | H17: 1 | I17: =COUNTIF(H17:H26,2) -> 0
B18: =$B17+1 -> 2 | E18: 3 | I18: =COUNTIF(H18:H27,3) -> 0
B19: =$B18+1 -> 3 | E19: 3
B20: =$B19+1 -> 4
B21: =$B20+1 -> 5
B22: =$B21+1 -> 6
B23: =$B22+1 -> 7
B24: =$B23+1 -> 8
B25: =$B24+1 -> 9
B26: =$B25+1 -> 10
D27: =' '!A522 -> Nbr. >= 3 | E27: =COUNTIFS(E17:E26,"<=4",E17:E26,">=3") -> 3
C29: =' '!A60 -> Tendances économiques
B30: =B16 -> No. | C30: =C16 -> Facteurs d'influence | D30: =D16 -> Impact sur l'innovation | E30: =E16 -> Intensité de l'impact | F30: =F16 -> Ten- dance | G30: =G16 -> Mesures / innovations possibles | H30: =H16 -> Statut | I30: =COUNTIF(H30:H40,1) -> 0
B31: 1 | E31: 2 | F31: 1 | H31: 3 | I31: =COUNTIF(H30:H40,2) -> 1
B32: =$B31+1 -> 2 | H32: 2 | I32: =COUNTIF(H30:H41,3) -> 1
B33: =$B32+1 -> 3
B34: =$B33+1 -> 4
B35: =$B34+1 -> 5
B36: =$B35+1 -> 6
B37: =$B36+1 -> 7
B38: =$B37+1 -> 8
B39: =$B38+1 -> 9
B40: =$B39+1 -> 10
D41: =$D$27 -> Nbr. >= 3 | E41: =COUNTIFS(E31:E40,"<=4",E31:E40,">=3") -> 0
C43: =' '!A61 -> Tendances sociologiques
B44: =B16 -> No. | C44: =C16 -> Facteurs d'influence | D44: =D16 -> Impact sur l'innovation | E44: =E16 -> Intensité de l'impact | F44: =F16 -> Ten- dance | G44: =G16 -> Mesures / innovations possibles | H44: =H16 -> Statut | I44: =COUNTIF(H44:H54,1) -> 1
B45: 1 | E45: 3 | F45: 1 | H45: 1 | I45: =COUNTIF(H44:H54,2) -> 0
B46: =$B45+1 -> 2 | I46: =COUNTIF(H44:H55,3) -> 0
B47: =$B46+1 -> 3
B48: =$B47+1 -> 4
B49: =$B48+1 -> 5
...

Sheet Consumer_Trend
B1: =' '!A505 -> C O N S U M E R T R E N D C A N V A S
C3: =' '!A513 -> Trend:
B6: =' '!A506 -> Basic Needs | C6: =' '!A507 -> Drivers of Change | E6: =' '!A510 -> Innovation Potential
B23: =' '!A508 -> Emerging Consumer Expectations | C23: =' '!A509 -> Inspiration | E23: =' '!A511 -> Who
B40: © iManagement • s.imboden • www.2iManagement.ch

Sheet Potenzial
B1: =' '!A65 -> P O T E N T I E L D ' I N N O V A T I O N
B3: x!A236 | F3: =' '!A68 -> Potentiel
C5: =' '!A69 -> No. | D5: =' '!A70 -> Facteur clé | H5: =' '!A71 -> Innovations possibles
B6: =' '!A102 -> Distribution | C6: 1 | D6: =' '!A72 -> Produit, assortiment | E6: 1
C7: 2 | D7: =' '!A73 -> Prix, conditions | E7: 3
C8: 3 | D8: =' '!A74 -> Part du marché, croissance, structure | E8: 2
C9: 4 | D9: =' '!A75 -> Nom de marque, image de marque | E9: 0
C10: 5 | D10: =' '!A76 -> Organisation de la distribution | E10: 0
C11: 6 | D11: =' '!A77 -> Service clients | E11: 0
C12: 7 | D12: =' '!A78 -> Délais de livraison, respect des délais, fiabilité | E12: 0
B13: =' '!A103 -> Production | C13: 8 | D13: =' '!A79 -> Qualité | E13: 0
C14: 9 | D14: =' '!A80 -> Niveau de coût | E14: 0
C15: 10 | D15: =' '!A81 -> Modernité de l'équipement | E15: 0
C16: 11 | D16: =' '!A82 -> Productivité | E16: 0
C17: 12 | D17: =' '!A83 -> Pollution, consommation d'énergie | E17: 0
C18: 13 | D18: =' '!A84 -> Emplacement, logistique | E18: 0
B19: =' '!A104 -> Approvisionne. | C19: 14 | D19: =' '!A85 -> Pénuries d'approvisionnement | E19: 0
C20: 15 | D20: =' '!A86 -> Dépendance des prix | E20: 0
C21: 16 | D21: =' '!A87 -> Dépendance du taux de change | E21: 0
C22: 17 | D22: =' '!A88 -> Qualité des fournisseurs | E22: 0
B23: =' '!A105 -> R & D | C23: 18 | D23: =' '!A89 -> Innovation, brevets | E23: 0
C24: 19 | D24: =' '!A90 -> Savoir-faire | E24: 0
C25: 20 | D25: =' '!A91 -> Équipement | E25: 0
B26: =' '!A106 -> Personnel | C26: 21 | D26: =' '!A92 -> Motivation et engagement des collab. | E26: 0
C27: 22 | D27: =' '!A93 -> Outils de gestion, management | E27: 0
C28: 23 | D28: =' '!A94 -> Organisation "lean" et flexible | E28: 0
C29: 24 | D29: =' '!A95 -> Formation, qualification des collab. | E29: 0
C30: 25 | D30: =' '!A96 -> Pyramide des âges | E30: 0
C31: 26 | D31: =' '!A97 -> Taux de fluctuation, absentéisme | E31: 0
B32: =' '!A107 -> Administration | C32: 27 | D32: =' '!A98 -> Solidité financière, liquidité | E32: 0
C33: 28 | D33: =' '!A99 -> Emplacement, espaces à disposition | E33: 0
C34: 29 | D34: =' '!A100 -> Controlling | E34: 0
C35: 30 | D35: =' '!A101 -> Processus de décision | E35: 0
B36: © iManagement • s.imboden • www.2iManagement.ch

Sheet Swot-Analyse
B1: =' '!A133 -> A N A L Y S E S W O T
C5: =' '!A139 -> Forces | G5: =' '!A140 -> Faiblesses
B6: s1 | D6: 5 | F6: w1 | H6: -5
B7: s2 | D7: 3 | F7: w2 | H7: -4
B8: s3 | D8: 4 | F8: w3 | H8: -2
B9: s4 | F9: w4
B10: s5 | F10: w5
B11: s6 | F11: w6
B12: s7 | F12: w7
B13: s8 | F13: w8
B14: s9 | F14: w9
B15: s10 | F15: w10
B16: s11 | F16: w11
B17: s12 | F17: w12
B18: s13 | F18: w13
B19: s14 | F19: w14
B20: s15 | F20: w15
... B23: s18 | F23: w18
C24: =' '!A141 -> Opportunités | G24: =' '!A142 -> Menaces
B25: o1 | D25: 3 | F25: t1 | H25: -2
B26: o2 | D26: 3 | F26: t2 | H26: -2
B27: o3 | D27: 2 | F27: t3
B28: o4 | F28: t4
B29: o5 | F29: t5
B30: o6 | F30: t6
B31: o7 | F31: t7
B32: o8 | F32: t8
B33: o9 | F33: t9
B34: o10 | F34: t10
B35: o11 | F35: t11
B36: o12 | F36: t12
B37: o13 | F37: t13
B38: o14 | F38: t14
B39: o15 | F39: t15
... B42: o18 | F42: t18
B43: © iManagement • s.imboden • www.2iManagement.ch

Sheet Canvas
C1: =' '!A478 -> T H E B U S I N E S S M O D E L C A N V A S
C3: =' '!A479 -> Conçu pour: | D3: =H1 -> 0 | E3: =' '!A480 -> Conçu par: | G3: =' '!A481 -> Mis à jour le : | H3: =TODAY() -> 46049
C6: Key Partnerships | D6: Key Activities | E6: Value Propositions | G6: Customer Relationship | H6: Customer Segments
D23: Key Resources | G23: Channels
C39: Cost Structure | F39: Revenue Streams
C52: © iManagement • s.imboden • www.2iManagement.ch

Sheet Forces
B1: =' '!A182 -> C A N V A S : F O R C E S & F A I B L E S S E S
E3: =(P10+P15+P24+P29+P33+P41+P46+P50+P55) -> 195 | H3: =' '!A187 -> ne correspond pas du tout | J3: =' '!A186 -> correspond peu | L3: =' '!A185 -> correspond partiellement | N3: =' '!A184 -> correspond plutôt | P3: =' '!A183 -> correspond tout à fait | S3: =' '!A235 -> Impact (1 - 10)
E4: =(N10+N15+N24+N29+N33+N41+N50+N55) -> 80
U6: =CONCATENATE(' '!A239," ",E4," / ",E3) -> Total points : 80 / 195
H7: =(COUNTIF(B118:B164,1)/39) -> 0.051282051 | J7: =(COUNTIF(B118:B164,2)/39) -> 0.20512821 | L7: =(COUNTIF(B118:B164,3)/39) -> 0.23076923 | N7: =(COUNTIF(B118:B164,4)/39) -> 0.15384615 | P7: =(COUNTIF(B118:B164,5)/39) -> 0.076923077
B10: 1 | D10: CUSTOMER RELATIONSHIP | G10: =SUM(B118:B121) -> 13 | N10: =SUM(B118:B121) -> 13 | O10: / | P10: 20
B11: 1.1 | D11: =' '!A188 -> Nos propositions de valeur correspondent aux besoins de nos clients | S11: 9
B12: 1.2 | D12: =' '!A189 -> Nos propositions de valeur ont de forts effets sur le réseau (Networking) | S12: 7
B13: 1.3 | D13: =' '!A190 -> Il existe des synergies fortes entre nos produits et nos services | S13: 5
B14: 1.4 | D14: =' '!A191 -> Nos clients sont satisfaits | S14: 3
B15: 2 | D15: REVENUE STREAMS | N15: =SUM(B123:B130) -> 25 | O15: / | P15: 40
B16: 2.1 | D16: =' '!A193 -> Nos marges sont élevées | S16: 5
B17: 2.2 | D17: =' '!A194 -> Nos revenus sont prévisibles | S17: 4
B18: 2.3 | D18: =' '!A195 -> Nous avons des flux de revenus récurrents et des achats répétés fréquents | S18: 8
B19: 2.4 | D19: =' '!A196 -> Nos flux de revenus sont diversifiés | S19: 8
B20: 2.5 | D20: =' '!A197 -> Nos flux de revenus sont durables | S20: 5
B21: 2.6 | D21: =' '!A198 -> Nous encaissons nos revenus avant d'engager nos dépenses | S21: 9
B22: 2.7 | D22: =' '!A199 -> Nous facturons ce pour quoi les clients ont réellement envie de payer | S22: 5
B23: 2.8 | D23: =' '!A200 -> Nos mécanismes de fixation des prix permettent de capter tout ce que le client est prêt à payer | S23: 7
B24: 3 | D24: COST STRUCTURE | N24: =SUM(B132:B135) -> 13 | O24: / | P24: 20
B25: 3.1 | D25: =' '!A202 -> Nos coûts sont prévisibles | S25: 5
B26: 3.2 | D26: =' '!A203 -> Notre structure de coûts est correctement adaptée à notre modèle d'affaires | S26: 5
B27: 3.3 | D27: =' '!A204 -> Nos activités sont efficace par rapport aux coûts | S27: 5
B28: 3.4 | D28: =' '!A205 -> Nous bénéficions d'économies d'échelle | S28: 5
B29: 4 | D29: CUSTOMER SEGMENTS | N29: =SUM(B137:B139) -> 6 | O29: / | P29: 15
B30: 4.1 | D30: =' '!A207 -> Le taux de roulement de la clientèle est faible | S30: 5
B31: 4.2 | D31: =' '!A208 -> La clientèle est bien segmentée | S31: 5
B32: 4.3 | D32: =' '!A209 -> Nous acquérons régulièrement de nouveaux clients | S32: 5
B33: 5 | D33: CHANNELS | N33: =SUM(B141:B147) -> 11 | O33: / | P33: 35
B34: 5.1 | D34: =' '!A211 -> Nos canaux de distribution sont efficients | S34: 5
B35: 5.2 | D35: =' '!A212 -> Nos canaux de distribution sont efficaces (effective) | S35: 5
B36: 5.3 | D36: =' '!A213 -> La pénétration des canaux est bonne | S36: 5
B37: 5.4 | D37: =' '!A214 -> Les clients repèrent facilement nos canaux de distribution | S37: 5
B38: 5.5 | D38: =' '!A215 -> Les canaux sont très intégrés | S38: 5
B39: 5.6 | D39: =' '!A216 -> Les canaux sont sources d'économie d'envergure (economies of scope) | S39: 5
B40: 5.7 | D40: =' '!A217 -> Les canaux de distribution sont adaptés aux segments clients | S40: 5
B41: 6 | D41: CUSTOMER RELATIONSHIP | N41: =SUM(B149:B152) -> 6 | O41: / | P41: 20
B42: 6.1 | D42: =' '!A219 -> Forte relations avec les clients | S42: 5
B43: 6.2 | D43: =' '!A220 -> La qualité de la relation correspond à la segmentation de la clientèle | S43: 5
B44: 6.3 | D44: =' '!A221 -> Les relations avec les clients sont forte. Pour le client, un changement a des coûts élevés | S44: 5
...

Sheet Chances
B1: =' '!A244 -> C A N V A S : O P P O R T U N I T É S & D A N G E R S
E3: =(N10+N18+N27+N31+N40+N48+N56+N63+N69) -> 183 | H3: =' '!A187 -> ne correspond pas du tout | J3: =' '!A186 -> correspond peu | L3: =' '!A185 -> correspond partiellement | N3: =' '!A184 -> correspond plutôt | P3: =' '!A183 -> correspond tout à fait | S3: =' '!A235 -> Impact (1 - 10)
E4: =(P10+P18+P27+P31+P40+P48+P56+P63+P69) -> 295
U6: =CONCATENATE(' '!A239," ",E3," / ",E4) -> Total points : 183 / 295
H7: =(COUNTIF(B134:B200,1)/59) -> 0.084745763 | J7: =(COUNTIF(B134:B200,2)/59) -> 0.28813559 | L7: =(COUNTIF(B134:B200,3)/59) -> 0.25423729 | N7: =(COUNTIF(B134:B200,4)/59) -> 0.18644068 | P7: =(COUNTIF(B134:B200,5)/59) -> 0.18644068
B10: 1 | D10: CUSTOMER RELATIONSHIP | G10: =SUM(B134:B137) -> 13 | N10: =SUM(B134:B140) -> 23 | O10: / | P10: 35
B11: 1.1 | D11: =' '!A245 -> Nous pouvons générer des revenus récurrents en convertissant des produits en services | S11: 9
B12: 1.2 | D12: =' '!A246 -> Nous intégrons nos produits ou services | S12: 8
B13: 1.3 | D13: =' '!A247 -> Nous satisfaisons les besoins supplémentaires de nos clients | S13: 7
B14: 1.4 | D14: =' '!A248 -> Il existe des compléments ou des extensions possibles de notre proposition de valeur | S14: 6
B15: 1.5 | D15: =' '!A249 -> Nous pourrions accomplir d'autres tâches pour nos clients | S15: 4
B16: 1.6 | D16: =' '!A250 -> Des produits et des services de substitution sont disponibles | S16: 3
B17: 1.7 | D17: =' '!A251 -> Les concurrents menacent d'offrir de meilleurs prix ou plus de valeur | S17: 3
B18: 2 | D18: REVENUE STREAMS | N18: =SUM(B142:B149) -> 22 | O18: / | P18: 40
B19: 2.1 | D19: =' '!A253 -> Nous pourrions remplacer des revenus de transactions ponctuels par des revenus récurrents | S19: 10
B20: 2.2 | D20: =' '!A254 -> Nos clients seraient disposés à payer pour d'autres produits et services | S20: 9
B21: 2.3 | D21: =' '!A255 -> Nous avons des occasions de ventes croisées/associées soit en interne, soit avec des partenaires | S21: 8
B22: 2.4 | D22: =' '!A256 -> Nous pourrions rajouter ou créer d'autres flux de revenus | S22: 7
B23: 2.5 | D23: =' '!A257 -> Nous pouvons augmenter les prix | S23: 6
B24: 2.6 | D24: =' '!A258 -> Nos marges sont menacées par des concurrents, et/ou des nouvelles technologies | S24: 5
B25: 2.7 | D25: =' '!A259 -> Nous dépendons d'un ou de plusieurs flux de revenus | S25: 4
B26: 2.8 | D26: =' '!A260 -> Nous avons des flux de revenus appelés à disparaître | S26: 3
B27: 3 | D27: COST STRUCTURE | N27: =SUM(B151:B153) -> 9 | O27: / | P27: 15
B28: 3.1 | D28: =' '!A262 -> Nous pouvons réduire nos coûts | S28: 10
B29: 3.2 | D29: =' '!A263 -> Certains coûts risquent de devenir imprévisibles | S29: 4
B30: 3.3 | D30: =' '!A264 -> Certains coûts menacent d'augmenter plus rapidement que les revenus correspondants | S30: 10
B31: 4 | D31: CUSTOMER SEGMENTS | N31: =SUM(B155:B162) -> 24 | O31: / | P31: 40
B32: 4.1 | D32: =' '!A266 -> Nous pourrions bénéficier d'un marché en pleine croissance | S32: 10
B33: 4.2 | D33: =' '!A267 -> Nous pourrions servir de nouveaux segments de clientèle | S33: 9
B34: 4.3 | D34: =' '!A268 -> Nous pourrions mieux servir nos clients grâce à une segmentation plus fine | S34: 8
B35: 4.4 | D35: =' '!A269 -> Notre marché risque d'être bientôt saturé | S35: 7
B36: 4.5 | D36: =' '!A270 -> Nos concurrents menacent nos parts de marché | S36: 6
B37: 4.6 | D37: =' '!A271 -> Il y a une probabilité que nos clients nous quittent | S37: 5
B38: 4.7 | D38: =' '!A272 -> Il y a des chances que nos clients sont en défaut de paiement | S38: 4
B39: 4.8 | D39: =' '!A273 -> La concurrence risque de s'intensifier sur notre marché | S39: 3
B40: 5 | D40: CHANNELS | N40: =SUM(B164:B170) -> 20 | O40: / | P40: 35
B41: 5.1 | D41: =' '!A275 -> Nous pourrions améliorer l'efficacité et l'efficience de nos canaux de distribution | S41: 1
B42: 5.2 | D42: =' '!A276 -> Nous pourrions améliorer l'intégration de nos canaux | S42: 2
B43: 5.3 | D43: =' '!A277 -> Nous pourrions trouver de nouveaux canaux partenaires complémentaires | S43: 3
B44: 5.4 | D44: =' '!A278 -> Nous pourrions augmenter nos marges en servant directement nos clients | S44: 4
...

Sheet Massnahmen
C1: =' '!A426 -> S T R A T E G I E S & O B J E C T I F S I N N O V A T I O N
B5: =' '!A431 -> No. | C5: =' '!A439 -> Objectifs Innovation | D5: =B5 -> No. | E5: =' '!A440 -> Indicateurs | G5: =' '!A434 -> ÊTRE | H5: =' '!A435 -> DOIT | I5: =' '!A436 -> atteint | J5: =' '!A437 -> rouge | K5: =' '!A438 -> jaune | M5: =B5 -> No. | N5: =' '!A432 -> Stratégies | O5: =B5 -> No. | P5: =' '!A433 -> Indicateurs stratégiques | R5: =G5 -> ÊTRE | S5: =H5 -> DOIT | T5: =I5 -> atteint | U5: =J5 -> rouge | V5: =K5 -> jaune
B7: 1 | C7: Ziel 1 | D7: i1 | E7: Indikator 1 | F7: =IF(E7<>"","?","") -> ? | G7: 50 | H7: 100 | I7: =IF(OR(G7="Ja",G7="JA",G7="ja",G7="Oui",G7="OUI",G7="oui"),100%, IF(OR(G7="Nein",G7="NEIN",G7="nein",G7="Oon",G7="NON",G7="non"),0%, IF(G7<>0, IF(H7>=G7,G7/H7, IF(H7<G7,H7/G7)), 0%))) -> 0.5 | J7: 0.7 | K7: 0.9 | L7: =IF(E7="","",IF(I7<=J7,3,IF(I7<=K7,2,1))) -> 3 | M7: s1 | N7: Strategie 1 | O7: o1 | P7: Indikator 1 | Q7: =IF(P7<>"","?","") -> ? | R7: 0.01 | S7: 1 | T7: =IF(OR(R7="Ja",R7="JA",R7="ja",R7="Oui",R7="OUI",R7="oui"),100%, IF(OR(R7="Nein",R7="NEIN",R7="nein",R7="Oon",R7="NON",R7="non"),0%, IF(R7<>0, IF(S7>=R7,R7/S7, IF(S7<R7,S7/R7)), 0%))) -> 0.01 | U7: 0.7 | V7: 0.9 | W7: =IF(P7="","",IF(T7<=U7,3,IF(T7<=V7,2,1))) -> 3
B8: 1 | M8: s2 | O8: o2 | Q8: =IF(P8<>"","?","") | T8: =IF(OR(R8="Ja",R8="JA",R8="ja",R8="Oui",R8="OUI",R8="oui"),100%, IF(OR(R8="Nein",R8="NEIN",R8="nein",R8="Oon",R8="NON",R8="non"),0%, IF(R8<>0, IF(S8>=R8,R8/S8, IF(S8<R8,S8/R8)), 0%))) -> 0 | U8: 0.7 | V8: 0.9 | W8: =IF(P8="","",IF(T8<=U8,3,IF(T8<=V8,2,1)))
B9: 1 | D9: i1 | F9: =IF(E9<>"","?","") | I9: =IF(OR(G9="Ja",G9="JA",G9="ja",G9="Oui",G9="OUI",G9="oui"),100%, IF(OR(G9="Nein",G9="NEIN",G9="nein",G9="Oon",G9="NON",G9="non"),0%, IF(G9<>0, IF(H9>=G9,G9/H9, IF(H9<G9,H9/G9)), 0%))) -> 0 | J9: 0.7 | K9: 0.9 | L9: =IF(E9="","",IF(I9<=J9,3,IF(I9<=K9,2,1))) | M9: s3 | O9: o3 | Q9: =IF(P9<>"","?","") | T9: =IF(OR(R9="Ja",R9="JA",R9="ja",R9="Oui",R9="OUI",R9="oui"),100%, IF(OR(R9="Nein",R9="NEIN",R9="nein",R9="Oon",R9="NON",R9="non"),0%, IF(R9<>0, IF(S9>=R9,R9/S9, IF(S9<R9,S9/R9)), 0%))) -> 0 | U9: 0.7 | V9: 0.9 | W9: =IF(P9="","",IF(T9<=U9,3,IF(T9<=V9,2,1)))
B10: 1 | M10: s4 | O10: o4 | Q10: =IF(P10<>"","?","") | T10: =IF(OR(R10="Ja",R10="JA",R10="ja",R10="Oui",R10="OUI",R10="oui"),100%, IF(OR(R10="Nein",R10="NEIN",R10="nein",R10="Oon",R10="NON",R10="non"),0%, IF(R10<>0, IF(S10>=R10,R10/S10, IF(S10<R10,S10/R10)), 0%))) -> 0 | U10: 0.7 | V10: 0.9 | W10: =IF(P10="","",IF(T10<=U10,3,IF(T10<=V10,2,1)))
B11: 1 | D11: i1 | F11: =IF(E11<>"","?","") | I11: =IF(OR(G11="Ja",G11="JA",G11="ja",G11="Oui",G11="OUI",G11="oui"),100%, IF(OR(G11="Nein",G11="NEIN",G11="nein",G11="Oon",G11="NON",G11="non"),0%, IF(G11<>0, IF(H11>=G11,G11/H11, IF(H11<G11,H11/G11)), 0%))) -> 0 | J11: 0.7 | K11: 0.9 | L11: =IF(E11="","",IF(I11<=J11,3,IF(I11<=K11,2,1))) | M11: s5 | O11: o5 | Q11: =IF(P11<>"","?","") | T11: =IF(OR(R11="Ja",R11="JA",R11="ja",R11="Oui",R11="OUI",R11="oui"),100%, IF(OR(R11="Nein",R11="NEIN",R11="nein",R11="Oon",R11="NON",R11="non"),0%, IF(R11<>0, IF(S11>=R11,R11/S11, IF(S11<R11,S11/R11)), 0%))) -> 0 | U11: 0.7 | V11: 0.9 | W11: =IF(P11="","",IF(T11<=U11,3,IF(T11<=V11,2,1)))
B12: 1 | M12: s6 | O12: o6 | Q12: =IF(P12<>"","?","") | T12: =IF(OR(R12="Ja",R12="JA",R12="ja",R12="Oui",R12="OUI",R12="oui"),100%, IF(OR(R12="Nein",R12="NEIN",R12="nein",R12="Oon",R12="NON",R12="non"),0%, IF(R12<>0, IF(S12>=R12,R12/S12, IF(S12<R12,S12/R12)), 0%))) -> 0 | U12: 0.7 | V12: 0.9 | W12: =IF(P12="","",IF(T12<=U12,3,IF(T12<=V12,2,1)))
B13: 1 | D13: i1 | F13: =IF(E13<>"","?","") | I13: =IF(OR(G13="Ja",G13="JA",G13="ja",G13="Oui",G13="OUI",G13="oui"),100%, IF(OR(G13="Nein",G13="NEIN",G13="nein",G13="Oon",G13="NON",G13="non"),0%, IF(G13<>0, IF(H13>=G13,G13/H13, IF(H13<G13,H13/G13)), 0%))) -> 0 | J13: 0.7 | K13: 0.9 | L13: =IF(E13="","",IF(I13<=J13,3,IF(I13<=K13,2,1))) | M13: s7 | O13: o7 | Q13: =IF(P13<>"","?","") | T13: =IF(OR(R13="Ja",R13="JA",R13="ja",R13="Oui",R13="OUI",R13="oui"),100%, IF(OR(R13="Nein",R13="NEIN",R13="nein",R13="Oon",R13="NON",R13="non"),0%, IF(R13<>0, IF(S13>=R13,R13/S13, IF(S13<R13,S13/R13)), 0%))) -> 0 | U13: 0.7 | V13: 0.9 | W13: =IF(P13="","",IF(T13<=U13,3,IF(T13<=V13,2,1)))
B14: 1 | M14: s8 | O14: o8 | Q14: =IF(P14<>"","?","") | T14: =IF(OR(R14="Ja",R14="JA",R14="ja",R14="Oui",R14="OUI",R14="oui"),100%, IF(OR(R14="Nein",R14="NEIN",R14="nein",R14="Oon",R14="NON",R14="non"),0%, IF(R14<>0, IF(S14>=R14,R14/S14, IF(S14<R14,S14/R14)), 0%))) -> 0 | U14: 0.7 | V14: 0.9 | W14: =IF(P14="","",IF(T14<=U14,3,IF(T14<=V14,2,1)))
B15: 2 | C15: Ziel 2 | D15: i1 | F15: =IF(E15<>"","?","") | I15: =IF(OR(G15="Ja",G15="JA",G15="ja",G15="Oui",G15="OUI",G15="oui"),100%, IF(OR(G15="Nein",G15="NEIN",G15="nein",G15="Oon",G15="NON",G15="non"),0%, IF(G15<>0, IF(H15>=G15,G15/H15, IF(H15<G15,H15/G15)), 0%))) -> 0 | J15: 0.7 | K15: 0.9 | L15: =IF(E15="","",IF(I15<=J15,3,IF(I15<=K15,2,1))) | M15: s9 | O15: o9 | Q15: =IF(P15<>"","?","") | T15: =IF(OR(R15="Ja",R15="JA",R15="ja",R15="Oui",R15="OUI",R15="oui"),100%, IF(OR(R15="Nein",R15="NEIN",R15="nein",R15="Oon",R15="NON",R15="non"),0%, IF(R15<>0, IF(S15>=R15,R15/S15, IF(S15<R15,S15/R15)), 0%))) -> 0 | U15: 0.7 | V15: 0.9 | W15: =IF(P15="","",IF(T15<=U15,3,IF(T15<=V15,2,1)))
B16: 2 | M16: s10 | O16: o10 | Q16: =IF(P16<>"","?","") | T16: =IF(OR(R16="Ja",R16="JA",R16="ja",R16="Oui",R16="OUI",R16="oui"),100%, IF(OR(R16="Nein",R16="NEIN",R16="nein",R16="Oon",R16="NON",R16="non"),0%, IF(R16<>0, IF(S16>=R16,R16/S16, IF(S16<R16,S16/R16)), 0%))) -> 0 | U16: 0.7 | V16: 0.9 | W16: =IF(P16="","",IF(T16<=U16,3,IF(T16<=V16,2,1)))
B17: 2 | D17: i1 | F17: =IF(E17<>"","?","") | I17: =IF(OR(G17="Ja",G17="JA",G17="ja",G17="Oui",G17="OUI",G17="oui"),100%, IF(OR(G17="Nein",G17="NEIN",G17="nein",G17="Oon",G17="NON",G17="non"),0%, IF(G17<>0, IF(H17>=G17,G17/H17, IF(H17<G17,H17/G17)), 0%))) -> 0 | J17: 0.7 | K17: 0.9 | L17: =IF(E17="","",IF(I17<=J17,3,IF(I17<=K17,2,1))) | M17: s11 | O17: o11 | Q17: =IF(P17<>"","?","") | T17: =IF(OR(R17="Ja",R17="JA",R17="ja",R17="Oui",R17="OUI",R17="oui"),100%, IF(OR(R17="Nein",R17="NEIN",R17="nein",R17="Oon",R17="NON",R17="non"),0%, IF(R17<>0, IF(S17>=R17,R17/S17, IF(S17<R17,S17/R17)), 0%))) -> 0 | U17: 0.7 | V17: 0.9 | W17: =IF(P17="","",IF(T17<=U17,3,IF(T17<=V17,2,1)))
B18: 2 | M18: s12 | O18: o12 | Q18: =IF(P18<>"","?","") | T18: =IF(OR(R18="Ja",R18="JA",R18="ja",R18="Oui",R18="OUI",R18="oui"),100%, IF(OR(R18="Nein",R18="NEIN",R18="nein",R18="Oon",R18="NON",R18="non"),0%, IF(R18<>0, IF(S18>=R18,R18/S18, IF(S18<R18,S18/R18)), 0%))) -> 0 | U18: 0.7 | V18: 0.9 | W18: =IF(P18="","",IF(T18<=U18,3,IF(T18<=V18,2,1)))
B19: 2 | D19: i1 | F19: =IF(E19<>"","?","") | I19: =IF(OR(G19="Ja",G19="JA",G19="ja",G19="Oui",G19="OUI",G19="oui"),100%, IF(OR(G19="Nein",G19="NEIN",G19="nein",G19="Oon",G19="NON",G19="non"),0%, IF(G19<>0, IF(H19>=G19,G19/H19, IF(H19<G19,H19/G19)), 0%))) -> 0 | J19: 0.7 | K19: 0.9 | L19: =IF(E19="","",IF(I19<=J19,3,IF(I19<=K19,2,1))) | M19: s13 | O19: o13 | Q19: =IF(P19<>"","?","") | T19: =IF(OR(R19="Ja",R19="JA",R19="ja",R19="Oui",R19="OUI",R19="oui"),100%, IF(OR(R19="Nein",R19="NEIN",R19="nein",R19="Oon",R19="NON",R19="non"),0%, IF(R19<>0, IF(S19>=R19,R19/S19, IF(S19<R19,S19/R19)), 0%))) -> 0 | U19: 0.7 | V19: 0.9 | W19: =IF(P19="","",IF(T19<=U19,3,IF(T19<=V19,2,1)))
B20: 2 | M20: s14 | O20: o14 | Q20: =IF(P20<>"","?","") | T20: =IF(OR(R20="Ja",R20="JA",R20="ja",R20="Oui",R20="OUI",R20="oui"),100%, IF(OR(R20="Nein",R20="NEIN",R20="nein",R20="Oon",R20="NON",R20="non"),0%, IF(R20<>0, IF(S20>=R20,R20/S20, IF(S20<R20,S20/R20)), 0%))) -> 0 | U20: 0.7 | V20: 0.9 | W20: =IF(P20="","",IF(T20<=U20,3,IF(T20<=V20,2,1)))
B21: 2 | D21: i1 | F21: =IF(E21<>"","?","") | I21: =IF(OR(G21="Ja",G21="JA",G21="ja",G21="Oui",G21="OUI",G21="oui"),100%, IF(OR(G21="Nein",G21="NEIN",G21="nein",G21="Oon",G21="NON",G21="non"),0%, IF(G21<>0, IF(H21>=G21,G21/H21, IF(H21<G21,H21/G21)), 0%))) -> 0 | J21: 0.7 | K21: 0.9 | L21: =IF(E21="","",IF(I21<=J21,3,IF(I21<=K21,2,1))) | M21: s15 | O21: o15 | Q21: =IF(P21<>"","?","") | T21: =IF(OR(R21="Ja",R21="JA",R21="ja",R21="Oui",R21="OUI",R21="oui"),100%, IF(OR(R21="Nein",R21="NEIN",R21="nein",R21="Oon",R21="NON",R21="non"),0%, IF(R21<>0, IF(S21>=R21,R21/S21, IF(S21<R21,S21/R21)), 0%))) -> 0 | U21: 0.7 | V21: 0.9 | W21: =IF(P21="","",IF(T21<=U21,3,IF(T21<=V21,2,1)))
B22: 2 | M22: s16 | O22: o16 | Q22: =IF(P22<>"","?","") | T22: =IF(OR(R22="Ja",R22="JA",R22="ja",R22="Oui",R22="OUI",R22="oui"),100%, IF(OR(R22="Nein",R22="NEIN",R22="nein",R22="Oon",R22="NON",R22="non"),0%, IF(R22<>0, IF(S22>=R22,R22/S22, IF(S22<R22,S22/R22)), 0%))) -> 0 | U22: 0.7 | V22: 0.9 | W22: =IF(P22="","",IF(T22<=U22,3,IF(T22<=V22,2,1)))
B23: 3 | C23: Ziel 3 | D23: i1 | F23: =IF(E23<>"","?","") | I23: =IF(OR(G23="Ja",G23="JA",G23="ja",G23="Oui",G23="OUI",G23="oui"),100%, IF(OR(G23="Nein",G23="NEIN",G23="nein",G23="Oon",G23="NON",G23="non"),0%, IF(G23<>0, IF(H23>=G23,G23/H23, IF(H23<G23,H23/G23)), 0%))) -> 0 | J23: 0.7 | K23: 0.9 | L23: =IF(E23="","",IF(I23<=J23,3,IF(I23<=K23,2,1))) | M23: s17 | O23: o17 | Q23: =IF(P23<>"","?","") | T23: =IF(OR(R23="Ja",R23="JA",R23="ja",R23="Oui",R23="OUI",R23="oui"),100%, IF(OR(R23="Nein",R23="NEIN",R23="nein",R23="Oon",R23="NON",R23="non"),0%, IF(R23<>0, IF(S23>=R23,R23/S23, IF(S23<R23,S23/R23)), 0%))) -> 0 | U23: 0.7 | V23: 0.9 | W23: =IF(P23="","",IF(T23<=U23,3,IF(T23<=V23,2,1)))
B24: 3 | M24: s18 | O24: o18 | Q24: =IF(P24<>"","?","") | T24: =IF(OR(R24="Ja",R24="JA",R24="ja",R24="Oui",R24="OUI",R24="oui"),100%, IF(OR(R24="Nein",R24="NEIN",R24="nein",R24="Oon",R24="NON",R24="non"),0%, IF(R24<>0, IF(S24>=R24,R24/S24, IF(S24<R24,S24/R24)), 0%))) -> 0 | U24: 0.7 | V24: 0.9 | W24: =IF(P24="","",IF(T24<=U24,3,IF(T24<=V24,2,1)))
B25: 3 | D25: i1 | F25: =IF(E25<>"","?","") | I25: =IF(OR(G25="Ja",G25="JA",G25="ja",G25="Oui",G25="OUI",G25="oui"),100%, IF(OR(G25="Nein",G25="NEIN",G25="nein",G25="Oon",G25="NON",G25="non"),0%, IF(G25<>0, IF(H25>=G25,G25/H25, IF(H25<G25,H25/G25)), 0%))) -> 0 | J25: 0.7 | K25: 0.9 | L25: =IF(E25="","",IF(I25<=J25,3,IF(I25<=K25,2,1))) | M25: s19 | O25: o19 | Q25: =IF(P25<>"","?","") | T25: =IF(OR(R25="Ja",R25="JA",R25="ja",R25="Oui",R25="OUI",R25="oui"),100%, IF(OR(R25="Nein",R25="NEIN",R25="nein",R25="Oon",R25="NON",R25="non"),0%, IF(R25<>0, IF(S25>=R25,R25/S25, IF(S25<R25,S25/R25)), 0%))) -> 0 | U25: 0.7 | V25: 0.9 | W25: =IF(P25="","",IF(T25<=U25,3,IF(T25<=V25,2,1)))
B26: 3 | M26: s20 | O26: o20 | Q26: =IF(P26<>"","?","") | T26: =IF(OR(R26="Ja",R26="JA",R26="ja",R26="Oui",R26="OUI",R26="oui"),100%, IF(OR(R26="Nein",R26="NEIN",R26="nein",R26="Oon",R26="NON",R26="non"),0%, IF(R26<>0, IF(S26>=R26,R26/S26, IF(S26<R26,S26/R26)), 0%))) -> 0 | U26: 0.7 | V26: 0.9 | W26: =IF(P26="","",IF(T26<=U26,3,IF(T26<=V26,2,1)))
B27: 3 | D27: i1 | F27: =IF(E27<>"","?","") | I27: =IF(OR(G27="Ja",G27="JA",G27="ja",G27="Oui",G27="OUI",G27="oui"),100%, IF(OR(G27="Nein",G27="NEIN",G27="nein",G27="Oon",G27="NON",G27="non"),0%, IF(G27<>0, IF(H27>=G27,G27/H27, IF(H27<G27,H27/G27)), 0%))) -> 0 | J27: 0.7 | K27: 0.9 | L27: =IF(E27="","",IF(I27<=J27,3,IF(I27<=K27,2,1))) | M27: s21 | O27: o21 | Q27: =IF(P27<>"","?","") | T27: =IF(OR(R27="Ja",R27="JA",R27="ja",R27="Oui",R27="OUI",R27="oui"),100%, IF(OR(R27="Nein",R27="NEIN",R27="nein",R27="Oon",R27="NON",R27="non"),0%, IF(R27<>0, IF(S27>=R27,R27/S27, IF(S27<R27,S27/R27)), 0%))) -> 0 | U27: 0.7 | V27: 0.9 | W27: =IF(P27="","",IF(T27<=U27,3,IF(T27<=V27,2,1)))
B28: 3 | M28: s22 | O28: o22 | Q28: =IF(P28<>"","?","") | T28: =IF(OR(R28="Ja",R28="JA",R28="ja",R28="Oui",R28="OUI",R28="oui"),100%, IF(OR(R28="Nein",R28="NEIN",R28="nein",R28="Oon",R28="NON",R28="non"),0%, IF(R28<>0, IF(S28>=R28,R28/S28, IF(S28<R28,S28/R28)), 0%))) -> 0 | U28: 0.7 | V28: 0.9 | W28: =IF(P28="","",IF(T28<=U28,3,IF(T28<=V28,2,1)))
B29: 3 | D29: i1 | F29: =IF(E29<>"","?","") | I29: =IF(OR(G29="Ja",G29="JA",G29="ja",G29="Oui",G29="OUI",G29="oui"),100%, IF(OR(G29="Nein",G29="NEIN",G29="nein",G29="Oon",G29="NON",G29="non"),0%, IF(G29<>0, IF(H29>=G29,G29/H29, IF(H29<G29,H29/G29)), 0%))) -> 0 | J29: 0.7 | K29: 0.9 | L29: =IF(E29="","",IF(I29<=J29,3,IF(I29<=K29,2,1))) | M29: s23 | O29: o23 | Q29: =IF(P29<>"","?","") | T29: =IF(OR(R29="Ja",R29="JA",R29="ja",R29="Oui",R29="OUI",R29="oui"),100%, IF(OR(R29="Nein",R29="NEIN",R29="nein",R29="Oon",R29="NON",R29="non"),0%, IF(R29<>0, IF(S29>=R29,R29/S29, IF(S29<R29,S29/R29)), 0%))) -> 0 | U29: 0.7 | V29: 0.9 | W29: =IF(P29="","",IF(T29<=U29,3,IF(T29<=V29,2,1)))
B30: 3 | M30: s24 | O30: o24 | Q30: =IF(P30<>"","?","") | T30: =IF(OR(R30="Ja",R30="JA",R30="ja",R30="Oui",R30="OUI",R30="oui"),100%, IF(OR(R30="Nein",R30="NEIN",R30="nein",R30="Oon",R30="NON",R30="non"),0%, IF(R30<>0, IF(S30>=R30,R30/S30, IF(S30<R30,S30/R30)), 0%))) -> 0 | U30: 0.7 | V30: 0.9 | W30: =IF(P30="","",IF(T30<=U30,3,IF(T30<=V30,2,1)))
B31: 4 | C31: 4 | D31: i1 | F31: =IF(E31<>"","?","") | I31: =IF(OR(G31="Ja",G31="JA",G31="ja",G31="Oui",G31="OUI",G31="oui"),100%, IF(OR(G31="Nein",G31="NEIN",G31="nein",G31="Oon",G31="NON",G31="non"),0%, IF(G31<>0, IF(H31>=G31,G31/H31, IF(H31<G31,H31/G31)), 0%))) -> 0 | J31: 0.7 | K31: 0.9 | L31: =IF(E31="","",IF(I31<=J31,3,IF(I31<=K31,2,1))) | M31: s25 | O31: o25 | Q31: =IF(P31<>"","?","") | T31: =IF(OR(R31="Ja",R31="JA",R31="ja",R31="Oui",R31="OUI",R31="oui"),100%, IF(OR(R31="Nein",R31="NEIN",R31="nein",R31="Oon",R31="NON",R31="non"),0%, IF(R31<>0, IF(S31>=R31,R31/S31, IF(S31<R31,S31/R31)), 0%))) -> 0 | U31: 0.7 | V31: 0.9 | W31: =IF(P31="","",IF(T31<=U31,3,IF(T31<=V31,2,1)))
B32: 4 | M32: s26 | O32: o26 | Q32: =IF(P32<>"","?","") | T32: =IF(OR(R32="Ja",R32="JA",R32="ja",R32="Oui",R32="OUI",R32="oui"),100%, IF(OR(R32="Nein",R32="NEIN",R32="nein",R32="Oon",R32="NON",R32="non"),0%, IF(R32<>0, IF(S32>=R32,R32/S32, IF(S32<R32,S32/R32)), 0%))) -> 0 | U32: 0.7 | V32: 0.9 | W32: =IF(P32="","",IF(T32<=U32,3,IF(T32<=V32,2,1)))
B33: 4 | D33: i1 | F33: =IF(E33<>"","?","") | I33: =IF(OR(G33="Ja",G33="JA",G33="ja",G33="Oui",G33="OUI",G33="oui"),100%, IF(OR(G33="Nein",G33="NEIN",G33="nein",G33="Oon",G33="NON",G33="non"),0%, IF(G33<>0, IF(H33>=G33,G33/H33, IF(H33<G33,H33/G33)), 0%))) -> 0 | J33: 0.7 | K33: 0.9 | L33: =IF(E33="","",IF(I33<=J33,3,IF(I33<=K33,2,1))) | M33: s27 | O33: o27 | Q33: =IF(P33<>"","?","") | T33: =IF(OR(R33="Ja",R33="JA",R33="ja",R33="Oui",R33="OUI",R33="oui"),100%, IF(OR(R33="Nein",R33="NEIN",R33="nein",R33="Oon",R33="NON",R33="non"),0%, IF(R33<>0, IF(S33>=R33,R33/S33, IF(S33<R33,S33/R33)), 0%))) -> 0 | U33: 0.7 | V33: 0.9 | W33: =IF(P33="","",IF(T33<=U33,3,IF(T33<=V33,2,1)))
B34: 4 | M34: s28 | O34: o28 | Q34: =IF(P34<>"","?","") | T34: =IF(OR(R34="Ja",R34="JA",R34="ja",R34="Oui",R34="OUI",R34="oui"),100%, IF(OR(R34="Nein",R34="NEIN",R34="nein",R34="Oon",R34="NON",R34="non"),0%, IF(R34<>0, IF(S34>=R34,R34/S34, IF(S34<R34,S34/R34)), 0%))) -> 0 | U34: 0.7 | V34: 0.9 | W34: =IF(P34="","",IF(T34<=U34,3,IF(T34<=V34,2,1)))
B35: 4 | D35: i1 | F35: =IF(E35<>"","?","") | I35: =IF(OR(G35="Ja",G35="JA",G35="ja",G35="Oui",G35="OUI",G35="oui"),100%, IF(OR(G35="Nein",G35="NEIN",G35="nein",G35="Oon",G35="NON",G35="non"),0%, IF(G35<>0, IF(H35>=G35,G35/H35, IF(H35<G35,H35/G35)), 0%))) -> 0 | J35: 0.7 | K35: 0.9 | L35: =IF(E35="","",IF(I35<=J35,3,IF(I35<=K35,2,1))) | M35: s29 | O35: o29 | Q35: =IF(P35<>"","?","") | T35: =IF(OR(R35="Ja",R35="JA",R35="ja",R35="Oui",R35="OUI",R35="oui"),100%, IF(OR(R35="Nein",R35="NEIN",R35="nein",R35="Oon",R35="NON",R35="non"),0%, IF(R35<>0, IF(S35>=R35,R35/S35, IF(S35<R35,S35/R35)), 0%))) -> 0 | U35: 0.7 | V35: 0.9 | W35: =IF(P35="","",IF(T35<=U35,3,IF(T35<=V35,2,1)))
B36: 4 | M36: s30 | O36: o30 | Q36: =IF(P36<>"","?","") | T36: =IF(OR(R36="Ja",R36="JA",R36="ja",R36="Oui",R36="OUI",R36="oui"),100%, IF(OR(R36="Nein",R36="NEIN",R36="nein",R36="Oon",R36="NON",R36="non"),0%, IF(R36<>0, IF(S36>=R36,R36/S36, IF(S36<R36,S36/R36)), 0%))) -> 0 | U36: 0.7 | V36: 0.9 | W36: =IF(P36="","",IF(T36<=U36,3,IF(T36<=V36,2,1)))
