Workbook
Name __10: oIndikatoren!$A$113
Name __11: oIndikatoren!$A$125
Name __12: oIndikatoren!$A$137
Name __13: oIndikatoren!$A$149
Name __14: oIndikatoren!$A$161
Name __15: oIndikatoren!$A$173
Name __16: oIndikatoren!$A$185
Name __17: oIndikatoren!$A$197
Name __18: oIndikatoren!$A$209
Name __19: oIndikatoren!$A$221
Name __20: oIndikatoren!$A$233
Name __21: oIndikatoren!$A$245
Name __22: oIndikatoren!$A$257
Name __23: oIndikatoren!$A$269
Name __24: oIndikatoren!$A$281
Name __25: oIndikatoren!$A$293
Name __26: oIndikatoren!$A$305
Name __27: oIndikatoren!$A$317
Name __28: oIndikatoren!$A$329
Name __29: oIndikatoren!$A$341
Name __30: oIndikatoren!$A$353
Name __31: oIndikatoren!$A$365
Name __32: oIndikatoren!$A$377
Name __33: oIndikatoren!$A$389
Name __34: oIndikatoren!$A$401
Name __35: oIndikatoren!$A$413
Name __36: oIndikatoren!$A$425
Name __37: oIndikatoren!$A$437
Name __38: oIndikatoren!$A$449
Name __39: oIndikatoren!$A$461
Name __40: oIndikatoren!$A$473
Name __41: oIndikatoren!$A$485
Name __42: oIndikatoren!$A$497
Name __43: oIndikatoren!$A$509
Name __44: oIndikatoren!$A$521
Name __45: oIndikatoren!$A$533
Name __46: oIndikatoren!$A$545
Name __47: oIndikatoren!$A$557
Name __48: oIndikatoren!$A$569
Name __49: oIndikatoren!$A$581
Name __50: oIndikatoren!$A$593
Name __51: oIndikatoren!$A$605
Name __52: oIndikatoren!$A$617
Name __53: oIndikatoren!$A$629
Name __54: oIndikatoren!$A$641
Name __55: oIndikatoren!$A$653
Name __56: oIndikatoren!$A$665
Name __57: oIndikatoren!$A$677
Name __58: oIndikatoren!$A$689
Name __59: oIndikatoren!$A$701
Name __60: oIndikatoren!$A$713
Name __61: oIndikatoren!$A$725
Name __62: oIndikatoren!$A$737
Name __63: oIndikatoren!$A$749
Name __64: oIndikatoren!$A$761
Name __65: oIndikatoren!$A$773
Name __66: oIndikatoren!$A$785
Name __67: oIndikatoren!$A$797
Name __68: oIndikatoren!$A$809
Name __69: oIndikatoren!$A$821

Sheet  
A1: =OFFSET($C1,0,$Z$5-1) -> Deutsch | C1: Deutsch | D1: Français | E1: English | F1: Italiano
A2: Aktuelle Sprache | C2: Sprache 1 | D2: Sprache 2 | E2: Sprache 3 | F2: Sprache 4 | G2: Sprache 5
A3: Aktuell angezeigte Sprache | C3: Deutsch | D3: Français | E3: English | F3: Italiano | G3: 5_???
B4: 1 | Z4: 55153
A5: =OFFSET($C5,0,$Z$5-1) -> C H A N G E M A N A G E M E N T | C5: C H A N G E M A N A G E M E N T | D5: G E S T I O N D U C H A N G E M E N T | E5: C H A N G E M A N A G E M E N T | G5: contact info@2imanagement.ch | Z5: =IF(AND(MenuChange!B36="© iManagement • s.imboden • www.2iManagement.ch", TODAY()<=$Z$4), $B$4,5) -> 1
A6: =OFFSET($C6,0,$Z$5-1) -> 1. Dringlichkeit erzeugen | C6: 1. Dringlichkeit erzeugen | D6: 1. Créer l'urgence | E6: 1. Create a sense of urgency | G6: contact info@2imanagement.ch | Z6: Deutsch
A7: =OFFSET($C7,0,$Z$5-1) -> 2. Führungs-koalitionen bilden | C7: 2. Führungs-koalitionen bilden | D7: 2. Former des coalitions | E7: 2. Build a Guiding Coalition | G7: contact info@2imanagement.ch | Z7: Français
A8: =OFFSET($C8,0,$Z$5-1) -> 3. Vision & Strategie entwickeln und kommunizieren | C8: 3. Vision & Strategie entwickeln und kommunizieren | D8: 3. Développer et communiquer la vision et les stratégies | E8: 3. Develop and communicate visions and strategies | G8: contact info@2imanagement.ch | Z8: English
A9: =OFFSET($C9,0,$Z$5-1) -> 4. Umsetzungsbasis schaffen | C9: 4. Umsetzungsbasis schaffen | D9: 4. Créer la base pour l'implémentation | E9: 4. Create a basis for implementation | G9: contact info@2imanagement.ch | Z9: Italiano
A10: =OFFSET($C10,0,$Z$5-1) -> 5. Kurzfristige Erfolge ermöglichen | C10: 5. Kurzfristige Erfolge ermöglichen | D10: 5. Favoriser des succès à court terme | E10: 5. Enable short term success | G10: contact info@2imanagement.ch
A11: =OFFSET($C11,0,$Z$5-1) -> 6. Fortschritte konsolidieren & fortfahren | C11: 6. Fortschritte konsolidieren & fortfahren | D11: 6. Consolider les progrès et continuer | E11: 6. Consolidate progress and continue | G11: contact info@2imanagement.ch
A12: =OFFSET($C12,0,$Z$5-1) -> 7. Verhalten in Kultur verankern | C12: 7. Verhalten in Kultur verankern | D12: 7. Ancrer le comportement dans la culture | E12: 7. Embed behaviour in culture | G12: contact info@2imanagement.ch
A13: =OFFSET($C13,0,$Z$5-1) -> Leadership | C13: Leadership | D13: Leadership | E13: Leadership | G13: contact info@2imanagement.ch
A14: =OFFSET($C14,0,$Z$5-1) -> Struktur | C14: Struktur | D14: Structure | E14: Structure | G14: contact info@2imanagement.ch
A15: =OFFSET($C15,0,$Z$5-1) -> Systeme | C15: Systeme | D15: Systèmes | E15: Systems | G15: contact info@2imanagement.ch
A16: =OFFSET($C16,0,$Z$5-1) -> Prozesse | C16: Prozesse | D16: Processus | E16: Processes | G16: contact info@2imanagement.ch
A17: =OFFSET($C17,0,$Z$5-1) -> Personal | C17: Personal | D17: Personnel | E17: Personnel | G17: contact info@2imanagement.ch
A18: =OFFSET($C18,0,$Z$5-1) -> Kompe-tenzen | C18: Kompe-tenzen | D18: Compé-tences | E18: Compe-tencies | G18: contact info@2imanagement.ch
A19: =OFFSET($C19,0,$Z$5-1) -> Kommuni-kation | C19: Kommuni-kation | D19: Communi-cation | E19: Communi-cation | G19: contact info@2imanagement.ch
A20: =OFFSET($C20,0,$Z$5-1) -> Auftauen (Unfreezing) | C20: Auftauen (Unfreezing) | D20: Déblocage (Unfreezing) | E20: Unfreezing | G20: contact info@2imanagement.ch
A21: =OFFSET($C21,0,$Z$5-1) -> Verändern (Moving) | C21: Verändern (Moving) | D21: Changer (Moving) | E21: Moving | G21: contact info@2imanagement.ch
A22: =OFFSET($C22,0,$Z$5-1) -> Stabilisieren (Refreezing) | C22: Stabilisieren (Refreezing) | D22: Stabiliser (Refreezing) | E22: Refreezing | G22: contact info@2imanagement.ch
A23: =OFFSET($C23,0,$Z$5-1) -> Ihr Logo: | C23: Ihr Logo: | D23: Votre logo: | E23: Your logo: | F23: Vostro logo:
A24: =OFFSET($C24,0,$Z$5-1) -> Phasen nach K. Lewin | C24: Phasen nach K. Lewin | D24: Phases selon K. Lewin | E24: Phases according to K. Lewin | G24: contact info@2imanagement.ch
A25: =OFFSET($C25,0,$Z$5-1) -> CHANGE KULTUR | C25: CHANGE KULTUR | D25: CULTURE DU CHANGEMENT | E25: CHANGE CULTURE | G25: contact info@2imanagement.ch
A26: =OFFSET($C26,0,$Z$5-1) -> Bereitschaft für Veränderungen schaffen | C26: Bereitschaft für Veränderungen schaffen | D26: Créer volonté de changement | E26: Create willingness for changes | G26: contact info@2imanagement.ch
A27: =OFFSET($C27,0,$Z$5-1) -> Umsetzung der vereinbarten Ziele | C27: Umsetzung der vereinbarten Ziele | D27: Mise en œuvre des objectifs convenus | E27: Implementation of the agreed objectives | G27: contact info@2imanagement.ch
A28: =OFFSET($C28,0,$Z$5-1) -> Stabilisieren der implementierten Lösung | C28: Stabilisieren der implementierten Lösung | D28: Stabiliser la solution réalisée | E28: Stabilize the implemented solution | G28: contact info@2imanagement.ch
A29: =OFFSET($C29,0,$Z$5-1) -> sensibilisieren | C29: sensibilisieren | D29: sensibiliser | E29: sensitize | G29: contact info@2imanagement.ch
A30: =OFFSET($C30,0,$Z$5-1) -> konzipieren | C30: konzipieren | D30: concevoir | E30: plan | G30: contact info@2imanagement.ch
A31: =OFFSET($C31,0,$Z$5-1) -> mobilisieren | C31: mobilisieren | D31: mobiliser | E31: mobilize | G31: contact info@2imanagement.ch
A32: =OFFSET($C32,0,$Z$5-1) -> implementieren | C32: implementieren | D32: réaliser | E32: implement | G32: contact info@2imanagement.ch
A33: =OFFSET($C33,0,$Z$5-1) -> konsolidieren | C33: konsolidieren | D33: consolider | E33: consolidate | G33: contact info@2imanagement.ch
A34: =OFFSET($C34,0,$Z$5-1) -> P E R S O N A L | C34: P E R S O N A L | D34: P E R S O N N E L | E34: P E R S O N N E L | G34: contact info@2imanagement.ch
A35: =OFFSET($C35,0,$Z$5-1) -> Person oder Gruppe | C35: Person oder Gruppe | D35: Personne ou groupe | E35: Person or group | G35: contact info@2imanagement.ch
... A39: =OFFSET($C39,0,$Z$5-1) -> Anzahl | C39: Anzahl | D39: Nombre | E39: Amount | G39: contact info@2imanagement.ch
A40: =OFFSET($C40,0,$Z$5-1) -> Bemerkungen | C40: Bemerkungen | D40: Remarques | E40: Comments | F40: Osservazioni | G40: contact info@2imanagement.ch
A41: =OFFSET($C41,0,$Z$5-1) -> Status | C41: Status | D41: Statut | E41: Status | F41: Statuto | G41: contact info@2imanagement.ch
A42: =OFFSET($C42,0,$Z$5-1) -> hoch | C42: hoch | D42: élevée | E42: High | F42: elevata | G42: contact info@2imanagement.ch
A43: =OFFSET($C43,0,$Z$5-1) -> gering | C43: gering | D43: faible | E43: Low | F43: bassa | G43: contact info@2imanagement.ch
...

Sheet MenuChange
B1: =' '!A5 -> C H A N G E M A N A G E M E N T
B36: © iManagement • s.imboden • www.2iManagement.ch | L36: V1.1.2

Sheet Dringlichkeit
B1: =' '!A48 -> C H A N G E I S A P R O C E S S N O T A N E V E N T
B29: © iManagement • s.imboden • www.2iManagement.ch | J29: =MenuChange!J1 -> 0

Sheet Risikomgmt
B1: =' '!A91 -> R I S I K O M A N A G E M E N T
B4: =' '!A100 -> Nr. | C4: =' '!A101 -> Risiko | D4: =' '!A104 -> Schadens-ausmass | E4: =' '!A103 -> Eintretens-wahrscheinlich-keit | F4: =' '!A102 -> Auswirkungen | G4: =' '!A105 -> Trend | H4: =' '!A106 -> Mögliche Massnahmen | I4: =' '!A107 -> Status
B5: R1 | D5: 3 | E5: 9 | G5: 3 | I5: 1 | J5: 1
B6: R2 | D6: 8 | E6: 10 | G6: 2 | I6: 3 | J6: 1
B7: R3 | J7: 1
B8: R4 | J8: 1
B9: R5 | J9: 1
B10: R6 | J10: 1
B11: R7 | J11: 1
B12: R8 | J12: 1
B13: R9 | J13: 1
B14: R10 | J14: 1
B15: R11 | J15: 1
B16: R12 | J16: 1
B17: R13 | J17: 1
B18: R14 | J18: 1
B19: R15 | J19: 1
B20: © iManagement • s.imboden • www.2iManagement.ch

Sheet Benchmark
B1: =' '!A109 -> B E N C H M A R K I N G
B3: =' '!A110 -> Status | C3: =' '!A111 -> Nr. | D3: =' '!A112 -> Vergleichsobjekte | E3: =' '!A114 -> Wir | F3: =' '!A115 -> Konkurrenz | I3: =' '!A113 -> Bemerkungen
E4: l | F4: u
A5: =ABS(E5-F5) -> 1 | B5: =IF(A5>=3,3, IF(A5>=2,2,1)) -> 1 | C5: 1 | D5: Comparaison 1 | E5: 2 | F5: 1
A6: =ABS(E6-F6) -> 2 | B6: =IF(A6>=3,3, IF(A6>=2,2,1)) -> 2 | C6: 2 | D6: Comparaison 2 | E6: 1 | F6: 3
A7: =ABS(E7-F7) -> 1 | B7: =IF(A7>=3,3, IF(A7>=2,2,1)) -> 1 | C7: 3 | E7: 1 | F7: 2
A8: =ABS(E8-F8) -> 2 | B8: =IF(A8>=3,3, IF(A8>=2,2,1)) -> 2 | C8: 4 | E8: -1 | F8: 1
A9: =ABS(E9-F9) -> 4 | B9: =IF(A9>=3,3, IF(A9>=2,2,1)) -> 3 | C9: 5 | E9: -3 | F9: 1
A10: =ABS(E10-F10) -> 0 | B10: =IF(A10>=3,3, IF(A10>=2,2,1)) -> 1 | C10: 6 | E10: 1 | F10: 1
A11: =ABS(E11-F11) -> 4 | B11: =IF(A11>=3,3, IF(A11>=2,2,1)) -> 3 | C11: 7 | E11: -3 | F11: 1
A12: =ABS(E12-F12) -> 2 | B12: =IF(A12>=3,3, IF(A12>=2,2,1)) -> 2 | C12: 8 | E12: 3 | F12: 1
A13: =ABS(E13-F13) -> 0 | B13: =IF(A13>=3,3, IF(A13>=2,2,1)) -> 1 | C13: 9 | E13: 1 | F13: 1
A14: =ABS(E14-F14) -> 2 | B14: =IF(A14>=3,3, IF(A14>=2,2,1)) -> 2 | C14: 10 | E14: -1 | F14: 1
A15: =ABS(E15-F15) -> 1 | B15: =IF(A15>=3,3, IF(A15>=2,2,1)) -> 1 | C15: 11 | E15: 2 | F15: 1
A16: =ABS(E16-F16) -> 2 | B16: =IF(A16>=3,3, IF(A16>=2,2,1)) -> 2 | C16: 12 | E16: -1 | F16: 1
A17: =ABS(E17-F17) -> 1 | B17: =IF(A17>=3,3, IF(A17>=2,2,1)) -> 1 | C17: 13 | E17: 0 | F17: 1
A18: =ABS(E18-F18) -> 3 | B18: =IF(A18>=3,3, IF(A18>=2,2,1)) -> 3 | C18: 14 | E18: -2 | F18: 1
... A34: =ABS(E34-F34) -> 0 | B34: =IF(A34>=3,3, IF(A34>=2,2,1)) -> 1 | C34: 30 | E34: 0 | F34: 0
C35: © iManagement • s.imboden • www.2iManagement.ch

Sheet Reklamationen
B1: =' '!A339 -> K U N D E N R E K L A M A T I O N E N
B2: =' '!A337 -> vom: | C2: 41640 | D2: =' '!A338 -> bis: | E2: 42004
B4: =' '!A299 -> Ranking | C4: =' '!A340 -> Reklamationen | D4: =' '!A301 -> Häufig-keit | E4: =' '!A332 -> Prozess / Produkt / Dienstleistung | F4: =' '!A334 -> Ursachen | G4: =' '!A341 -> Mögliche Massnahmen | H4: =' '!A336 -> Auftretenswahr-scheinlichkeit | I4: =' '!A64 -> Status
B5: =IF(D5="","",RANK(D5,D$5:D$24)+COUNTIF(D$5:D5,D5)-1) -> 5 | C5: Reklamation 1 | D5: 15 | H5: 2 | I5: 2
B6: =IF(D6="","",RANK(D6,D$5:D$24)+COUNTIF(D$5:D6,D6)-1) -> 19 | C6: Reklamation 2 | D6: 2 | H6: 6 | I6: 1
B7: =IF(D7="","",RANK(D7,D$5:D$24)+COUNTIF(D$5:D7,D7)-1) -> 10 | C7: Reklamation 3 | D7: 10
B8: =IF(D8="","",RANK(D8,D$5:D$24)+COUNTIF(D$5:D8,D8)-1) -> 15 | C8: Reklamation 4 | D8: 5
B9: =IF(D9="","",RANK(D9,D$5:D$24)+COUNTIF(D$5:D9,D9)-1) -> 13 | C9: Reklamation 5 | D9: 7
B10: =IF(D10="","",RANK(D10,D$5:D$24)+COUNTIF(D$5:D10,D10)-1) -> 6 | C10: Reklamation 6 | D10: 15
B11: =IF(D11="","",RANK(D11,D$5:D$24)+COUNTIF(D$5:D11,D11)-1) -> 14 | C11: Reklamation 7 | D11: 7
B12: =IF(D12="","",RANK(D12,D$5:D$24)+COUNTIF(D$5:D12,D12)-1) -> 2 | C12: Reklamation 8 | D12: 80
B13: =IF(D13="","",RANK(D13,D$5:D$24)+COUNTIF(D$5:D13,D13)-1) -> 12 | C13: Reklamation 9 | D13: 9
B14: =IF(D14="","",RANK(D14,D$5:D$24)+COUNTIF(D$5:D14,D14)-1) -> 11 | C14: Reklamation 10 | D14: 10
B15: =IF(D15="","",RANK(D15,D$5:D$24)+COUNTIF(D$5:D15,D15)-1) -> 8 | C15: Reklamation 11 | D15: 12
B16: =IF(D16="","",RANK(D16,D$5:D$24)+COUNTIF(D$5:D16,D16)-1) -> 9 | C16: Reklamation 12 | D16: 12
B17: =IF(D17="","",RANK(D17,D$5:D$24)+COUNTIF(D$5:D17,D17)-1) -> 7 | C17: Reklamation 13 | D17: 13
B18: =IF(D18="","",RANK(D18,D$5:D$24)+COUNTIF(D$5:D18,D18)-1) -> 17 | C18: Reklamation 14 | D18: 3
... B24: =IF(D24="","",RANK(D24,D$5:D$24)+COUNTIF(D$5:D24,D24)-1) -> 18 | C24: Reklamation 20 | D24: 3
B25: © iManagement • s.imboden • www.2iManagement.ch
B28: Pareto X Axis | C28: Bars | D28: Ordered Rank | E28: Percentage
B29: =IF(D5="","",INDEX($B$5:$D$24,MATCH(D29,$B$5:$B$24,0),2)) -> Reklamation 18 | C29: =IF(D5="","",INDEX($B$5:$D$24,MATCH(D29,$B$5:$B$24,0),3)) -> 86 | D29: 1 | E29: =IF(C29="","",C29/SUM($C$29:$C$48)) -> 0.21717172
B30: =IF(D6="","",INDEX($B$5:$D$24,MATCH(D30,$B$5:$B$24,0),2)) -> Reklamation 8 | C30: =IF(D6="","",INDEX($B$5:$D$24,MATCH(D30,$B$5:$B$24,0),3)) -> 80 | D30: 2 | E30: =IF(C30="","",(C30/SUM($C$29:$C$48)+E29)) -> 0.41919192
B31: =IF(D7="","",INDEX($B$5:$D$24,MATCH(D31,$B$5:$B$24,0),2)) -> Reklamation 17 | C31: =IF(D7="","",INDEX($B$5:$D$24,MATCH(D31,$B$5:$B$24,0),3)) -> 55 | D31: 3 | E31: =IF(C31="","",(C31/SUM($C$29:$C$48)+E30)) -> 0.55808081
B32: =IF(D8="","",INDEX($B$5:$D$24,MATCH(D32,$B$5:$B$24,0),2)) -> Reklamation 15 | C32: =IF(D8="","",INDEX($B$5:$D$24,MATCH(D32,$B$5:$B$24,0),3)) -> 45 | D32: 4 | E32: =IF(C32="","",(C32/SUM($C$29:$C$48)+E31)) -> 0.67171717
B33: =IF(D9="","",INDEX($B$5:$D$24,MATCH(D33,$B$5:$B$24,0),2)) -> Reklamation 1 | C33: =IF(D9="","",INDEX($B$5:$D$24,MATCH(D33,$B$5:$B$24,0),3)) -> 15 | D33: 5 | E33: =IF(C33="","",(C33/SUM($C$29:$C$48)+E32)) -> 0.70959596
B34: =IF(D10="","",INDEX($B$5:$D$24,MATCH(D34,$B$5:$B$24,0),2)) -> Reklamation 6 | C34: =IF(D10="","",INDEX($B$5:$D$24,MATCH(D34,$B$5:$B$24,0),3)) -> 15 | D34: 6 | E34: =IF(C34="","",(C34/SUM($C$29:$C$48)+E33)) -> 0.74747475
B35: =IF(D11="","",INDEX($B$5:$D$24,MATCH(D35,$B$5:$B$24,0),2)) -> Reklamation 13 | C35: =IF(D11="","",INDEX($B$5:$D$24,MATCH(D35,$B$5:$B$24,0),3)) -> 13 | D35: 7 | E35: =IF(C35="","",(C35/SUM($C$29:$C$48)+E34)) -> 0.78030303
B36: =IF(D12="","",INDEX($B$5:$D$24,MATCH(D36,$B$5:$B$24,0),2)) -> Reklamation 11 | C36: =IF(D12="","",INDEX($B$5:$D$24,MATCH(D36,$B$5:$B$24,0),3)) -> 12 | D36: 8 | E36: =IF(C36="","",(C36/SUM($C$29:$C$48)+E35)) -> 0.81060606
B37: =IF(D13="","",INDEX($B$5:$D$24,MATCH(D37,$B$5:$B$24,0),2)) -> Reklamation 12 | C37: =IF(D13="","",INDEX($B$5:$D$24,MATCH(D37,$B$5:$B$24,0),3)) -> 12 | D37: 9 | E37: =IF(C37="","",(C37/SUM($C$29:$C$48)+E36)) -> 0.84090909
B38: =IF(D14="","",INDEX($B$5:$D$24,MATCH(D38,$B$5:$B$24,0),2)) -> Reklamation 3 | C38: =IF(D14="","",INDEX($B$5:$D$24,MATCH(D38,$B$5:$B$24,0),3)) -> 10 | D38: 10 | E38: =IF(C38="","",(C38/SUM($C$29:$C$48)+E37)) -> 0.86616162
B39: =IF(D15="","",INDEX($B$5:$D$24,MATCH(D39,$B$5:$B$24,0),2)) -> Reklamation 10 | C39: =IF(D15="","",INDEX($B$5:$D$24,MATCH(D39,$B$5:$B$24,0),3)) -> 10 | D39: 11 | E39: =IF(C39="","",(C39/SUM($C$29:$C$48)+E38)) -> 0.89141414
B40: =IF(D16="","",INDEX($B$5:$D$24,MATCH(D40,$B$5:$B$24,0),2)) -> Reklamation 9 | C40: =IF(D16="","",INDEX($B$5:$D$24,MATCH(D40,$B$5:$B$24,0),3)) -> 9 | D40: 12 | E40: =IF(C40="","",(C40/SUM($C$29:$C$48)+E39)) -> 0.91414141
B41: =IF(D17="","",INDEX($B$5:$D$24,MATCH(D41,$B$5:$B$24,0),2)) -> Reklamation 5 | C41: =IF(D17="","",INDEX($B$5:$D$24,MATCH(D41,$B$5:$B$24,0),3)) -> 7 | D41: 13 | E41: =IF(C41="","",(C41/SUM($C$29:$C$48)+E40)) -> 0.93181818
... B48: =IF(D24="","",INDEX($B$5:$D$24,MATCH(D48,$B$5:$B$24,0),2)) -> Reklamation 16 | C48: =IF(D24="","",INDEX($B$5:$D$24,MATCH(D48,$B$5:$B$24,0),3)) -> 2 | D48: 20 | E48: =IF(C48="","",(C48/SUM($C$29:$C$48)+E47)) -> 1

Sheet Fehler
B1: =' '!A331 -> F E H L E R A N A L Y S E
B2: =' '!A337 -> vom: | C2: 41640 | D2: =' '!A338 -> bis: | E2: 42004
B4: =' '!A299 -> Ranking | C4: =' '!A333 -> Fehler | D4: =' '!A301 -> Häufig-keit | E4: =' '!A332 -> Prozess / Produkt / Dienstleistung | F4: =' '!A334 -> Ursachen | G4: =' '!A335 -> Mögliche Massnahmen | H4: =' '!A336 -> Auftretenswahr-scheinlichkeit | I4: =' '!A64 -> Status
B5: =IF(D5="","",RANK(D5,D$5:D$24)+COUNTIF(D$5:D5,D5)-1) -> 5 | C5: Error 1 | D5: 15 | H5: 2 | I5: 2
B6: =IF(D6="","",RANK(D6,D$5:D$24)+COUNTIF(D$5:D6,D6)-1) -> 18 | C6: Error 2 | D6: 2 | H6: 1
B7: =IF(D7="","",RANK(D7,D$5:D$24)+COUNTIF(D$5:D7,D7)-1) -> 10 | C7: Error 3 | D7: 10
B8: =IF(D8="","",RANK(D8,D$5:D$24)+COUNTIF(D$5:D8,D8)-1) -> 15 | C8: Error 4 | D8: 5
B9: =IF(D9="","",RANK(D9,D$5:D$24)+COUNTIF(D$5:D9,D9)-1) -> 13 | C9: Error 5 | D9: 7
B10: =IF(D10="","",RANK(D10,D$5:D$24)+COUNTIF(D$5:D10,D10)-1) -> 6 | C10: Error 6 | D10: 15
B11: =IF(D11="","",RANK(D11,D$5:D$24)+COUNTIF(D$5:D11,D11)-1) -> 14 | C11: Error 7 | D11: 7
B12: =IF(D12="","",RANK(D12,D$5:D$24)+COUNTIF(D$5:D12,D12)-1) -> 2 | C12: Error 8 | D12: 80
B13: =IF(D13="","",RANK(D13,D$5:D$24)+COUNTIF(D$5:D13,D13)-1) -> 12 | C13: Error 9 | D13: 9
B14: =IF(D14="","",RANK(D14,D$5:D$24)+COUNTIF(D$5:D14,D14)-1) -> 11 | C14: Error 10 | D14: 10
B15: =IF(D15="","",RANK(D15,D$5:D$24)+COUNTIF(D$5:D15,D15)-1) -> 8 | C15: Error 11 | D15: 12
B16: =IF(D16="","",RANK(D16,D$5:D$24)+COUNTIF(D$5:D16,D16)-1) -> 9 | C16: Error 12 | D16: 12
B17: =IF(D17="","",RANK(D17,D$5:D$24)+COUNTIF(D$5:D17,D17)-1) -> 7 | C17: Error 13 | D17: 13
B18: =IF(D18="","",RANK(D18,D$5:D$24)+COUNTIF(D$5:D18,D18)-1) -> 17 | C18: Error 14 | D18: 3
... B23: =IF(D23="","",RANK(D23,D$5:D$24)+COUNTIF(D$5:D23,D23)-1) -> 16 | C23: Error 19 | D23: 5
B24: =IF(D24="","",RANK(D24,D$5:D$24)+COUNTIF(D$5:D24,D24)-1)
B25: © iManagement • s.imboden • www.2iManagement.ch
B28: Pareto X Axis | C28: Bars | D28: Ordered Rank | E28: Percentage
B29: =IF(D5="","",INDEX($B$5:$D$24,MATCH(D29,$B$5:$B$24,0),2)) -> Error 18 | C29: =IF(D5="","",INDEX($B$5:$D$24,MATCH(D29,$B$5:$B$24,0),3)) -> 86 | D29: 1 | E29: =IF(C29="","",C29/SUM($C$29:$C$48)) -> 0.21882952
B30: =IF(D6="","",INDEX($B$5:$D$24,MATCH(D30,$B$5:$B$24,0),2)) -> Error 8 | C30: =IF(D6="","",INDEX($B$5:$D$24,MATCH(D30,$B$5:$B$24,0),3)) -> 80 | D30: 2 | E30: =IF(C30="","",(C30/SUM($C$29:$C$48)+E29)) -> 0.42239186
B31: =IF(D7="","",INDEX($B$5:$D$24,MATCH(D31,$B$5:$B$24,0),2)) -> Error 17 | C31: =IF(D7="","",INDEX($B$5:$D$24,MATCH(D31,$B$5:$B$24,0),3)) -> 55 | D31: 3 | E31: =IF(C31="","",(C31/SUM($C$29:$C$48)+E30)) -> 0.56234097
B32: =IF(D8="","",INDEX($B$5:$D$24,MATCH(D32,$B$5:$B$24,0),2)) -> Error 15 | C32: =IF(D8="","",INDEX($B$5:$D$24,MATCH(D32,$B$5:$B$24,0),3)) -> 45 | D32: 4 | E32: =IF(C32="","",(C32/SUM($C$29:$C$48)+E31)) -> 0.67684478
B33: =IF(D9="","",INDEX($B$5:$D$24,MATCH(D33,$B$5:$B$24,0),2)) -> Error 1 | C33: =IF(D9="","",INDEX($B$5:$D$24,MATCH(D33,$B$5:$B$24,0),3)) -> 15 | D33: 5 | E33: =IF(C33="","",(C33/SUM($C$29:$C$48)+E32)) -> 0.71501272
B34: =IF(D10="","",INDEX($B$5:$D$24,MATCH(D34,$B$5:$B$24,0),2)) -> Error 6 | C34: =IF(D10="","",INDEX($B$5:$D$24,MATCH(D34,$B$5:$B$24,0),3)) -> 15 | D34: 6 | E34: =IF(C34="","",(C34/SUM($C$29:$C$48)+E33)) -> 0.75318066
B35: =IF(D11="","",INDEX($B$5:$D$24,MATCH(D35,$B$5:$B$24,0),2)) -> Error 13 | C35: =IF(D11="","",INDEX($B$5:$D$24,MATCH(D35,$B$5:$B$24,0),3)) -> 13 | D35: 7 | E35: =IF(C35="","",(C35/SUM($C$29:$C$48)+E34)) -> 0.78625954
B36: =IF(D12="","",INDEX($B$5:$D$24,MATCH(D36,$B$5:$B$24,0),2)) -> Error 11 | C36: =IF(D12="","",INDEX($B$5:$D$24,MATCH(D36,$B$5:$B$24,0),3)) -> 12 | D36: 8 | E36: =IF(C36="","",(C36/SUM($C$29:$C$48)+E35)) -> 0.81679389
B37: =IF(D13="","",INDEX($B$5:$D$24,MATCH(D37,$B$5:$B$24,0),2)) -> Error 12 | C37: =IF(D13="","",INDEX($B$5:$D$24,MATCH(D37,$B$5:$B$24,0),3)) -> 12 | D37: 9 | E37: =IF(C37="","",(C37/SUM($C$29:$C$48)+E36)) -> 0.84732824
B38: =IF(D14="","",INDEX($B$5:$D$24,MATCH(D38,$B$5:$B$24,0),2)) -> Error 3 | C38: =IF(D14="","",INDEX($B$5:$D$24,MATCH(D38,$B$5:$B$24,0),3)) -> 10 | D38: 10 | E38: =IF(C38="","",(C38/SUM($C$29:$C$48)+E37)) -> 0.87277354
B39: =IF(D15="","",INDEX($B$5:$D$24,MATCH(D39,$B$5:$B$24,0),2)) -> Error 10 | C39: =IF(D15="","",INDEX($B$5:$D$24,MATCH(D39,$B$5:$B$24,0),3)) -> 10 | D39: 11 | E39: =IF(C39="","",(C39/SUM($C$29:$C$48)+E38)) -> 0.89821883
B40: =IF(D16="","",INDEX($B$5:$D$24,MATCH(D40,$B$5:$B$24,0),2)) -> Error 9 | C40: =IF(D16="","",INDEX($B$5:$D$24,MATCH(D40,$B$5:$B$24,0),3)) -> 9 | D40: 12 | E40: =IF(C40="","",(C40/SUM($C$29:$C$48)+E39)) -> 0.92111959
B41: =IF(D17="","",INDEX($B$5:$D$24,MATCH(D41,$B$5:$B$24,0),2)) -> Error 5 | C41: =IF(D17="","",INDEX($B$5:$D$24,MATCH(D41,$B$5:$B$24,0),3)) -> 7 | D41: 13 | E41: =IF(C41="","",(C41/SUM($C$29:$C$48)+E40)) -> 0.9389313
... B48: =IF(D24="","",INDEX($B$5:$D$24,MATCH(D48,$B$5:$B$24,0),2)) | C48: =IF(D24="","",INDEX($B$5:$D$24,MATCH(D48,$B$5:$B$24,0),3)) | D48: 20 | E48: =IF(C48="","",(C48/SUM($C$29:$C$48)+E47))

Sheet Eisenhower
B1: =' '!A530 -> E I S E N H O W E R M A T R I X
B4: =' '!A384 -> Nr. | C4: =' '!A531 -> Aufgabe | D4: =' '!A532 -> wichtig | E4: =' '!A534 -> dringend | F4: =' '!A535 -> Aufwand | G4: =' '!A40 -> Bemerkungen | H4: =' '!A41 -> Status
B5: a1 | C5: Aufgabe 1 | D5: 3 | E5: 7 | F5: 2 | H5: 3 | I5: =IF(F5=3,3, IF(F5=2,2,1)) -> 2
B6: a2 | C6: Aufgabe 2 | D6: 10 | E6: 9 | F6: 1 | H6: 1 | I6: =IF(F6=3,3, IF(F6=2,2,1)) -> 1
B7: a3 | C7: Aufgabe 3 | D7: 2 | E7: 2 | F7: 3 | I7: =IF(F7=3,3, IF(F7=2,2,1)) -> 3
B8: a4 | I8: =IF(F8=3,3, IF(F8=2,2,1)) -> 1
B9: a5 | I9: =IF(F9=3,3, IF(F9=2,2,1)) -> 1
B10: a6 | I10: =IF(F10=3,3, IF(F10=2,2,1)) -> 1
B11: a7 | I11: =IF(F11=3,3, IF(F11=2,2,1)) -> 1
B12: a8 | I12: =IF(F12=3,3, IF(F12=2,2,1)) -> 1
B13: a9 | I13: =IF(F13=3,3, IF(F13=2,2,1)) -> 1
B14: a10 | I14: =IF(F14=3,3, IF(F14=2,2,1)) -> 1
B15: a11 | I15: =IF(F15=3,3, IF(F15=2,2,1)) -> 1
B16: a12 | I16: =IF(F16=3,3, IF(F16=2,2,1)) -> 1
B17: a13 | I17: =IF(F17=3,3, IF(F17=2,2,1)) -> 1
B18: a14 | I18: =IF(F18=3,3, IF(F18=2,2,1)) -> 1
B19: a15 | I19: =IF(F19=3,3, IF(F19=2,2,1)) -> 1
... B24: a20 | I24: =IF(F24=3,3, IF(F24=2,2,1)) -> 1
B25: © iManagement • s.imboden • www.2iManagement.ch
G28: =CONCATENATE(" ",B5," ",C5) -> a1 Aufgabe 1
G29: =CONCATENATE(" ",B6," ",C6) -> a2 Aufgabe 2
G30: =CONCATENATE(" ",B7," ",C7) -> a3 Aufgabe 3
G31: =CONCATENATE(" ",B8," ",C8) -> a4
G32: =CONCATENATE(" ",B9," ",C9) -> a5
G33: =CONCATENATE(" ",B10," ",C10) -> a6
G34: =CONCATENATE(" ",B11," ",C11) -> a7
G35: =CONCATENATE(" ",B12," ",C12) -> a8
G36: =CONCATENATE(" ",B13," ",C13) -> a9
G37: =CONCATENATE(" ",B14," ",C14) -> a10
G38: =CONCATENATE(" ",B15," ",C15) -> a11
G39: =CONCATENATE(" ",B16," ",C16) -> a12
... G47: =CONCATENATE(" ",B24," ",C24) -> a20

Sheet Swot-Analyse
B1: =' '!A116 -> S W O T - A N A L Y S E
C5: =' '!A122 -> Stärken | G5: =' '!A123 -> Schwächen
B6: s1 | D6: 5 | F6: w1 | H6: -5
B7: s2 | D7: 3 | F7: w2 | H7: -4
B8: s3 | D8: 4 | F8: w3 | H8: -2
B9: s4 | F9: w4
B10: s5 | F10: w5
B11: s6 | F11: w6
B12: s7 | F12: w7
B13: s8 | F13: w8
B14: s9 | F14: w9
B15: s10 | F15: w10
B16: s11 | F16: w11
B17: s12 | F17: w12
B18: s13 | F18: w13
B19: s14 | F19: w14
B20: s15 | F20: w15
... B23: s18 | F23: w18
C24: =' '!A124 -> Chancen | G24: =' '!A125 -> Gefahren
B25: o1 | D25: 5 | F25: t1 | H25: -2
B26: o2 | D26: 3 | F26: t2 | H26: -4
B27: o3 | D27: 2 | F27: t3 | H27: -2
B28: o4 | F28: t4
B29: o5 | F29: t5
B30: o6 | F30: t6
B31: o7 | F31: t7
B32: o8 | F32: t8
B33: o9 | F33: t9
B34: o10 | F34: t10
B35: o11 | F35: t11
B36: o12 | F36: t12
B37: o13 | F37: t13
B38: o14 | F38: t14
B39: o15 | F39: t15
... B42: o18 | F42: t18
B43: © iManagement • s.imboden • www.2iManagement.ch

Sheet Trends
B1: =' '!A76 -> E N T W I C K L U N G S T R E N D S
C5: =' '!A77 -> Politische Trends | D5: =IF(E27<>0,E27,0.1) -> 3
C6: =' '!A85 -> Ökonomische Trends | D6: =IF(E41<>0,E41,0.1) -> 0.1
C7: =' '!A86 -> Soziologische Trends | D7: =IF(E55<>0,E55,0.1) -> 1
C8: =' '!A87 -> Technologische Trends | D8: =IF(E69<>0,E69,0.1) -> 3
C9: =' '!A88 -> Ökologische Trends | D9: =IF(E83<>0,E83,0.1) -> 0.1
C10: =' '!A89 -> Rechtliche Trends | D10: =E97 -> 0
C15: =' '!A77 -> Politische Trends
B16: =' '!A78 -> Nr. | C16: =' '!A79 -> Einflussfaktoren | D16: =' '!A80 -> Auswirkungen | E16: =' '!A81 -> Stärke der Auswirkungen | F16: =' '!A82 -> Trend | G16: =' '!A83 -> Bemerkungen | H16: =' '!A84 -> Status | I16: =COUNTIF(H16:H26,1) -> 1
B17: 1 | E17: 4 | F17: 2 | H17: 1 | I17: =COUNTIF(H17:H26,2) -> 0
B18: =$B17+1 -> 2 | E18: 3 | I18: =COUNTIF(H18:H27,3) -> 0
B19: =$B18+1 -> 3 | E19: 3
B20: =$B19+1 -> 4
B21: =$B20+1 -> 5
B22: =$B21+1 -> 6
B23: =$B22+1 -> 7
B24: =$B23+1 -> 8
B25: =$B24+1 -> 9
B26: =$B25+1 -> 10
D27: =' '!A438 -> Anz. >= 3 | E27: =COUNTIFS(E17:E26,"<=4",E17:E26,">=3") -> 3
C29: =' '!A85 -> Ökonomische Trends
B30: =B16 -> Nr. | C30: =C16 -> Einflussfaktoren | D30: =D16 -> Auswirkungen | E30: =E16 -> Stärke der Auswirkungen | F30: =F16 -> Trend | G30: =G16 -> Bemerkungen | H30: =H16 -> Status | I30: =COUNTIF(H30:H40,1) -> 0
B31: 1 | E31: 2 | F31: 1 | H31: 3 | I31: =COUNTIF(H30:H40,2) -> 1
B32: =$B31+1 -> 2 | H32: 2 | I32: =COUNTIF(H30:H41,3) -> 1
B33: =$B32+1 -> 3
B34: =$B33+1 -> 4
B35: =$B34+1 -> 5
B36: =$B35+1 -> 6
B37: =$B36+1 -> 7
B38: =$B37+1 -> 8
B39: =$B38+1 -> 9
B40: =$B39+1 -> 10
D41: =$D$27 -> Anz. >= 3 | E41: =COUNTIFS(E31:E40,"<=4",E31:E40,">=3") -> 0
C43: =' '!A86 -> Soziologische Trends
B44: =B16 -> Nr. | C44: =C16 -> Einflussfaktoren | D44: =D16 -> Auswirkungen | E44: =E16 -> Stärke der Auswirkungen | F44: =F16 -> Trend | G44: =G16 -> Bemerkungen | H44: =H16 -> Status | I44: =COUNTIF(H44:H54,1) -> 1
B45: 1 | E45: 3 | F45: 1 | H45: 1 | I45: =COUNTIF(H44:H54,2) -> 0
B46: =$B45+1 -> 2 | I46: =COUNTIF(H44:H55,3) -> 0
B47: =$B46+1 -> 3
B48: =$B47+1 -> 4
B49: =$B48+1 -> 5
...

Sheet Consumer_Trend
B1: =' '!A421 -> C O N S U M E R T R E N D C A N V A S
C3: =' '!A429 -> Trend:
B6: =' '!A422 -> Basic Needs | C6: =' '!A423 -> Drivers of Change | E6: =' '!A426 -> Innovation Potential
B23: =' '!A424 -> Emerging Consumer Expectations | C23: =' '!A425 -> Inspiration | E23: =' '!A427 -> Who
B40: © iManagement • s.imboden • www.2iManagement.ch

Sheet Fuehrung
B1: =' '!A545 -> G A N Z H E I T L I C H E F Ü H R U N G
A3: x!A5
B39: © iManagement • s.imboden • www.2iManagement.ch

Sheet Stakeholder
B1: =' '!A370 -> K O A L I T I O N E N
B4: =' '!A384 -> Nr. | C4: =' '!A385 -> Anspruchsgruppe | D4: =' '!A387 -> Stärke der Interessen | E4: =' '!A388 -> Höhe des Einflusses | F4: =' '!A386 -> Interessen, Erwartungen | G4: =' '!A392 -> Grösse der Gruppe | H4: =' '!A389 -> Chancen (+) und Gefahren (-) | I4: =' '!A391 -> Status
B5: s1 | C5: Groupe 1 | D5: 8.1818182 | E5: 4 | G5: 2 | I5: 1 | J5: =IF(G5=3,3, IF(G5=2,2,1)) -> 2
B6: s2 | C6: Groupe 2 | D6: 5 | E6: 6 | G6: 1 | I6: 2 | J6: =IF(G6=3,3, IF(G6=2,2,1)) -> 1
B7: s3 | D7: 9.0909091 | E7: 8 | G7: 3 | I7: 3 | J7: =IF(G7=3,3, IF(G7=2,2,1)) -> 3
B8: s4 | J8: =IF(G8=3,3, IF(G8=2,2,1)) -> 1
B9: s5 | J9: =IF(G9=3,3, IF(G9=2,2,1)) -> 1
B10: s6 | J10: =IF(G10=3,3, IF(G10=2,2,1)) -> 1
B11: s7 | J11: =IF(G11=3,3, IF(G11=2,2,1)) -> 1
B12: s8 | J12: =IF(G12=3,3, IF(G12=2,2,1)) -> 1
B13: s9 | J13: =IF(G13=3,3, IF(G13=2,2,1)) -> 1
B14: s10 | J14: =IF(G14=3,3, IF(G14=2,2,1)) -> 1
B15: s11 | J15: =IF(G15=3,3, IF(G15=2,2,1)) -> 1
B16: s12 | J16: =IF(G16=3,3, IF(G16=2,2,1)) -> 1
B17: s13 | J17: =IF(G17=3,3, IF(G17=2,2,1)) -> 1
B18: s14 | J18: =IF(G18=3,3, IF(G18=2,2,1)) -> 1
B19: s15 | J19: =IF(G19=3,3, IF(G19=2,2,1)) -> 1
... B24: s20 | J24: =IF(G24=3,3, IF(G24=2,2,1)) -> 1
B25: © iManagement • s.imboden • www.2iManagement.ch
G28: =CONCATENATE(" ",B5," ",C5) -> s1 Groupe 1
G29: =CONCATENATE(" ",B6," ",C6) -> s2 Groupe 2
G30: =CONCATENATE(" ",B7," ",C7) -> s3
G31: =CONCATENATE(" ",B8," ",C8) -> s4
G32: =CONCATENATE(" ",B9," ",C9) -> s5
G33: =CONCATENATE(" ",B10," ",C10) -> s6
G34: =CONCATENATE(" ",B11," ",C11) -> s7
G35: =CONCATENATE(" ",B12," ",C12) -> s8
G36: =CONCATENATE(" ",B13," ",C13) -> s9
G37: =CONCATENATE(" ",B14," ",C14) -> s10
G38: =CONCATENATE(" ",B15," ",C15) -> s11
G39: =CONCATENATE(" ",B16," ",C16) -> s12
... G47: =CONCATENATE(" ",B24," ",C24) -> s20

Sheet Struktur
B1: =' '!A65 -> A N P A S S U N G D E R S T R U K T U R E N
B4: =' '!A299 -> Ranking | C4: =' '!A66 -> Bezeichnung | D4: =' '!A70 -> Mitarbeiter- Nutzen | E4: =' '!A67 -> Anpassungen | F4: =' '!A69 -> Datum | G4: =' '!A64 -> Status
B5: =IF(D5="","",RANK(D5,D$5:D$24)+COUNTIF(D$5:D5,D5)-1) -> 2 | C5: Stellenbeschrieb | D5: 7 | F5: 41640 | G5: 2
B6: =IF(D6="","",RANK(D6,D$5:D$24)+COUNTIF(D$5:D6,D6)-1) -> 4 | C6: Vision & Strategie | D6: 6
B7: =IF(D7="","",RANK(D7,D$5:D$24)+COUNTIF(D$5:D7,D7)-1) -> 5 | C7: Organigramm | D7: 5
B8: =IF(D8="","",RANK(D8,D$5:D$24)+COUNTIF(D$5:D8,D8)-1) -> 1 | C8: Verantwortlichkeiten | D8: 8
B9: =IF(D9="","",RANK(D9,D$5:D$24)+COUNTIF(D$5:D9,D9)-1) -> 6 | C9: Kommunikation | D9: 3
B10: =IF(D10="","",RANK(D10,D$5:D$24)+COUNTIF(D$5:D10,D10)-1) -> 3 | C10: Knowledge Management | D10: 7
B11: =IF(D11="","",RANK(D11,D$5:D$24)+COUNTIF(D$5:D11,D11)-1)
B12: =IF(D12="","",RANK(D12,D$5:D$24)+COUNTIF(D$5:D12,D12)-1)
B13: =IF(D13="","",RANK(D13,D$5:D$24)+COUNTIF(D$5:D13,D13)-1)
B14: =IF(D14="","",RANK(D14,D$5:D$24)+COUNTIF(D$5:D14,D14)-1)
B15: =IF(D15="","",RANK(D15,D$5:D$24)+COUNTIF(D$5:D15,D15)-1)
B16: =IF(D16="","",RANK(D16,D$5:D$24)+COUNTIF(D$5:D16,D16)-1)
B17: =IF(D17="","",RANK(D17,D$5:D$24)+COUNTIF(D$5:D17,D17)-1)
B18: =IF(D18="","",RANK(D18,D$5:D$24)+COUNTIF(D$5:D18,D18)-1)
B19: =IF(D19="","",RANK(D19,D$5:D$24)+COUNTIF(D$5:D19,D19)-1)
B20: =IF(D20="","",RANK(D20,D$5:D$24)+COUNTIF(D$5:D20,D20)-1)
B21: =IF(D21="","",RANK(D21,D$5:D$24)+COUNTIF(D$5:D21,D21)-1)
B22: =IF(D22="","",RANK(D22,D$5:D$24)+COUNTIF(D$5:D22,D22)-1)
... B24: =IF(D24="","",RANK(D24,D$5:D$24)+COUNTIF(D$5:D24,D24)-1)
B25: © iManagement • s.imboden • www.2iManagement.ch
B28: Pareto X Axis | C28: Bars | D28: Ordered Rank | E28: Percentage
B29: =IF(D5="","",INDEX($B$5:$D$24,MATCH(D29,$B$5:$B$24,0),2)) -> Verantwortlichkeiten | C29: =IF(D5="","",INDEX($B$5:$D$24,MATCH(D29,$B$5:$B$24,0),3)) -> 8 | D29: 1 | E29: =IF(C29="","",C29/SUM($C$29:$C$48)) -> 0.22222222
B30: =IF(D6="","",INDEX($B$5:$D$24,MATCH(D30,$B$5:$B$24,0),2)) -> Stellenbeschrieb | C30: =IF(D6="","",INDEX($B$5:$D$24,MATCH(D30,$B$5:$B$24,0),3)) -> 7 | D30: 2 | E30: =IF(C30="","",(C30/SUM($C$29:$C$48)+E29)) -> 0.41666667
B31: =IF(D7="","",INDEX($B$5:$D$24,MATCH(D31,$B$5:$B$24,0),2)) -> Knowledge Management | C31: =IF(D7="","",INDEX($B$5:$D$24,MATCH(D31,$B$5:$B$24,0),3)) -> 7 | D31: 3 | E31: =IF(C31="","",(C31/SUM($C$29:$C$48)+E30)) -> 0.61111111
B32: =IF(D8="","",INDEX($B$5:$D$24,MATCH(D32,$B$5:$B$24,0),2)) -> Vision & Strategie | C32: =IF(D8="","",INDEX($B$5:$D$24,MATCH(D32,$B$5:$B$24,0),3)) -> 6 | D32: 4 | E32: =IF(C32="","",(C32/SUM($C$29:$C$48)+E31)) -> 0.77777778
B33: =IF(D9="","",INDEX($B$5:$D$24,MATCH(D33,$B$5:$B$24,0),2)) -> Organigramm | C33: =IF(D9="","",INDEX($B$5:$D$24,MATCH(D33,$B$5:$B$24,0),3)) -> 5 | D33: 5 | E33: =IF(C33="","",(C33/SUM($C$29:$C$48)+E32)) -> 0.91666667
B34: =IF(D10="","",INDEX($B$5:$D$24,MATCH(D34,$B$5:$B$24,0),2)) -> Kommunikation | C34: =IF(D10="","",INDEX($B$5:$D$24,MATCH(D34,$B$5:$B$24,0),3)) -> 3 | D34: 6 | E34: =IF(C34="","",(C34/SUM($C$29:$C$48)+E33)) -> 1
B35: =IF(D11="","",INDEX($B$5:$D$24,MATCH(D35,$B$5:$B$24,0),2)) | C35: =IF(D11="","",INDEX($B$5:$D$24,MATCH(D35,$B$5:$B$24,0),3)) | D35: 7 | E35: =IF(C35="","",(C35/SUM($C$29:$C$48)+E34))
B36: =IF(D12="","",INDEX($B$5:$D$24,MATCH(D36,$B$5:$B$24,0),2)) | C36: =IF(D12="","",INDEX($B$5:$D$24,MATCH(D36,$B$5:$B$24,0),3)) | D36: 8 | E36: =IF(C36="","",(C36/SUM($C$29:$C$48)+E35))
B37: =IF(D13="","",INDEX($B$5:$D$24,MATCH(D37,$B$5:$B$24,0),2)) | C37: =IF(D13="","",INDEX($B$5:$D$24,MATCH(D37,$B$5:$B$24,0),3)) | D37: 9 | E37: =IF(C37="","",(C37/SUM($C$29:$C$48)+E36))
B38: =IF(D14="","",INDEX($B$5:$D$24,MATCH(D38,$B$5:$B$24,0),2)) | C38: =IF(D14="","",INDEX($B$5:$D$24,MATCH(D38,$B$5:$B$24,0),3)) | D38: 10 | E38: =IF(C38="","",(C38/SUM($C$29:$C$48)+E37))
B39: =IF(D15="","",INDEX($B$5:$D$24,MATCH(D39,$B$5:$B$24,0),2)) | C39: =IF(D15="","",INDEX($B$5:$D$24,MATCH(D39,$B$5:$B$24,0),3)) | D39: 11 | E39: =IF(C39="","",(C39/SUM($C$29:$C$48)+E38))
B40: =IF(D16="","",INDEX($B$5:$D$24,MATCH(D40,$B$5:$B$24,0),2)) | C40: =IF(D16="","",INDEX($B$5:$D$24,MATCH(D40,$B$5:$B$24,0),3)) | D40: 12 | E40: =IF(C40="","",(C40/SUM($C$29:$C$48)+E39))
B41: =IF(D17="","",INDEX($B$5:$D$24,MATCH(D41,$B$5:$B$24,0),2)) | C41: =IF(D17="","",INDEX($B$5:$D$24,MATCH(D41,$B$5:$B$24,0),3)) | D41: 13 | E41: =IF(C41="","",(C41/SUM($C$29:$C$48)+E40))
... B48: =IF(D24="","",INDEX($B$5:$D$24,MATCH(D48,$B$5:$B$24,0),2)) | C48: =IF(D24="","",INDEX($B$5:$D$24,MATCH(D48,$B$5:$B$24,0),3)) | D48: 20 | E48: =IF(C48="","",(C48/SUM($C$29:$C$48)+E47))

Sheet Systeme
B1: =' '!A71 -> A N P A S S U N G D E R S Y S T E M E
B4: =' '!A299 -> Ranking | C4: =' '!A72 -> Bezeichnung | D4: =' '!A74 -> Kunden-nutzen | E4: =' '!A73 -> Anpassungen | F4: =' '!A75 -> Datum | G4: =' '!A64 -> Status
B5: =IF(D5="","",RANK(D5,D$5:D$24)+COUNTIF(D$5:D5,D5)-1) -> 3 | C5: SAP | D5: 4 | F5: 41640 | G5: 2
B6: =IF(D6="","",RANK(D6,D$5:D$24)+COUNTIF(D$5:D6,D6)-1) -> 1 | C6: Hardware | D6: 10
B7: =IF(D7="","",RANK(D7,D$5:D$24)+COUNTIF(D$5:D7,D7)-1) -> 2 | C7: Internetauftritt | D7: 5
B8: =IF(D8="","",RANK(D8,D$5:D$24)+COUNTIF(D$5:D8,D8)-1) -> 5 | C8: Managementinformations-system | D8: 1
B9: =IF(D9="","",RANK(D9,D$5:D$24)+COUNTIF(D$5:D9,D9)-1) -> 4 | C9: Software | D9: 3
B10: =IF(D10="","",RANK(D10,D$5:D$24)+COUNTIF(D$5:D10,D10)-1)
B11: =IF(D11="","",RANK(D11,D$5:D$24)+COUNTIF(D$5:D11,D11)-1)
B12: =IF(D12="","",RANK(D12,D$5:D$24)+COUNTIF(D$5:D12,D12)-1)
B13: =IF(D13="","",RANK(D13,D$5:D$24)+COUNTIF(D$5:D13,D13)-1)
B14: =IF(D14="","",RANK(D14,D$5:D$24)+COUNTIF(D$5:D14,D14)-1)
B15: =IF(D15="","",RANK(D15,D$5:D$24)+COUNTIF(D$5:D15,D15)-1)
B16: =IF(D16="","",RANK(D16,D$5:D$24)+COUNTIF(D$5:D16,D16)-1)
B17: =IF(D17="","",RANK(D17,D$5:D$24)+COUNTIF(D$5:D17,D17)-1)
B18: =IF(D18="","",RANK(D18,D$5:D$24)+COUNTIF(D$5:D18,D18)-1)
B19: =IF(D19="","",RANK(D19,D$5:D$24)+COUNTIF(D$5:D19,D19)-1)
B20: =IF(D20="","",RANK(D20,D$5:D$24)+COUNTIF(D$5:D20,D20)-1)
B21: =IF(D21="","",RANK(D21,D$5:D$24)+COUNTIF(D$5:D21,D21)-1)
... B24: =IF(D24="","",RANK(D24,D$5:D$24)+COUNTIF(D$5:D24,D24)-1)
B25: © iManagement • s.imboden • www.2iManagement.ch
B28: Pareto X Axis | C28: Bars | D28: Ordered Rank | E28: Percentage
B29: =IF(D5="","",INDEX($B$5:$D$24,MATCH(D29,$B$5:$B$24,0),2)) -> Hardware | C29: =IF(D5="","",INDEX($B$5:$D$24,MATCH(D29,$B$5:$B$24,0),3)) -> 10 | D29: 1 | E29: =IF(C29="","",C29/SUM($C$29:$C$48)) -> 0.43478261
B30: =IF(D6="","",INDEX($B$5:$D$24,MATCH(D30,$B$5:$B$24,0),2)) -> Internetauftritt | C30: =IF(D6="","",INDEX($B$5:$D$24,MATCH(D30,$B$5:$B$24,0),3)) -> 5 | D30: 2 | E30: =IF(C30="","",(C30/SUM($C$29:$C$48)+E29)) -> 0.65217391
B31: =IF(D7="","",INDEX($B$5:$D$24,MATCH(D31,$B$5:$B$24,0),2)) -> SAP | C31: =IF(D7="","",INDEX($B$5:$D$24,MATCH(D31,$B$5:$B$24,0),3)) -> 4 | D31: 3 | E31: =IF(C31="","",(C31/SUM($C$29:$C$48)+E30)) -> 0.82608696
B32: =IF(D8="","",INDEX($B$5:$D$24,MATCH(D32,$B$5:$B$24,0),2)) -> Software | C32: =IF(D8="","",INDEX($B$5:$D$24,MATCH(D32,$B$5:$B$24,0),3)) -> 3 | D32: 4 | E32: =IF(C32="","",(C32/SUM($C$29:$C$48)+E31)) -> 0.95652174
B33: =IF(D9="","",INDEX($B$5:$D$24,MATCH(D33,$B$5:$B$24,0),2)) -> Managementinformations-system | C33: =IF(D9="","",INDEX($B$5:$D$24,MATCH(D33,$B$5:$B$24,0),3)) -> 1 | D33: 5 | E33: =IF(C33="","",(C33/SUM($C$29:$C$48)+E32)) -> 1
B34: =IF(D10="","",INDEX($B$5:$D$24,MATCH(D34,$B$5:$B$24,0),2)) | C34: =IF(D10="","",INDEX($B$5:$D$24,MATCH(D34,$B$5:$B$24,0),3)) | D34: 6 | E34: =IF(C34="","",(C34/SUM($C$29:$C$48)+E33))
B35: =IF(D11="","",INDEX($B$5:$D$24,MATCH(D35,$B$5:$B$24,0),2)) | C35: =IF(D11="","",INDEX($B$5:$D$24,MATCH(D35,$B$5:$B$24,0),3)) | D35: 7 | E35: =IF(C35="","",(C35/SUM($C$29:$C$48)+E34))
B36: =IF(D12="","",INDEX($B$5:$D$24,MATCH(D36,$B$5:$B$24,0),2)) | C36: =IF(D12="","",INDEX($B$5:$D$24,MATCH(D36,$B$5:$B$24,0),3)) | D36: 8 | E36: =IF(C36="","",(C36/SUM($C$29:$C$48)+E35))
B37: =IF(D13="","",INDEX($B$5:$D$24,MATCH(D37,$B$5:$B$24,0),2)) | C37: =IF(D13="","",INDEX($B$5:$D$24,MATCH(D37,$B$5:$B$24,0),3)) | D37: 9 | E37: =IF(C37="","",(C37/SUM($C$29:$C$48)+E36))
B38: =IF(D14="","",INDEX($B$5:$D$24,MATCH(D38,$B$5:$B$24,0),2)) | C38: =IF(D14="","",INDEX($B$5:$D$24,MATCH(D38,$B$5:$B$24,0),3)) | D38: 10 | E38: =IF(C38="","",(C38/SUM($C$29:$C$48)+E37))
B39: =IF(D15="","",INDEX($B$5:$D$24,MATCH(D39,$B$5:$B$24,0),2)) | C39: =IF(D15="","",INDEX($B$5:$D$24,MATCH(D39,$B$5:$B$24,0),3)) | D39: 11 | E39: =IF(C39="","",(C39/SUM($C$29:$C$48)+E38))
B40: =IF(D16="","",INDEX($B$5:$D$24,MATCH(D40,$B$5:$B$24,0),2)) | C40: =IF(D16="","",INDEX($B$5:$D$24,MATCH(D40,$B$5:$B$24,0),3)) | D40: 12 | E40: =IF(C40="","",(C40/SUM($C$29:$C$48)+E39))
B41: =IF(D17="","",INDEX($B$5:$D$24,MATCH(D41,$B$5:$B$24,0),2)) | C41: =IF(D17="","",INDEX($B$5:$D$24,MATCH(D41,$B$5:$B$24,0),3)) | D41: 13 | E41: =IF(C41="","",(C41/SUM($C$29:$C$48)+E40))
... B48: =IF(D24="","",INDEX($B$5:$D$24,MATCH(D48,$B$5:$B$24,0),2)) | C48: =IF(D24="","",INDEX($B$5:$D$24,MATCH(D48,$B$5:$B$24,0),3)) | D48: 20 | E48: =IF(C48="","",(C48/SUM($C$29:$C$48)+E47))

Sheet Canvas
C1: =' '!A394 -> T H E B U S I N E S S M O D E L C A N V A S
C3: =' '!A395 -> Entwickelt für: | D3: =H1 -> 0 | E3: =' '!A396 -> Entwickelt von: | G3: =' '!A397 -> Aktualisiert am: | H3: =TODAY() -> 46049
C6: Key Partnerships | D6: Key Activities | E6: Value Propositions | G6: Customer Relationship | H6: Customer Segments
D23: Key Resources | G23: Channels
C39: Cost Structure | F39: Revenue Streams
C52: © iManagement • s.imboden • www.2iManagement.ch

Sheet Forces
B1: =' '!A138 -> C A N V A S : S T Ä R K E N & S C H W Ä C H E N
E3: =(P10+P15+P24+P29+P33+P41+P46+P50+P55) -> 195 | H3: =' '!A143 -> trifft überhaupt nicht zu | J3: =' '!A142 -> trifft eher nicht zu | L3: =' '!A141 -> trifft teilweise zu | N3: =' '!A140 -> trifft eher zu | P3: =' '!A139 -> trifft voll zu | S3: =' '!A191 -> Auswirkung (1 - 10)
E4: =(N10+N15+N24+N29+N33+N41+N50+N55) -> 80
U6: =CONCATENATE(' '!A195," ",E4," / ",E3) -> Total Punkte : 80 / 195
H7: =(COUNTIF(B118:B164,1)/39) -> 0.051282051 | J7: =(COUNTIF(B118:B164,2)/39) -> 0.20512821 | L7: =(COUNTIF(B118:B164,3)/39) -> 0.23076923 | N7: =(COUNTIF(B118:B164,4)/39) -> 0.15384615 | P7: =(COUNTIF(B118:B164,5)/39) -> 0.076923077
B10: 1 | D10: CUSTOMER RELATIONSHIP | G10: =SUM(B118:B121) -> 13 | N10: =SUM(B118:B121) -> 13 | O10: / | P10: 20
B11: 1.1 | D11: =' '!A144 -> Unsere Wertangebote (Value Proposition) entsprechen den Bedürfnissen der Kunden | S11: 9
B12: 1.2 | D12: =' '!A145 -> Unsere Wertangebote haben einen grossen Einfluss auf unser Networking | S12: 7
B13: 1.3 | D13: =' '!A146 -> Es bestehen grosse Synergien zwischen unseren Produkten und unseren Dienstleistungen | S13: 5
B14: 1.4 | D14: =' '!A147 -> Unsere Kunden sind zufrieden | S14: 3
B15: 2 | D15: REVENUE STREAMS | N15: =SUM(B123:B130) -> 25 | O15: / | P15: 40
B16: 2.1 | D16: =' '!A149 -> Unsere Margen sind hoch | S16: 5
B17: 2.2 | D17: =' '!A150 -> Unsere Erträge sind vorhersehbar | S17: 4
B18: 2.3 | D18: =' '!A151 -> Wir haben wiederkehrende Einnahmen und häufige wiederholte Käufe | S18: 8
B19: 2.4 | D19: =' '!A152 -> Unsere Einnahmequellen sind diversifiziert | S19: 8
B20: 2.5 | D20: =' '!A153 -> Unsere Einnahmequellen sind nachhaltig | S20: 5
B21: 2.6 | D21: =' '!A154 -> Wir ziehen die Erträge ein bevor wir weitere Verpflichtungen eingehen | S21: 9
B22: 2.7 | D22: =' '!A155 -> Die Höhe der Rechnungsbeträge entsprechen dem, was der Kunde bereit ist zu bezahlen | S22: 5
B23: 2.8 | D23: =' '!A156 -> Unsere Preisgestaltung entspricht dem, was der Kunde bereit ist zu bezahlen | S23: 7
B24: 3 | D24: COST STRUCTURE | N24: =SUM(B132:B135) -> 13 | O24: / | P24: 20
B25: 3.1 | D25: =' '!A158 -> Unsere Kosten sind vorhersehbar | S25: 5
B26: 3.2 | D26: =' '!A159 -> Unsere Kostenstruktur ist richtig auf unser Geschäftsmodell abgestimmt | S26: 5
B27: 3.3 | D27: =' '!A160 -> Unsere Aktivitäten sind Kosteneffizient | S27: 5
B28: 3.4 | D28: =' '!A161 -> Wir profitieren von Skaleneffekten | S28: 5
B29: 4 | D29: CUSTOMER SEGMENTS | N29: =SUM(B137:B139) -> 6 | O29: / | P29: 15
B30: 4.1 | D30: =' '!A163 -> Die Fluktuationsrate der Kunden ist gering | S30: 5
B31: 4.2 | D31: =' '!A164 -> Die Kundensegmentierung ist gut | S31: 5
B32: 4.3 | D32: =' '!A165 -> Wir gewinnen regelmässig neue Kunden | S32: 5
B33: 5 | D33: CHANNELS | N33: =SUM(B141:B147) -> 11 | O33: / | P33: 35
B34: 5.1 | D34: =' '!A167 -> Unsere Vertriebskanäle sind effizient | S34: 5
B35: 5.2 | D35: =' '!A168 -> Unsere Vertriebskanäle sind wirksam (effektiv) | S35: 5
B36: 5.3 | D36: =' '!A169 -> Die Penetration (Reichweite) der Vertriebskanäle ist gut | S36: 5
B37: 5.4 | D37: =' '!A170 -> Die Vertriebskanäle werden von unseren Kunden einfach identifiziert | S37: 5
B38: 5.5 | D38: =' '!A171 -> Die Vertriebskanäle sind sehr stark integriert | S38: 5
B39: 5.6 | D39: =' '!A172 -> Mit den Vertriebskanäle können Synergien und Kostenvorteile realisiert werden (economies of scope, Verbundvorteile) | S39: 5
B40: 5.7 | D40: =' '!A173 -> Die Vertriebskanäle sind auf die Kundensegmente abgestimmt | S40: 5
B41: 6 | D41: CUSTOMER RELATIONSHIP | N41: =SUM(B149:B152) -> 6 | O41: / | P41: 20
B42: 6.1 | D42: =' '!A175 -> Starke Kundenbeziehung | S42: 5
B43: 6.2 | D43: =' '!A176 -> Die Qualität der Beziehung entspricht der Kundensegmentierung | S43: 5
B44: 6.3 | D44: =' '!A177 -> Die Kundenbindung ist so stark, dass ein Wechsel hohe Kosten für den Kunden bringt | S44: 5
...

Sheet Chances
B1: =' '!A200 -> C A N V A S : C H A N C E N & G E F A H R E N
E3: =(N10+N18+N27+N31+N40+N48+N56+N63+N69) -> 183 | H3: =' '!A143 -> trifft überhaupt nicht zu | J3: =' '!A142 -> trifft eher nicht zu | L3: =' '!A141 -> trifft teilweise zu | N3: =' '!A140 -> trifft eher zu | P3: =' '!A139 -> trifft voll zu | S3: =' '!A191 -> Auswirkung (1 - 10)
E4: =(P10+P18+P27+P31+P40+P48+P56+P63+P69) -> 295
U6: =CONCATENATE(' '!A195," ",E3," / ",E4) -> Total Punkte : 183 / 295
H7: =(COUNTIF(B134:B200,1)/59) -> 0.084745763 | J7: =(COUNTIF(B134:B200,2)/59) -> 0.28813559 | L7: =(COUNTIF(B134:B200,3)/59) -> 0.25423729 | N7: =(COUNTIF(B134:B200,4)/59) -> 0.18644068 | P7: =(COUNTIF(B134:B200,5)/59) -> 0.18644068
B10: 1 | D10: CUSTOMER RELATIONSHIP | G10: =SUM(B134:B137) -> 13 | N10: =SUM(B134:B140) -> 23 | O10: / | P10: 35
B11: 1.1 | D11: =' '!A201 -> Wir können wiederkehrende Einnahmen generieren, indem wir von Produkte Dienstleistungen ableiten | S11: 9
B12: 1.2 | D12: =' '!A202 -> Wir integrieren unsere Produkte und Dienstleistungen | S12: 8
B13: 1.3 | D13: =' '!A203 -> Wir befriedigen zusätzliche Kundenbedürfnisse | S13: 7
B14: 1.4 | D14: =' '!A204 -> Es gibt Ergänzungen oder mögliche Erweiterungen für unsere Wertangebote (Value Propositions) | S14: 6
B15: 1.5 | D15: =' '!A205 -> Wir können unserer Kunden zusätzliche Dienstleistungen anbieten | S15: 4
B16: 1.6 | D16: =' '!A206 -> Es gibt Ersatzprodukte und -dienstleistungen | S16: 3
B17: 1.7 | D17: =' '!A207 -> Wettbewerber können den Kunden tiefere Preise und Mehrwert anbieten | S17: 3
B18: 2 | D18: REVENUE STREAMS | N18: =SUM(B142:B149) -> 22 | O18: / | P18: 40
B19: 2.1 | D19: =' '!A209 -> Wir können einmalige Umsätze durch wiederkehrenden Einkommen ersetzen | S19: 10
B20: 2.2 | D20: =' '!A210 -> Unsere Kunden sind bereit für zusätzliche Produkte oder Dienstleistungen zu bezahlen | S20: 9
B21: 2.3 | D21: =' '!A211 -> Wir haben Cross-Selling-Möglichkeit intern oder mit Partner zu tätigen | S21: 8
B22: 2.4 | D22: =' '!A212 -> Wir können zusätzliche Einnahmequellen generieren oder neu entwickeln | S22: 7
B23: 2.5 | D23: =' '!A213 -> Wir können die Preise erhöhen | S23: 6
B24: 2.6 | D24: =' '!A214 -> Unsere Margen sind durch Konkurrenten und/oder neuen Technologien gefährdet | S24: 5
B25: 2.7 | D25: =' '!A215 -> Wir sind von einem oder mehreren Einkommensquellen abhängig | S25: 4
B26: 2.8 | D26: =' '!A216 -> Wir haben Einnahmequellen, die bald versiegen werden | S26: 3
B27: 3 | D27: COST STRUCTURE | N27: =SUM(B151:B153) -> 9 | O27: / | P27: 15
B28: 3.1 | D28: =' '!A218 -> Wir können unsere Kosten senken | S28: 10
B29: 3.2 | D29: =' '!A219 -> Einige Kosten können unberechenbar werden | S29: 4
B30: 3.3 | D30: =' '!A220 -> Einige Kosten drohen schneller zu wachsen als die entsprechenden Einkünfte | S30: 10
B31: 4 | D31: CUSTOMER SEGMENTS | N31: =SUM(B155:B162) -> 24 | O31: / | P31: 40
B32: 4.1 | D32: =' '!A222 -> Wir können von einem wachsenden Markt profitieren | S32: 10
B33: 4.2 | D33: =' '!A223 -> Wir können neue Kundensegemente bedienen | S33: 9
B34: 4.3 | D34: =' '!A224 -> Aufgrund einer feineren Segmentierung, können wir unsere Kunden besser bedienen | S34: 8
B35: 4.4 | D35: =' '!A225 -> Es besteht die Gefahr, dass unser Markt bald gesättigt ist | S35: 7
B36: 4.5 | D36: =' '!A226 -> Unsere Konkurrenten bedrohen unseren Marktanteil | S36: 6
B37: 4.6 | D37: =' '!A227 -> Es besteht die Möglichkeit, dass wir Kunden verlieren | S37: 5
B38: 4.7 | D38: =' '!A228 -> Es besteht die Gefahr, dass unsere Kunden in Zahlungsverzug geraten | S38: 4
B39: 4.8 | D39: =' '!A229 -> Es besteht das Risiko, dass sich der Wettbewerb verschärft | S39: 3
B40: 5 | D40: CHANNELS | N40: =SUM(B164:B170) -> 20 | O40: / | P40: 35
B41: 5.1 | D41: =' '!A231 -> Wir können die Effizienz und Effektivität unserer Vertriebskanäle verbessern | S41: 1
B42: 5.2 | D42: =' '!A232 -> Wir können unserer Vertriebskanäle besser integrieren | S42: 2
B43: 5.3 | D43: =' '!A233 -> Wir können zusätzliche Partner-Vertriebskanäle finden | S43: 3
B44: 5.4 | D44: =' '!A234 -> Wir können unsere Margen steigern indem wir unsere Kunden direkt bedienen | S44: 4
...

Sheet Prozesse
B1: =' '!A58 -> A N P A S S U N G D E R P R O Z E S S E
B4: =' '!A299 -> Ranking | C4: =' '!A59 -> Prozess | D4: =' '!A63 -> Kunden-nutzen | E4: =' '!A60 -> Anpassungen | F4: =' '!A62 -> Datum | G4: =' '!A64 -> Status
B5: =IF(D5="","",RANK(D5,D$5:D$24)+COUNTIF(D$5:D5,D5)-1) -> 6 | C5: Process 1 | D5: 1 | F5: 41640 | G5: 2
B6: =IF(D6="","",RANK(D6,D$5:D$24)+COUNTIF(D$5:D6,D6)-1) -> 1 | C6: Process 2 | D6: 10
B7: =IF(D7="","",RANK(D7,D$5:D$24)+COUNTIF(D$5:D7,D7)-1) -> 4 | C7: Process 3 | D7: 5
B8: =IF(D8="","",RANK(D8,D$5:D$24)+COUNTIF(D$5:D8,D8)-1) -> 7 | C8: Process 4 | D8: 1
B9: =IF(D9="","",RANK(D9,D$5:D$24)+COUNTIF(D$5:D9,D9)-1) -> 5 | C9: Process 5 | D9: 3
B10: =IF(D10="","",RANK(D10,D$5:D$24)+COUNTIF(D$5:D10,D10)-1) -> 3 | C10: Process 6 | D10: 9
B11: =IF(D11="","",RANK(D11,D$5:D$24)+COUNTIF(D$5:D11,D11)-1) -> 2 | C11: Process 7 | D11: 10
B12: =IF(D12="","",RANK(D12,D$5:D$24)+COUNTIF(D$5:D12,D12)-1) | C12: Process 8
B13: =IF(D13="","",RANK(D13,D$5:D$24)+COUNTIF(D$5:D13,D13)-1) | C13: Process 9
B14: =IF(D14="","",RANK(D14,D$5:D$24)+COUNTIF(D$5:D14,D14)-1) | C14: Process 10
B15: =IF(D15="","",RANK(D15,D$5:D$24)+COUNTIF(D$5:D15,D15)-1) | C15: Process 11
B16: =IF(D16="","",RANK(D16,D$5:D$24)+COUNTIF(D$5:D16,D16)-1) | C16: Process 12
B17: =IF(D17="","",RANK(D17,D$5:D$24)+COUNTIF(D$5:D17,D17)-1) | C17: Process 13
B18: =IF(D18="","",RANK(D18,D$5:D$24)+COUNTIF(D$5:D18,D18)-1) | C18: Process 14
B19: =IF(D19="","",RANK(D19,D$5:D$24)+COUNTIF(D$5:D19,D19)-1) | C19: Process 15
B20: =IF(D20="","",RANK(D20,D$5:D$24)+COUNTIF(D$5:D20,D20)-1) | C20: Process 16
B21: =IF(D21="","",RANK(D21,D$5:D$24)+COUNTIF(D$5:D21,D21)-1) | C21: Process 17
B22: =IF(D22="","",RANK(D22,D$5:D$24)+COUNTIF(D$5:D22,D22)-1) | C22: Process 18
B23: =IF(D23="","",RANK(D23,D$5:D$24)+COUNTIF(D$5:D23,D23)-1) | C23: Process 19
B24: =IF(D24="","",RANK(D24,D$5:D$24)+COUNTIF(D$5:D24,D24)-1) | C24: Process 20
B25: © iManagement • s.imboden • www.2iManagement.ch
B28: Pareto X Axis | C28: Bars | D28: Ordered Rank | E28: Percentage
B29: =IF(D5="","",INDEX($B$5:$D$24,MATCH(D29,$B$5:$B$24,0),2)) -> Process 2 | C29: =IF(D5="","",INDEX($B$5:$D$24,MATCH(D29,$B$5:$B$24,0),3)) -> 10 | D29: 1 | E29: =IF(C29="","",C29/SUM($C$29:$C$48)) -> 0.25641026
B30: =IF(D6="","",INDEX($B$5:$D$24,MATCH(D30,$B$5:$B$24,0),2)) -> Process 7 | C30: =IF(D6="","",INDEX($B$5:$D$24,MATCH(D30,$B$5:$B$24,0),3)) -> 10 | D30: 2 | E30: =IF(C30="","",(C30/SUM($C$29:$C$48)+E29)) -> 0.51282051
B31: =IF(D7="","",INDEX($B$5:$D$24,MATCH(D31,$B$5:$B$24,0),2)) -> Process 6 | C31: =IF(D7="","",INDEX($B$5:$D$24,MATCH(D31,$B$5:$B$24,0),3)) -> 9 | D31: 3 | E31: =IF(C31="","",(C31/SUM($C$29:$C$48)+E30)) -> 0.74358974
B32: =IF(D8="","",INDEX($B$5:$D$24,MATCH(D32,$B$5:$B$24,0),2)) -> Process 3 | C32: =IF(D8="","",INDEX($B$5:$D$24,MATCH(D32,$B$5:$B$24,0),3)) -> 5 | D32: 4 | E32: =IF(C32="","",(C32/SUM($C$29:$C$48)+E31)) -> 0.87179487
B33: =IF(D9="","",INDEX($B$5:$D$24,MATCH(D33,$B$5:$B$24,0),2)) -> Process 5 | C33: =IF(D9="","",INDEX($B$5:$D$24,MATCH(D33,$B$5:$B$24,0),3)) -> 3 | D33: 5 | E33: =IF(C33="","",(C33/SUM($C$29:$C$48)+E32)) -> 0.94871795
B34: =IF(D10="","",INDEX($B$5:$D$24,MATCH(D34,$B$5:$B$24,0),2)) -> Process 1 | C34: =IF(D10="","",INDEX($B$5:$D$24,MATCH(D34,$B$5:$B$24,0),3)) -> 1 | D34: 6 | E34: =IF(C34="","",(C34/SUM($C$29:$C$48)+E33)) -> 0.97435897
B35: =IF(D11="","",INDEX($B$5:$D$24,MATCH(D35,$B$5:$B$24,0),2)) -> Process 4 | C35: =IF(D11="","",INDEX($B$5:$D$24,MATCH(D35,$B$5:$B$24,0),3)) -> 1 | D35: 7 | E35: =IF(C35="","",(C35/SUM($C$29:$C$48)+E34)) -> 1
B36: =IF(D12="","",INDEX($B$5:$D$24,MATCH(D36,$B$5:$B$24,0),2)) | C36: =IF(D12="","",INDEX($B$5:$D$24,MATCH(D36,$B$5:$B$24,0),3)) | D36: 8 | E36: =IF(C36="","",(C36/SUM($C$29:$C$48)+E35))
B37: =IF(D13="","",INDEX($B$5:$D$24,MATCH(D37,$B$5:$B$24,0),2)) | C37: =IF(D13="","",INDEX($B$5:$D$24,MATCH(D37,$B$5:$B$24,0),3)) | D37: 9 | E37: =IF(C37="","",(C37/SUM($C$29:$C$48)+E36))
B38: =IF(D14="","",INDEX($B$5:$D$24,MATCH(D38,$B$5:$B$24,0),2)) | C38: =IF(D14="","",INDEX($B$5:$D$24,MATCH(D38,$B$5:$B$24,0),3)) | D38: 10 | E38: =IF(C38="","",(C38/SUM($C$29:$C$48)+E37))
B39: =IF(D15="","",INDEX($B$5:$D$24,MATCH(D39,$B$5:$B$24,0),2)) | C39: =IF(D15="","",INDEX($B$5:$D$24,MATCH(D39,$B$5:$B$24,0),3)) | D39: 11 | E39: =IF(C39="","",(C39/SUM($C$29:$C$48)+E38))
B40: =IF(D16="","",INDEX($B$5:$D$24,MATCH(D40,$B$5:$B$24,0),2)) | C40: =IF(D16="","",INDEX($B$5:$D$24,MATCH(D40,$B$5:$B$24,0),3)) | D40: 12 | E40: =IF(C40="","",(C40/SUM($C$29:$C$48)+E39))
B41: =IF(D17="","",INDEX($B$5:$D$24,MATCH(D41,$B$5:$B$24,0),2)) | C41: =IF(D17="","",INDEX($B$5:$D$24,MATCH(D41,$B$5:$B$24,0),3)) | D41: 13 | E41: =IF(C41="","",(C41/SUM($C$29:$C$48)+E40))
... B48: =IF(D24="","",INDEX($B$5:$D$24,MATCH(D48,$B$5:$B$24,0),2)) | C48: =IF(D24="","",INDEX($B$5:$D$24,MATCH(D48,$B$5:$B$24,0),3)) | D48: 20 | E48: =IF(C48="","",(C48/SUM($C$29:$C$48)+E47))

Sheet Massnahmen
C1: =' '!A342 -> Z I E L E & S T R A T E G I E N C H A N G E M A N A G E M E N T
B5: =' '!A347 -> Nr. | C5: =' '!A355 -> Ziele | D5: =B5 -> Nr. | E5: =' '!A356 -> Indikatoren | G5: =' '!A350 -> IST | H5: =' '!A351 -> SOLL | I5: =' '!A352 -> erreicht | J5: =' '!A353 -> rot | K5: =' '!A354 -> gelb | M5: =B5 -> Nr. | N5: =' '!A348 -> Strategien | O5: =B5 -> Nr. | P5: =' '!A349 -> Strategische Indikatoren | R5: =G5 -> IST | S5: =H5 -> SOLL | T5: =I5 -> erreicht | U5: =J5 -> rot | V5: =K5 -> gelb
B7: 1 | C7: Ziel 1 | D7: i1 | E7: Indikator 1 | F7: =IF(E7<>"","?","") -> ? | G7: 50 | H7: 100 | I7: =IF(OR(G7="Ja",G7="JA",G7="ja",G7="Oui",G7="OUI",G7="oui"),100%, IF(OR(G7="Nein",G7="NEIN",G7="nein",G7="Oon",G7="NON",G7="non"),0%, IF(G7<>0, IF(H7>=G7,G7/H7, IF(H7<G7,H7/G7)), 0%))) -> 0.5 | J7: 0.7 | K7: 0.9 | L7: =IF(E7="","",IF(I7<=J7,3,IF(I7<=K7,2,1))) -> 3 | M7: s1 | N7: Strategie 1 | O7: o1 | P7: Indikator 1 | Q7: =IF(P7<>"","?","") -> ? | R7: 100 | S7: 200 | T7: =IF(OR(R7="Ja",R7="JA",R7="ja",R7="Oui",R7="OUI",R7="oui"),100%, IF(OR(R7="Nein",R7="NEIN",R7="nein",R7="Oon",R7="NON",R7="non"),0%, IF(R7<>0, IF(S7>=R7,R7/S7, IF(S7<R7,S7/R7)), 0%))) -> 0.5 | U7: 0.7 | V7: 0.9 | W7: =IF(P7="","",IF(T7<=U7,3,IF(T7<=V7,2,1))) -> 3
B8: 1 | M8: s2 | O8: o2 | Q8: =IF(P8<>"","?","") | T8: =IF(OR(R8="Ja",R8="JA",R8="ja",R8="Oui",R8="OUI",R8="oui"),100%, IF(OR(R8="Nein",R8="NEIN",R8="nein",R8="Oon",R8="NON",R8="non"),0%, IF(R8<>0, IF(S8>=R8,R8/S8, IF(S8<R8,S8/R8)), 0%))) -> 0 | U8: 0.7 | V8: 0.9 | W8: =IF(P8="","",IF(T8<=U8,3,IF(T8<=V8,2,1)))
B9: 1 | D9: i2 | F9: =IF(E9<>"","?","") | I9: =IF(OR(G9="Ja",G9="JA",G9="ja",G9="Oui",G9="OUI",G9="oui"),100%, IF(OR(G9="Nein",G9="NEIN",G9="nein",G9="Oon",G9="NON",G9="non"),0%, IF(G9<>0, IF(H9>=G9,G9/H9, IF(H9<G9,H9/G9)), 0%))) -> 0 | J9: 0.7 | K9: 0.9 | L9: =IF(E9="","",IF(I9<=J9,3,IF(I9<=K9,2,1))) | M9: s3 | O9: o3 | Q9: =IF(P9<>"","?","") | T9: =IF(OR(R9="Ja",R9="JA",R9="ja",R9="Oui",R9="OUI",R9="oui"),100%, IF(OR(R9="Nein",R9="NEIN",R9="nein",R9="Oon",R9="NON",R9="non"),0%, IF(R9<>0, IF(S9>=R9,R9/S9, IF(S9<R9,S9/R9)), 0%))) -> 0 | U9: 0.7 | V9: 0.9 | W9: =IF(P9="","",IF(T9<=U9,3,IF(T9<=V9,2,1)))
B10: 1 | M10: s4 | O10: o4 | Q10: =IF(P10<>"","?","") | T10: =IF(OR(R10="Ja",R10="JA",R10="ja",R10="Oui",R10="OUI",R10="oui"),100%, IF(OR(R10="Nein",R10="NEIN",R10="nein",R10="Oon",R10="NON",R10="non"),0%, IF(R10<>0, IF(S10>=R10,R10/S10, IF(S10<R10,S10/R10)), 0%))) -> 0 | U10: 0.7 | V10: 0.9 | W10: =IF(P10="","",IF(T10<=U10,3,IF(T10<=V10,2,1)))
B11: 1 | D11: i3 | F11: =IF(E11<>"","?","") | I11: =IF(OR(G11="Ja",G11="JA",G11="ja",G11="Oui",G11="OUI",G11="oui"),100%, IF(OR(G11="Nein",G11="NEIN",G11="nein",G11="Oon",G11="NON",G11="non"),0%, IF(G11<>0, IF(H11>=G11,G11/H11, IF(H11<G11,H11/G11)), 0%))) -> 0 | J11: 0.7 | K11: 0.9 | L11: =IF(E11="","",IF(I11<=J11,3,IF(I11<=K11,2,1))) | M11: s5 | O11: o5 | Q11: =IF(P11<>"","?","") | T11: =IF(OR(R11="Ja",R11="JA",R11="ja",R11="Oui",R11="OUI",R11="oui"),100%, IF(OR(R11="Nein",R11="NEIN",R11="nein",R11="Oon",R11="NON",R11="non"),0%, IF(R11<>0, IF(S11>=R11,R11/S11, IF(S11<R11,S11/R11)), 0%))) -> 0 | U11: 0.7 | V11: 0.9 | W11: =IF(P11="","",IF(T11<=U11,3,IF(T11<=V11,2,1)))
B12: 1 | M12: s6 | O12: o6 | Q12: =IF(P12<>"","?","") | T12: =IF(OR(R12="Ja",R12="JA",R12="ja",R12="Oui",R12="OUI",R12="oui"),100%, IF(OR(R12="Nein",R12="NEIN",R12="nein",R12="Oon",R12="NON",R12="non"),0%, IF(R12<>0, IF(S12>=R12,R12/S12, IF(S12<R12,S12/R12)), 0%))) -> 0 | U12: 0.7 | V12: 0.9 | W12: =IF(P12="","",IF(T12<=U12,3,IF(T12<=V12,2,1)))
B13: 1 | D13: i4 | F13: =IF(E13<>"","?","") | I13: =IF(OR(G13="Ja",G13="JA",G13="ja",G13="Oui",G13="OUI",G13="oui"),100%, IF(OR(G13="Nein",G13="NEIN",G13="nein",G13="Oon",G13="NON",G13="non"),0%, IF(G13<>0, IF(H13>=G13,G13/H13, IF(H13<G13,H13/G13)), 0%))) -> 0 | J13: 0.7 | K13: 0.9 | L13: =IF(E13="","",IF(I13<=J13,3,IF(I13<=K13,2,1))) | M13: s7 | O13: o7 | Q13: =IF(P13<>"","?","") | T13: =IF(OR(R13="Ja",R13="JA",R13="ja",R13="Oui",R13="OUI",R13="oui"),100%, IF(OR(R13="Nein",R13="NEIN",R13="nein",R13="Oon",R13="NON",R13="non"),0%, IF(R13<>0, IF(S13>=R13,R13/S13, IF(S13<R13,S13/R13)), 0%))) -> 0 | U13: 0.7 | V13: 0.9 | W13: =IF(P13="","",IF(T13<=U13,3,IF(T13<=V13,2,1)))
B14: 1 | M14: s8 | O14: o8 | Q14: =IF(P14<>"","?","") | T14: =IF(OR(R14="Ja",R14="JA",R14="ja",R14="Oui",R14="OUI",R14="oui"),100%, IF(OR(R14="Nein",R14="NEIN",R14="nein",R14="Oon",R14="NON",R14="non"),0%, IF(R14<>0, IF(S14>=R14,R14/S14, IF(S14<R14,S14/R14)), 0%))) -> 0 | U14: 0.7 | V14: 0.9 | W14: =IF(P14="","",IF(T14<=U14,3,IF(T14<=V14,2,1)))
B15: 2 | C15: Ziel 2 | D15: i5 | F15: =IF(E15<>"","?","") | I15: =IF(OR(G15="Ja",G15="JA",G15="ja",G15="Oui",G15="OUI",G15="oui"),100%, IF(OR(G15="Nein",G15="NEIN",G15="nein",G15="Oon",G15="NON",G15="non"),0%, IF(G15<>0, IF(H15>=G15,G15/H15, IF(H15<G15,H15/G15)), 0%))) -> 0 | J15: 0.7 | K15: 0.9 | L15: =IF(E15="","",IF(I15<=J15,3,IF(I15<=K15,2,1))) | M15: s9 | O15: o9 | Q15: =IF(P15<>"","?","") | T15: =IF(OR(R15="Ja",R15="JA",R15="ja",R15="Oui",R15="OUI",R15="oui"),100%, IF(OR(R15="Nein",R15="NEIN",R15="nein",R15="Oon",R15="NON",R15="non"),0%, IF(R15<>0, IF(S15>=R15,R15/S15, IF(S15<R15,S15/R15)), 0%))) -> 0 | U15: 0.7 | V15: 0.9 | W15: =IF(P15="","",IF(T15<=U15,3,IF(T15<=V15,2,1)))
B16: 2 | M16: s10 | O16: o10 | Q16: =IF(P16<>"","?","") | T16: =IF(OR(R16="Ja",R16="JA",R16="ja",R16="Oui",R16="OUI",R16="oui"),100%, IF(OR(R16="Nein",R16="NEIN",R16="nein",R16="Oon",R16="NON",R16="non"),0%, IF(R16<>0, IF(S16>=R16,R16/S16, IF(S16<R16,S16/R16)), 0%))) -> 0 | U16: 0.7 | V16: 0.9 | W16: =IF(P16="","",IF(T16<=U16,3,IF(T16<=V16,2,1)))
B17: 2 | D17: i6 | F17: =IF(E17<>"","?","") | I17: =IF(OR(G17="Ja",G17="JA",G17="ja",G17="Oui",G17="OUI",G17="oui"),100%, IF(OR(G17="Nein",G17="NEIN",G17="nein",G17="Oon",G17="NON",G17="non"),0%, IF(G17<>0, IF(H17>=G17,G17/H17, IF(H17<G17,H17/G17)), 0%))) -> 0 | J17: 0.7 | K17: 0.9 | L17: =IF(E17="","",IF(I17<=J17,3,IF(I17<=K17,2,1))) | M17: s11 | O17: o11 | Q17: =IF(P17<>"","?","") | T17: =IF(OR(R17="Ja",R17="JA",R17="ja",R17="Oui",R17="OUI",R17="oui"),100%, IF(OR(R17="Nein",R17="NEIN",R17="nein",R17="Oon",R17="NON",R17="non"),0%, IF(R17<>0, IF(S17>=R17,R17/S17, IF(S17<R17,S17/R17)), 0%))) -> 0 | U17: 0.7 | V17: 0.9 | W17: =IF(P17="","",IF(T17<=U17,3,IF(T17<=V17,2,1)))
B18: 2 | M18: s12 | O18: o12 | Q18: =IF(P18<>"","?","") | T18: =IF(OR(R18="Ja",R18="JA",R18="ja",R18="Oui",R18="OUI",R18="oui"),100%, IF(OR(R18="Nein",R18="NEIN",R18="nein",R18="Oon",R18="NON",R18="non"),0%, IF(R18<>0, IF(S18>=R18,R18/S18, IF(S18<R18,S18/R18)), 0%))) -> 0 | U18: 0.7 | V18: 0.9 | W18: =IF(P18="","",IF(T18<=U18,3,IF(T18<=V18,2,1)))
B19: 2 | D19: i7 | F19: =IF(E19<>"","?","") | I19: =IF(OR(G19="Ja",G19="JA",G19="ja",G19="Oui",G19="OUI",G19="oui"),100%, IF(OR(G19="Nein",G19="NEIN",G19="nein",G19="Oon",G19="NON",G19="non"),0%, IF(G19<>0, IF(H19>=G19,G19/H19, IF(H19<G19,H19/G19)), 0%))) -> 0 | J19: 0.7 | K19: 0.9 | L19: =IF(E19="","",IF(I19<=J19,3,IF(I19<=K19,2,1))) | M19: s13 | O19: o13 | Q19: =IF(P19<>"","?","") | T19: =IF(OR(R19="Ja",R19="JA",R19="ja",R19="Oui",R19="OUI",R19="oui"),100%, IF(OR(R19="Nein",R19="NEIN",R19="nein",R19="Oon",R19="NON",R19="non"),0%, IF(R19<>0, IF(S19>=R19,R19/S19, IF(S19<R19,S19/R19)), 0%))) -> 0 | U19: 0.7 | V19: 0.9 | W19: =IF(P19="","",IF(T19<=U19,3,IF(T19<=V19,2,1)))
B20: 2 | M20: s14 | O20: o14 | Q20: =IF(P20<>"","?","") | T20: =IF(OR(R20="Ja",R20="JA",R20="ja",R20="Oui",R20="OUI",R20="oui"),100%, IF(OR(R20="Nein",R20="NEIN",R20="nein",R20="Oon",R20="NON",R20="non"),0%, IF(R20<>0, IF(S20>=R20,R20/S20, IF(S20<R20,S20/R20)), 0%))) -> 0 | U20: 0.7 | V20: 0.9 | W20: =IF(P20="","",IF(T20<=U20,3,IF(T20<=V20,2,1)))
B21: 2 | D21: i8 | F21: =IF(E21<>"","?","") | I21: =IF(OR(G21="Ja",G21="JA",G21="ja",G21="Oui",G21="OUI",G21="oui"),100%, IF(OR(G21="Nein",G21="NEIN",G21="nein",G21="Oon",G21="NON",G21="non"),0%, IF(G21<>0, IF(H21>=G21,G21/H21, IF(H21<G21,H21/G21)), 0%))) -> 0 | J21: 0.7 | K21: 0.9 | L21: =IF(E21="","",IF(I21<=J21,3,IF(I21<=K21,2,1))) | M21: s15 | O21: o15 | Q21: =IF(P21<>"","?","") | T21: =IF(OR(R21="Ja",R21="JA",R21="ja",R21="Oui",R21="OUI",R21="oui"),100%, IF(OR(R21="Nein",R21="NEIN",R21="nein",R21="Oon",R21="NON",R21="non"),0%, IF(R21<>0, IF(S21>=R21,R21/S21, IF(S21<R21,S21/R21)), 0%))) -> 0 | U21: 0.7 | V21: 0.9 | W21: =IF(P21="","",IF(T21<=U21,3,IF(T21<=V21,2,1)))
B22: 2 | M22: s16 | O22: o16 | Q22: =IF(P22<>"","?","") | T22: =IF(OR(R22="Ja",R22="JA",R22="ja",R22="Oui",R22="OUI",R22="oui"),100%, IF(OR(R22="Nein",R22="NEIN",R22="nein",R22="Oon",R22="NON",R22="non"),0%, IF(R22<>0, IF(S22>=R22,R22/S22, IF(S22<R22,S22/R22)), 0%))) -> 0 | U22: 0.7 | V22: 0.9 | W22: =IF(P22="","",IF(T22<=U22,3,IF(T22<=V22,2,1)))
