Workbook
Name Bars: OFFSET([1]Pareto!$F$7,0,0,COUNT([1]Pareto!$F:$F))
Name Bars: OFFSET(Entwicklungsmassnahmen!#REF!,0,0,COUNT(Entwicklungsmassnahmen!$G:$G))
Name Bars: OFFSET([2]Pareto!$F$7,0,0,COUNT([2]Pareto!$F:$F))
Name Bars: OFFSET([1]Pareto!$F$7,0,0,COUNT([1]Pareto!$F:$F))
Name Bars: OFFSET([3]Pareto!$F$7,0,0,COUNT([3]Pareto!$F:$F))
Name Bars: OFFSET(Reklamationen!$C$29,0,0,COUNT(Reklamationen!$F:$F))
Name Bars: OFFSET([3]Pareto!$F$7,0,0,COUNT([3]Pareto!$F:$F))
Name Bars: OFFSET(Pareto!$F$7,0,0,COUNT(Pareto!$F:$F))
Name Datum: '[4] '!$Z$4
Name Datum: ' '!$Z$4
Name graph_forces: Selbst!$A$114
Name Graph_Kompetenzen: Kernkompetenzen!$A$52
Name Graph_Kunden: Markt!$A$50
Name Graph_Kunden: KostenNutzen!$A$64
Name graph_pestel: Trends!$A$124
Name Graph_Risk: Risikomgmt!$A$55
Name graph_stakeholder: Eisenhower!$A$50
Name graph_stakeholder: Erneuerung!$A$50
Name Note_Arbeit: BGespräch!$O$5
Name Note_Arbeit: Vorselektion!$N$5
Name paretoXaxis: OFFSET([1]Pareto!$E$7,0,0,COUNT([1]Pareto!$F:$F))
Name paretoXaxis: OFFSET(Entwicklungsmassnahmen!#REF!,0,0,COUNT(Entwicklungsmassnahmen!$G:$G))
Name paretoXaxis: OFFSET([2]Pareto!$E$7,0,0,COUNT([2]Pareto!$F:$F))
Name paretoXaxis: OFFSET([1]Pareto!$E$7,0,0,COUNT([1]Pareto!$F:$F))
Name paretoXaxis: OFFSET([3]Pareto!$E$7,0,0,COUNT([3]Pareto!$F:$F))
Name paretoXaxis: OFFSET(Reklamationen!$B$29,0,0,COUNT(Reklamationen!$F:$F))
Name paretoXaxis: OFFSET([3]Pareto!$E$7,0,0,COUNT([3]Pareto!$F:$F))
Name paretoXaxis: OFFSET(Pareto!$E$7,0,0,COUNT(Pareto!$F:$F))
Name Percentage: OFFSET([1]Pareto!$H$7,0,0,COUNT([1]Pareto!$F:$F))
Name Percentage: OFFSET(Entwicklungsmassnahmen!#REF!,0,0,COUNT(Entwicklungsmassnahmen!$G:$G))
Name Percentage: OFFSET([2]Pareto!$H$7,0,0,COUNT([2]Pareto!$F:$F))
Name Percentage: OFFSET([1]Pareto!$H$7,0,0,COUNT([1]Pareto!$F:$F))
Name Percentage: OFFSET([3]Pareto!$H$7,0,0,COUNT([3]Pareto!$F:$F))
Name Percentage: OFFSET(Reklamationen!$E$29,0,0,COUNT(Reklamationen!$F:$F))
Name Percentage: OFFSET([3]Pareto!$H$7,0,0,COUNT([3]Pareto!$F:$F))
Name Percentage: OFFSET(Pareto!$H$7,0,0,COUNT(Pareto!$F:$F))
Name rechts_massnahmen: Cockpit!$N$2
Name Sprachen: ' '!$C$3:$G$3
Name Strategie_1: Cockpit!$C$7
Name Strategie_1: Massnahmen!$C$7
Name Strategie_10: Cockpit!$C$79
Name Strategie_10: Massnahmen!$C$79
Name Strategie_2: Cockpit!$C$15
Name Strategie_2: Massnahmen!$C$15
Name Strategie_3: Cockpit!$C$23
Name Strategie_3: Massnahmen!$C$23
Name Strategie_4: Cockpit!$C$31
Name Strategie_4: Massnahmen!$C$31
Name Strategie_5: Cockpit!$C$39
Name Strategie_5: Massnahmen!$C$39
Name Strategie_6: Cockpit!$C$47
Name Strategie_6: Massnahmen!$C$47
Name Strategie_7: Cockpit!$C$55
Name Strategie_7: Massnahmen!$C$55
Name Strategie_8: Cockpit!$C$63
Name Strategie_8: Massnahmen!$C$63
Name Strategie_9: Cockpit!$C$71
Name Strategie_9: Massnahmen!$C$71
Name top: Trends!$A$2
Name top_forces: FragenFeedback!$A$8

Sheet  
A1: =OFFSET($C1,0,$Z$5-1) -> Français | C1: Deutsch | D1: Français | E1: English | F1: Italiano
A2: Aktuelle Sprache | C2: Sprache 1 | D2: Sprache 2 | E2: Sprache 3 | F2: Sprache 4 | G2: Sprache 5
A3: Aktuell angezeigte Sprache | C3: Deutsch | D3: Français | E3: English | F3: Italiano | G3: 5_???
B4: 2 | Z4: 55153
A5: =OFFSET($C5,0,$Z$5-1) -> G E S T I O N D E S R E S S O U R C E S H U M A I N E S | B5: =' '!A957 -> Supérieur(e) hiérarchique | C5: H U M A N R E S O U R C E S M A N A G E M E N T | D5: G E S T I O N D E S R E S S O U R C E S H U M A I N E S | E5: H U M A N R E S O U R C E S M A N A G E M E N T | G5: contact info@2imanagement.ch | Z5: =IF(AND(MenuHRM!C28="© iManagement • s.imboden • www.2iManagement.ch", TODAY()<=$Z$4), $B$4,5) -> 2
A6: =OFFSET($C6,0,$Z$5-1) -> Marketing | C6: Marketing | D6: Marketing | E6: Marketing | G6: contact info@2imanagement.ch
A7: =OFFSET($C7,0,$Z$5-1) -> recruter | C7: rekrutieren | D7: recruter | E7: Recruitment | G7: contact info@2imanagement.ch | Z7: Deutsch
A8: =OFFSET($C8,0,$Z$5-1) -> mobiliser | C8: mobilisieren | D8: mobiliser | G8: contact info@2imanagement.ch | Z8: Français
A9: =OFFSET($C9,0,$Z$5-1) -> développer | C9: entwickeln | D9: développer | G9: contact info@2imanagement.ch | Z9: English
A10: =OFFSET($C10,0,$Z$5-1) -> évaluer | C10: beurteilen | D10: évaluer | G10: contact info@2imanagement.ch | Z10: Italiano
A11: =OFFSET($C11,0,$Z$5-1) -> prendre congé | C11: verabschieden | D11: prendre congé | G11: contact info@2imanagement.ch
A12: =OFFSET($C12,0,$Z$5-1) -> Admin | C12: Admin | D12: Admin | E12: Admin | F12: Admin | G12: contact info@2imanagement.ch
A13: =OFFSET($C13,0,$Z$5-1) -> Conduite du personnel | C13: Personalführung | D13: Conduite du personnel | G13: contact info@2imanagement.ch
A14: =OFFSET($C14,0,$Z$5-1) -> Leadership | C14: Leadership | D14: Leadership | G14: contact info@2imanagement.ch
A15: =OFFSET($C15,0,$Z$5-1) -> Structure | C15: Struktur | D15: Structure | G15: contact info@2imanagement.ch
A16: =OFFSET($C16,0,$Z$5-1) -> Systèmes | C16: Systeme | D16: Systèmes | G16: contact info@2imanagement.ch
A17: =OFFSET($C17,0,$Z$5-1) -> Processus | C17: Prozesse | D17: Processus | G17: contact info@2imanagement.ch
A18: =OFFSET($C18,0,$Z$5-1) -> Personnel | C18: Personal | D18: Personnel | G18: contact info@2imanagement.ch
A19: =OFFSET($C19,0,$Z$5-1) -> Compé-tences | C19: Kompe-tenzen | D19: Compé-tences | G19: contact info@2imanagement.ch
A20: =OFFSET($C20,0,$Z$5-1) -> Communi-cation | C20: Kommuni-kation | D20: Communi-cation | G20: contact info@2imanagement.ch
A21: =OFFSET($C21,0,$Z$5-1) -> Déblocage (Unfreezing) | C21: Auftauen (Unfreezing) | D21: Déblocage (Unfreezing) | G21: contact info@2imanagement.ch
A22: =OFFSET($C22,0,$Z$5-1) -> Changer (Moving) | C22: Verändern (Moving) | D22: Changer (Moving) | G22: contact info@2imanagement.ch
A23: =OFFSET($C23,0,$Z$5-1) -> Stabiliser (Refreezing) | C23: Stabilisieren (Refreezing) | D23: Stabiliser (Refreezing) | G23: contact info@2imanagement.ch
A24: =OFFSET($C24,0,$Z$5-1) -> Votre logo: | C24: Ihr Logo: | D24: Votre logo: | E24: Your logo: | F24: Vostro logo:
A25: =OFFSET($C25,0,$Z$5-1) -> R E C R U T E M E N T D U P E R S O N N E L | C25: P E R S O N A L B E S C H A F F U N G | D25: R E C R U T E M E N T D U P E R S O N N E L | E25: R E C R U I T M E N T | G25: contact info@2imanagement.ch
A26: =OFFSET($C26,0,$Z$5-1) -> La bonne personne au bon moment au bon endroit | C26: Die richtige Person zur richtigen Zeit an der richtigen Stelle | D26: La bonne personne au bon moment au bon endroit | G26: contact info@2imanagement.ch
A27: =OFFSET($C27,0,$Z$5-1) -> Planification des besoins | C27: Bedarfsplanung | D27: Planification des besoins | G27: contact info@2imanagement.ch
A28: =OFFSET($C28,0,$Z$5-1) -> Profil requis | C28: Anforderungsprofil | D28: Profil requis | G28: contact info@2imanagement.ch
A29: =OFFSET($C29,0,$Z$5-1) -> Description de poste | C29: Stellenbeschreibung | D29: Description de poste | G29: contact info@2imanagement.ch
A30: =OFFSET($C30,0,$Z$5-1) -> Avis de recrutement | C30: Stellenausschreibung | D30: Avis de recrutement | G30: contact info@2imanagement.ch
A31: =OFFSET($C31,0,$Z$5-1) -> Présélection | C31: Vorselektion | D31: Présélection | G31: contact info@2imanagement.ch
A32: =OFFSET($C32,0,$Z$5-1) -> Sélection | C32: Selektion | D32: Sélection | G32: contact info@2imanagement.ch
A33: =OFFSET($C33,0,$Z$5-1) -> Période d'essai | C33: Einarbeitung/Probezeit | D33: Période d'essai | G33: contact info@2imanagement.ch
A34: =OFFSET($C34,0,$Z$5-1) -> M O B I L I S E R L E P E R S O N N E L | C34: P E R S O N A L E I N S A T Z | D34: M O B I L I S E R L E P E R S O N N E L | G34: contact info@2imanagement.ch
A35: =OFFSET($C35,0,$Z$5-1) -> Bilan personnel | C35: Standortbestimmung | D35: Bilan personnel | G35: contact info@2imanagement.ch
A36: =OFFSET($C36,0,$Z$5-1) -> Règles relatives au retour d'information (feed-back) | C36: Feedbackregeln | D36: Règles relatives au retour d'information (feed-back) | G36: contact info@2imanagement.ch
A37: =OFFSET($C37,0,$Z$5-1) -> Mener des entretiens | C37: Gespräche führen | D37: Mener des entretiens | G37: contact info@2imanagement.ch
... A43: =OFFSET($C43,0,$Z$5-1) -> D É V E L O P P E M E N T D U P E R S O N N E L | C43: P E R S O N A L E N T W I C K L U N G | D43: D É V E L O P P E M E N T D U P E R S O N N E L | G43: contact info@2imanagement.ch
A44: =OFFSET($C44,0,$Z$5-1) -> Able to go, but happy to stay | C44: Able to go, but happy to stay | D44: Able to go, but happy to stay | E44: Able to go, but happy to stay | G44: contact info@2imanagement.ch
A45: =OFFSET($C45,0,$Z$5-1) -> Aperçu | C45: Uebersicht | D45: Aperçu | G45: contact info@2imanagement.ch
...

Sheet MenuHRM
C1: =' '!A5 -> G E S T I O N D E S R E S S O U R C E S H U M A I N E S
C28: © iManagement • s.imboden • www.2iManagement.ch | N28: V1.1.0

Sheet Zielvereinbarung
B1: =' '!A946 -> E N T R E T I E N D ' É V A L U A T I O N
B3: =' '!A956 -> Collaborateur(trice)
B4: =' '!A957 -> Supérieur(e) hiérarchique
B5: =' '!A962 -> Département / Section
B6: =' '!A958 -> Période d'évaluation
B7: =' '!A959 -> Date de vérification de conformité aux objectifs
B8: =' '!A960 -> Date de l'entretien final
B10: =' '!A963 -> Objectifs stratégique de la direction :
B11: 1
B12: 2
B13: 3
B15: =' '!A971 -> N° | C15: =' '!A972 -> Objectifs de performance (SMART) | D15: =' '!A974 -> Indicateurs | E15: =' '!A966 -> non atteint | F15: =' '!A967 -> partiellement atteint | G15: =' '!A968 -> entièrement atteint | H15: =' '!A969 -> nettement dépassé
B17: 1
C18: =' '!A947 -> Remarques:
B20: 2
C21: =$C$18 -> Remarques:
B23: 3
C24: =$C$18 -> Remarques:
B27: =' '!A978 -> Mesures de développement (compétences d'action, compétences professionnelles)
B35: =B15 -> N° | C35: =' '!A973 -> Objectifs de développement personnel | D35: =D15 -> Indicateurs | E35: =E15 -> non atteint | F35: =F15 -> partiellement atteint | G35: =G15 -> entièrement atteint | H35: =H15 -> nettement dépassé
B37: 4
C38: =$C$18 -> Remarques:
B40: 5
C41: =$C$18 -> Remarques:
B43: 6
C44: =$C$18 -> Remarques:
B47: =' '!A979 -> Mesures de développement (compétences personnelles, compétences sociales)
C56: =' '!A983 -> Je suis d'accord avec cette évaluation | D56: =' '!A984 -> Je ne suis pas d'accord avec cette évaluation
B59: =' '!A982 -> Remarques et suggestions
B67: =' '!A998 -> Date
B68: =' '!A999 -> Signature du collaborateur / de la collaboratrice
B69: =' '!A1000 -> Signature du / de la supérieur(e) hiérarchique
B71: © iManagement • s.imboden • www.2iManagement.ch

Sheet Marketing
B1: =' '!A63 -> M A R K E T I N G R H
B24: © iManagement • s.imboden • www.2iManagement.ch

Sheet Markt
B1: =' '!A1538 -> M A R C H É D U P E R S O N N E L
B5: =' '!A1545 -> No. | C5: =' '!A1539 -> Marché | D5: =' '!A1543 -> Caractéristiques | E5: =' '!A1540 -> Potentiel | F5: =' '!A1541 -> Croissance attendue | G5: Markt-volumen
B6: M1 | C6: Markt 1 | E6: 10 | F6: 6 | G6: 2 | H6: =IF(G6=3,3, IF(G6=2,2,1)) -> 2
B7: M2 | C7: Markt 2 | E7: 9 | F7: 10 | G7: 3 | H7: =IF(G7=3,3, IF(G7=2,2,1)) -> 3
B8: M3 | C8: Markt 3 | E8: 8 | F8: 1 | G8: 2 | H8: =IF(G8=3,3, IF(G8=2,2,1)) -> 2
B9: M4 | C9: Markt 4 | E9: 7 | F9: 3 | G9: 1 | H9: =IF(G9=3,3, IF(G9=2,2,1)) -> 1
B10: M5 | C10: Markt 5 | E10: 6 | F10: 2 | G10: 1 | H10: =IF(G10=3,3, IF(G10=2,2,1)) -> 1
B11: M6 | C11: Markt 6 | E11: 5 | F11: 4 | H11: =IF(G11=3,3, IF(G11=2,2,1)) -> 1
B12: © iManagement • s.imboden • www.2iManagement.ch
B49: © iManagement • s.imboden • www.2iManagement.ch

Sheet MarketingIntern
B1: =' '!A1506 -> Check-list Marketing RH interne
B3: =' '!A1507 -> Objectif : accroître l'attractivité en interne | D3: =IF(E3=8,1,3) -> 1 | E3: =SUM(D4:D11) -> 8
A4: 1 | B4: =' '!A1508 -> Charte de l'entreprise (vision, identité) | D4: 1
A5: 2 | B5: =' '!A1509 -> Possibilités de perfectionnements et de formations continues (pools de développement) → Développement du personnel | D5: 1
A6: 3 | B6: =' '!A1510 -> Développement de carrière et gestion des compétences | D6: 1
A7: 4 | B7: =' '!A1511 -> Systèmes et modèles de rémunération | D7: 1
A8: 5 | B8: =' '!A1512 -> Incitations à la performance (bonus, intéressement) | D8: 1
A9: 6 | B9: =' '!A1513 -> Prestations sociales de l'entreprise (prévoyance vieillesse) | D9: 1
A10: 7 | B10: =' '!A1514 -> Facteurs d'attractivité (marque employeur) | D10: 1
A11: 8 | B11: =' '!A1515 -> Rotation / Jobenrichment (enrichissement des tâches) / Jobenlargement (élargissement des tâches) | D11: 1
B12: © iManagement • s.imboden • www.2iManagement.ch

Sheet MarketingExtern
B1: =' '!A1516 -> Check-list Marketing du personnel externe
B3: =' '!A1517 -> Objectif : accroître l'attractivité à l'extérieur | D3: =IF(E3=12,1,3) -> 1 | E3: =SUM(D4:D15) -> 12
A4: 1 | B4: =' '!A1518 -> Attribution de stages, mémoires de fin d'études, et travaux de bachelor | D4: 1
A5: 2 | B5: =' '!A1519 -> Notoriété / image / facteurs d'attractivité en tant qu'employeur (marque employeur) | D5: 1
A6: 3 | B6: =' '!A1520 -> Proposer une formation intéressante / des études / un programme de stages | D6: 1
A7: 4 | B7: =' '!A1521 -> Présence dans les salons professionnels | D7: 1
A8: 5 | B8: =' '!A1522 -> Recrutement Hautes Écoles/Universités | D8: 1
A9: 6 | B9: =' '!A1523 -> Articles / annonces dans les magazines spécialisés et les quotidiens, ou en ligne | D9: 1
A10: 7 | B10: =' '!A1524 -> Offres d'emploi | D10: 1
A11: 8 | B11: =' '!A1525 -> Rémunération conforme aux usages du marché + X (incitations, bonus, prestations supplémentaires) | D11: 1
A12: 9 | B12: =' '!A1526 -> Gestion des candidatures | D12: 1
A13: 10 | B13: =' '!A1527 -> Jeux de simulation en ligne | D13: 1
A14: 11 | B14: =' '!A1528 -> Journées d'information et candidatures (en interne) | D14: 1
A15: 12 | B15: =' '!A1529 -> Labels de qualité tels que Investors in People | D15: 1
B16: © iManagement • s.imboden • www.2iManagement.ch

Sheet Kommunikation
B1: =' '!A1711 -> C O M M U N I C A T I O N
A4: x!A192
B7: =' '!A1712 -> Interne
B8: =' '!A1719 -> No. | C8: =' '!A1720 -> Désignation | D8: =' '!A1722 -> Qui ? | E8: =' '!A1723 -> Quand ? | F8: =' '!A1724 -> Priorité | G8: =' '!A1725 -> Remarques | H8: =' '!A1726 -> Statut
B9: 1 | F9: 4 | H9: 2 | I9: =IF(F9=0,0.1,F9) -> 4
B10: 2 | F10: 2 | I10: =IF(F10=0,0.1,F10) -> 2
B11: 3 | F11: 2 | I11: =IF(F11=0,0.1,F11) -> 2
B12: 4 | I12: =IF(F12=0,0.1,F12) -> 0.1
B13: 5 | I13: =IF(F13=0,0.1,F13) -> 0.1
B14: 6 | I14: =IF(F14=0,0.1,F14) -> 0.1
B15: 7 | I15: =IF(F15=0,0.1,F15) -> 0.1
B16: 8 | I16: =IF(F16=0,0.1,F16) -> 0.1
B17: 9 | I17: =IF(F17=0,0.1,F17) -> 0.1
B18: 10 | I18: =IF(F18=0,0.1,F18) -> 0.1
B20: =' '!A1713 -> Externe
B21: =$B$8 -> No. | C21: =$C$8 -> Désignation | D21: =$D$8 -> Qui ? | E21: =$E$8 -> Quand ? | F21: =$F$8 -> Priorité | G21: =G8 -> Remarques | H21: =$H$8 -> Statut
B22: 1 | F22: 3 | H22: 2 | I22: =IF(F22=0,0.1,F22) -> 3
B23: 2 | F23: 2 | I23: =IF(F23=0,0.1,F23) -> 2
B24: 3 | F24: 4 | I24: =IF(F24=0,0.1,F24) -> 4
B25: 4 | F25: 3 | I25: =IF(F25=0,0.1,F25) -> 3
B26: 5 | F26: 2 | I26: =IF(F26=0,0.1,F26) -> 2
B27: 6 | F27: 3 | I27: =IF(F27=0,0.1,F27) -> 3
B28: 7 | F28: 3 | I28: =IF(F28=0,0.1,F28) -> 3
B29: 8 | F29: 3 | I29: =IF(F29=0,0.1,F29) -> 3
B30: 9 | F30: 2 | I30: =IF(F30=0,0.1,F30) -> 2
B31: 10 | F31: 2 | I31: =IF(F31=0,0.1,F31) -> 2
B33: =' '!A1714 -> Internet
B34: =$B$8 -> No. | C34: =$C$8 -> Désignation | D34: =$D$8 -> Qui ? | E34: =$E$8 -> Quand ? | F34: =$F$8 -> Priorité | G34: =G21 -> Remarques | H34: =$H$8 -> Statut
B35: 1 | F35: 3 | H35: 2 | I35: =IF(F35=0,0.1,F35) -> 3
B36: 2 | F36: 1 | I36: =IF(F36=0,0.1,F36) -> 1
B37: 3 | F37: 3 | I37: =IF(F37=0,0.1,F37) -> 3
B38: 4 | I38: =IF(F38=0,0.1,F38) -> 0.1
B39: 5 | I39: =IF(F39=0,0.1,F39) -> 0.1
B40: 6 | I40: =IF(F40=0,0.1,F40) -> 0.1
B41: 7 | I41: =IF(F41=0,0.1,F41) -> 0.1
B42: 8 | I42: =IF(F42=0,0.1,F42) -> 0.1
B43: 9 | I43: =IF(F43=0,0.1,F43) -> 0.1
B44: 10 | I44: =IF(F44=0,0.1,F44) -> 0.1
B46: =' '!A1715 -> Social Medias
B47: =$B$8 -> No. | C47: =$C$8 -> Désignation | D47: =$D$8 -> Qui ? | E47: =$E$8 -> Quand ? | F47: =$F$8 -> Priorité | G47: =G34 -> Remarques | H47: =$H$8 -> Statut
...

Sheet Benchmark
B1: =' '!A127 -> B E N C H M A R K I N G
B3: =' '!A128 -> Statut | C3: =' '!A129 -> No. | D3: =' '!A130 -> Objets de comparaison | E3: =' '!A132 -> Nous | F3: =' '!A133 -> Concurrence | I3: =' '!A131 -> Remarques
E4: l | F4: u
A5: =E5-F5 -> -3 | B5: =IF(A5>=2,1, IF(A5=0,2, IF(OR(A5=1,A5=-1, AND(E5=0,F5=0)),2,3))) -> 3 | C5: 1 | D5: Comparaison 1 | E5: -3 | F5: 0
A6: =E6-F6 -> -2 | B6: =IF(A6>=2,1, IF(A6=0,2, IF(OR(A6=1,A6=-1, AND(E6=0,F6=0)),2,3))) -> 3 | C6: 2 | D6: Comparaison 2 | E6: 1 | F6: 3
A7: =E7-F7 -> -1 | B7: =IF(A7>=2,1, IF(A7=0,2, IF(OR(A7=1,A7=-1, AND(E7=0,F7=0)),2,3))) -> 2 | C7: 3 | E7: 1 | F7: 2
A8: =E8-F8 -> 0 | B8: =IF(A8>=2,1, IF(A8=0,2, IF(OR(A8=1,A8=-1, AND(E8=0,F8=0)),2,3))) -> 2 | C8: 4 | E8: -1 | F8: -1
A9: =E9-F9 -> -4 | B9: =IF(A9>=2,1, IF(A9=0,2, IF(OR(A9=1,A9=-1, AND(E9=0,F9=0)),2,3))) -> 3 | C9: 5 | E9: -3 | F9: 1
A10: =E10-F10 -> 0 | B10: =IF(A10>=2,1, IF(A10=0,2, IF(OR(A10=1,A10=-1, AND(E10=0,F10=0)),2,3))) -> 2 | C10: 6 | E10: 1 | F10: 1
A11: =E11-F11 -> -4 | B11: =IF(A11>=2,1, IF(A11=0,2, IF(OR(A11=1,A11=-1, AND(E11=0,F11=0)),2,3))) -> 3 | C11: 7 | E11: -3 | F11: 1
A12: =E12-F12 -> 2 | B12: =IF(A12>=2,1, IF(A12=0,2, IF(OR(A12=1,A12=-1, AND(E12=0,F12=0)),2,3))) -> 1 | C12: 8 | E12: 3 | F12: 1
A13: =E13-F13 -> 0 | B13: =IF(A13>=2,1, IF(A13=0,2, IF(OR(A13=1,A13=-1, AND(E13=0,F13=0)),2,3))) -> 2 | C13: 9 | E13: 1 | F13: 1
A14: =E14-F14 -> -2 | B14: =IF(A14>=2,1, IF(A14=0,2, IF(OR(A14=1,A14=-1, AND(E14=0,F14=0)),2,3))) -> 3 | C14: 10 | E14: -1 | F14: 1
A15: =E15-F15 -> 1 | B15: =IF(A15>=2,1, IF(A15=0,2, IF(OR(A15=1,A15=-1, AND(E15=0,F15=0)),2,3))) -> 2 | C15: 11 | E15: 2 | F15: 1
A16: =E16-F16 -> -2 | B16: =IF(A16>=2,1, IF(A16=0,2, IF(OR(A16=1,A16=-1, AND(E16=0,F16=0)),2,3))) -> 3 | C16: 12 | E16: -1 | F16: 1
A17: =E17-F17 -> -1 | B17: =IF(A17>=2,1, IF(A17=0,2, IF(OR(A17=1,A17=-1, AND(E17=0,F17=0)),2,3))) -> 2 | C17: 13 | E17: 0 | F17: 1
A18: =E18-F18 -> -3 | B18: =IF(A18>=2,1, IF(A18=0,2, IF(OR(A18=1,A18=-1, AND(E18=0,F18=0)),2,3))) -> 3 | C18: 14 | E18: -2 | F18: 1
... A34: =E34-F34 -> 0 | B34: =IF(A34>=2,1, IF(A34=0,2, IF(OR(A34=1,A34=-1, AND(E34=0,F34=0)),2,3))) -> 2 | C34: 30 | E34: 0 | F34: 0
C35: © iManagement • s.imboden • www.2iManagement.ch

Sheet Trends
B1: =' '!A93 -> T E N D A N C E S D E D É V E L O P P E M E N T
C5: =' '!A94 -> Tendances politiques | D5: =IF(E27<>0,E27,0.1) -> 3
C6: =' '!A102 -> Tendances économiques | D6: =IF(E41<>0,E41,0.1) -> 0.1
C7: =' '!A103 -> Tendances sociologiques | D7: =IF(E55<>0,E55,0.1) -> 1
C8: =' '!A104 -> Tendances technologiques | D8: =IF(E69<>0,E69,0.1) -> 3
C9: =' '!A105 -> Tendances écologiques | D9: =IF(E83<>0,E83,0.1) -> 0.1
C10: =' '!A106 -> Tendances légales | D10: =E97 -> 0
C15: =' '!A94 -> Tendances politiques
B16: =' '!A95 -> No. | C16: =' '!A96 -> Facteurs d'influence | D16: =' '!A97 -> Impact | E16: =' '!A98 -> Intensité de l'impact | F16: =' '!A99 -> Ten- dance | G16: =' '!A100 -> Remarques | H16: =' '!A101 -> Statut | I16: =COUNTIF(H16:H26,1) -> 1
B17: 1 | E17: 4 | F17: 2 | H17: 1 | I17: =COUNTIF(H17:H26,2) -> 0
B18: =$B17+1 -> 2 | E18: 3 | I18: =COUNTIF(H18:H27,3) -> 0
B19: =$B18+1 -> 3 | E19: 3
B20: =$B19+1 -> 4
B21: =$B20+1 -> 5
B22: =$B21+1 -> 6
B23: =$B22+1 -> 7
B24: =$B23+1 -> 8
B25: =$B24+1 -> 9
B26: =$B25+1 -> 10
D27: =' '!A108 -> Nbr. >= 3 | E27: =COUNTIFS(E17:E26,"<=4",E17:E26,">=3") -> 3
C29: =' '!A102 -> Tendances économiques
B30: =B16 -> No. | C30: =C16 -> Facteurs d'influence | D30: =D16 -> Impact | E30: =E16 -> Intensité de l'impact | F30: =F16 -> Ten- dance | G30: =G16 -> Remarques | H30: =H16 -> Statut | I30: =COUNTIF(H30:H40,1) -> 0
B31: 1 | E31: 2 | F31: 1 | H31: 3 | I31: =COUNTIF(H30:H40,2) -> 1
B32: =$B31+1 -> 2 | H32: 2 | I32: =COUNTIF(H30:H41,3) -> 1
B33: =$B32+1 -> 3
B34: =$B33+1 -> 4
B35: =$B34+1 -> 5
B36: =$B35+1 -> 6
B37: =$B36+1 -> 7
B38: =$B37+1 -> 8
B39: =$B38+1 -> 9
B40: =$B39+1 -> 10
D41: =$D$27 -> Nbr. >= 3 | E41: =COUNTIFS(E31:E40,"<=4",E31:E40,">=3") -> 0
C43: =' '!A103 -> Tendances sociologiques
B44: =B16 -> No. | C44: =C16 -> Facteurs d'influence | D44: =D16 -> Impact | E44: =E16 -> Intensité de l'impact | F44: =F16 -> Ten- dance | G44: =G16 -> Remarques | H44: =H16 -> Statut | I44: =COUNTIF(H44:H54,1) -> 1
B45: 1 | E45: 3 | F45: 1 | H45: 1 | I45: =COUNTIF(H44:H54,2) -> 0
B46: =$B45+1 -> 2 | I46: =COUNTIF(H44:H55,3) -> 0
B47: =$B46+1 -> 3
B48: =$B47+1 -> 4
B49: =$B48+1 -> 5
...

Sheet Gewinnung
B1: =' '!A25 -> R E C R U T E M E N T D U P E R S O N N E L
B24: © iManagement • s.imboden • www.2iManagement.ch

Sheet UebersichtAnforderung
B1: =' '!A719 -> A P E R Ç U P R O F I L S R E Q U I S
B4: =' '!A676 -> N° | C4: =' '!A720 -> Poste | D4: =' '!A721 -> Descriptif succinct | E4: =' '!A86 -> Statut
B5: 1 | C5: Institutleitung HES-SO | D5: =' '!A722 -> Exemple | E5: 3
B6: 2 | E6: 1
B7: 3
B8: 4
B9: 5
B10: 6
B11: 7
B12: 8
B13: 9
B14: 10
B15: 11
B16: 12
B17: 13
B18: 14
... B34: 30
B35: © iManagement • s.imboden • www.2iManagement.ch

Sheet Anforderungsprofil
B1: =' '!A675 -> P R O F I L R E Q U I S | E1: =' '!A681 -> Poste : | F1: Beispiel Institutsleitung HES-SO
F2: a lkajfad
F3: =MenuHRM!$M$1 -> 0
A4: x!A192
B7: =' '!A682 -> Compétences professionnelles
B8: =' '!A676 -> N° | C8: =' '!A677 -> Secteur | D8: =' '!A678 -> Exigences | E8: =' '!A679 -> Impératif (3) Souhaité (2) Optionnel (1) | F8: =' '!A680 -> Motivations, explications | G8: =' '!A1726 -> Statut
B9: 1 | C9: Formation professionnelle initiale | D9: EFZ mit Berufsmatura | E9: 3 | G9: 1 | H9: =IF(E9=0,0.1,E9) -> 3
B10: 2 | C10: Uni/EPF/HES | D10: Master of science | E10: 3 | F10: Ist nötig zum Unterrichten | G10: 1 | H10: =IF(E10=0,0.1,E10) -> 3
B11: 3 | C11: =' '!A685 -> Perfectionnement | D11: Führung, Projektmanagement, Qualitätsmanagement, Changemanagement | E11: 2 | G11: 1 | H11: =IF(E11=0,0.1,E11) -> 2
B12: 4 | C12: =' '!A686 -> Expérience professionnelle | D12: Mindestens 10 Jahre | E12: 3 | G12: 1 | H12: =IF(E12=0,0.1,E12) -> 3
B13: 5 | C13: =' '!A687 -> Expérience du leadership | D13: Mindestens 5 Jahre | E13: 3 | G13: 1 | H13: =IF(E13=0,0.1,E13) -> 3
B14: 6 | C14: =' '!A688 -> Langues | D14: D / F sehr gute Kenntnisse (Schrift & Sprache) | E14: 3 | F14: Wichtig in einem zweisprachigen Kanton | G14: 1 | H14: =IF(E14=0,0.1,E14) -> 3
B15: 7 | C15: =' '!A689 -> Informatique | D15: MS Office Produkte, SAP | E15: 1 | G15: 1 | H15: =IF(E15=0,0.1,E15) -> 1
B16: 8 | C16: =' '!A690 -> Autres | D16: Kenntnisse der Walliser Politik | E16: 1 | G16: 1 | H16: =IF(E16=0,0.1,E16) -> 1
B17: 9 | C17: Andere | D17: Umgang mit "Social Medias" | E17: 2 | G17: 1 | H17: =IF(E17=0,0.1,E17) -> 2
B18: 10 | C18: Andere | D18: Didaktisch-pädagogogische Kenntnisse | E18: 2 | F18: Ist wichtig beim Umgang mit den Dozenten | G18: 1 | H18: =IF(E18=0,0.1,E18) -> 2
B20: =' '!A691 -> Compétences personnelles
B21: =$B$8 -> N° | C21: =$C$8 -> Secteur | D21: =$D$8 -> Exigences | E21: =$E$8 -> Impératif (3) Souhaité (2) Optionnel (1) | F21: =$F$8 -> Motivations, explications | G21: =$G$8 -> Statut
B22: 1 | C22: =' '!A692 -> Responsabilité personnelle / Autonomie | D22: Arbeitet selbstständig und nimmt seine Eigenverantwortung wahr | E22: 3 | F22: Muss eigenständig Entscheidungen treffen können und die Konsequenzen tragen | G22: 1 | H22: =IF(E22=0,0.1,E22) -> 3
B23: 2 | C23: =' '!A693 -> Capacité de mise en œuvre | D23: Kann sich selbst motivieren und setzt die Aufgaben konsequent um | E23: 2 | G23: 1 | H23: =IF(E23=0,0.1,E23) -> 2
B24: 3 | C24: =' '!A694 -> Créativité / capacité d'innovation | D24: Ist innovativ und kreativ, denkt mit | E24: 2 | G24: 1 | H24: =IF(E24=0,0.1,E24) -> 2
B25: 4 | C25: =' '!A695 -> Endurance | D25: Ist auch in Stresssituationen belastbar und ausdauernd | E25: 3 | G25: 1 | H25: =IF(E25=0,0.1,E25) -> 3
B26: 5 | C26: =' '!A696 -> Aptitude à s'imposer | D26: Setzt sich in schwierigen Situationen durch | E26: 2 | F26: Insbesondere bei "administrativen" Arbeiten | G26: 1 | H26: =IF(E26=0,0.1,E26) -> 2
B27: 6 | C27: =' '!A697 -> Intégrité / loyauté | D27: Ist dem Arbeitgeber gegenüber loyal | E27: 2 | G27: 1 | H27: =IF(E27=0,0.1,E27) -> 2
B28: 7 | C28: =' '!A698 -> Disposition à apprendre et à changer | D28: Ist bereit, sich ständig neu zu orientieren und hat eine hohe Veränderungsbereitschaft | E28: 3 | F28: HES-SO befindet sich im Umbruch | G28: 1 | H28: =IF(E28=0,0.1,E28) -> 3
B29: 8 | C29: =' '!A699 -> Mode de pensée holistique | D29: Kann vernetzt denken und sieht auch die politischen Zusammenhänge | E29: 2 | G29: 1 | H29: =IF(E29=0,0.1,E29) -> 2
B30: 9 | C30: =' '!A700 -> Concentration sur les objectifs et les résultats | D30: Definiert sich Ziele und setzt diese konsequent um | E30: 2 | G30: 1 | H30: =IF(E30=0,0.1,E30) -> 2
B31: 10 | C31: =' '!A701 -> Flexibilité | D31: Ist flexibel bei den Arbeitszeiten und dem Arbeitsort | E31: 1 | F31: Mehrere Schulen im ganzen Kanton verteilt | G31: 1 | H31: =IF(E31=0,0.1,E31) -> 1
B33: =' '!A703 -> Compétences sociales
B34: =$B$8 -> N° | C34: =$C$8 -> Secteur | D34: =$D$8 -> Exigences | E34: =$E$8 -> Impératif (3) Souhaité (2) Optionnel (1) | F34: =$F$8 -> Motivations, explications | G34: =$G$8 -> Statut
B35: 1 | C35: =' '!A704 -> Aptitudes de communication | D35: Hat sehr hohe Kommunikationskompetenzen | E35: 3 | F35: Ist wichtig, da die Dozenten sehr selbstständig arbeiten | G35: 1 | H35: =IF(E35=0,0.1,E35) -> 3
B36: 2 | C36: =' '!A705 -> Empathie / sensibilité | D36: Hat die nötige Sensivität um persönliche Probleme zu erkennen. Hört zu | E36: 2 | G36: 1 | H36: =IF(E36=0,0.1,E36) -> 2
B37: 3 | C37: =' '!A706 -> Aptitude à la critique et au conflit | D37: Hat eine Feedbackkultur und geht den Konflikten nicht aus dem Weg | E37: 2 | G37: 1 | H37: =IF(E37=0,0.1,E37) -> 2
B38: 4 | C38: =' '!A707 -> Orientation client | D38: Ist in hohem Mass kundenorientiert | E38: 3 | F38: Kundenzufriedenheit ist für die Entwicklung der Schule sehr wichtig | G38: 1 | H38: =IF(E38=0,0.1,E38) -> 3
B39: 5 | C39: =' '!A708 -> Aptitude au travail en équipe | D39: Ist ein ausgewiesener Teamplayer | E39: 2 | G39: 1 | H39: =IF(E39=0,0.1,E39) -> 2
B40: 6 | C40: =' '!A709 -> Habileté de négociation | D40: Hat ein gutes Verhandlungsgeschick | E40: 2 | F40: auch auf politischem Niveau | G40: 1 | H40: =IF(E40=0,0.1,E40) -> 2
B41: 7 | C41: =' '!A710 -> Aptitude à établir des réseaux | D41: Hat ein grosses Beziehungsnetzwerk kantonal und national (evt. international) | E41: 3 | F41: Insbesondere Vernetzung innerhalb des Kantons (Ober- und Unterwallis) | G41: 1 | H41: =IF(E41=0,0.1,E41) -> 3
B42: 8 | C42: =' '!A711 -> Compétence de conseil et coaching | D42: Besitzt gute Beratungs- und Coachingkompetenzen | E42: 2 | G42: 1 | H42: =IF(E42=0,0.1,E42) -> 2
B43: 9 | C43: =' '!A712 -> Autres | H43: =IF(E43=0,0.1,E43) -> 0.1
B44: 10 | H44: =IF(E44=0,0.1,E44) -> 0.1
...

Sheet UebersichtStellenbeschrieb
B1: =' '!A1049 -> A P E R Ç U D E S C R I P T I O N S D E P O S T E S
B4: =' '!A676 -> N° | C4: =' '!A1050 -> Description de poste | D4: =' '!A721 -> Descriptif succinct | E4: =' '!A86 -> Statut
B5: 1 | C5: Beispiel 1 | D5: =' '!A722 -> Exemple | E5: 3
B6: 2 | E6: 1
B7: 3
B8: 4
B9: 5
B10: 6
B11: 7
B12: 8
B13: 9
B14: 10
B15: 11
B16: 12
B17: 13
B18: 14
... B34: 30
B35: © iManagement • s.imboden • www.2iManagement.ch

Sheet Stellenbeschrieb
B1: =' '!A1048 -> D E S C R I P T I O N D E P O S T E
B3: =' '!A1051 -> Entreprise | D3: HES-SO Valais-Wallis | F3: =' '!A1055 -> Nom prénom
B4: =' '!A1052 -> Intitulé du poste | F4: =' '!A1061 -> N° de salarié
B5: =' '!A1054 -> Rang hiérarchique / Fonction | F5: =' '!A1056 -> % du poste | G5: 1 | H5: =IF((H14+H24+H34+H40)<>0,H14+H24+H34+H40,"")
B6: =' '!A1053 -> Département / Équipe | F6: =' '!A1059 -> Échelon de salaire
B7: =' '!A1060 -> Total Personnel subordonné | F7: =' '!A1057 -> Supérieur(e) hiérarchique
B8: =' '!A1062 -> Modifié le | D8: =TODAY() -> 46049 | F8: =' '!A1058 -> Adjoint(e)
B10: =' '!A1063 -> Finalité & objectif du poste
B11: =' '!A1064 -> Lien avec les objectifs de l’entreprise
B12: =' '!A1065 -> Pouvoirs de décision & procurations
B14: 1 | C14: =' '!A1066 -> Tâches principales | H14: =SUM(H15:H23) -> 0
B15: 1.1
B16: 1.2
B17: 1.3
B18: 1.4
B19: 1.5
B20: 1.6
B21: 1.7
B22: 1.8
B23: 1.9
B24: 2 | C24: =' '!A1069 -> Tâches secondaires | H24: =SUM(H25:H33) -> 0
B25: 2.1
B26: 2.2
B27: 2.3
B28: 2.4
B29: 2.5
B30: 2.6
B31: 2.7
B32: 2.8
B33: 2.9
B34: 3 | C34: =' '!A1070 -> Fonctions de direction | H34: =SUM(H35:H39) -> 0
B35: 3.1
B36: 3.2
B37: 3.3
B38: 3.4
B39: 3.5
B40: 4 | C40: =' '!A1071 -> Autre type de participation | H40: =SUM(H41:H45) -> 0
B41: 4.1
B42: 4.2
B43: 4.3
...

Sheet CheckStellenauschreibung
B1: =' '!A642 -> Check-list Avis de recrutement
A3: 1 | B3: =F3 -> 0.99666667 | C3: =IF((SUM(C5:C8))=(COUNT(C5:C8)),1,3) -> 1 | D3: =' '!A574 -> Responsable | E3: =' '!A575 -> Délai | F3: =-((SUM(C5:C8))/(COUNT(C5:C8)*3))+133% -> 0.99666667
A5: 1.1 | B5: =' '!A646 -> Publicité vers l'extérieur (employeur innovant et intéressant) | C5: 1 | D5: ?? | E5: 42005
A6: 1.2 | B6: =' '!A647 -> Avis de recrutement transparent et attractif | C6: 1
A7: 1.3 | B7: =' '!A648 -> Absence de discrimination (sur la base du sexe, de l'âge, de l'origine ethnique, de la religion, du handicap etc.) | C7: 1
A8: 1.4 | B8: =' '!A649 -> Traitement professionnel et rapide (la première impression est décisive ! | C8: 1
A9: 2 | B9: =F9 -> 0.99666667 | C9: =IF((SUM(C10:C20))=(COUNT(C10:C20)),1,3) -> 1 | D9: =$D$3 -> Responsable | E9: =$E$3 -> Délai | F9: =-((SUM(C10:C20))/(COUNT(C10:C20)*3))+133% -> 0.99666667
A10: 2.1 | B10: =' '!A650 -> Désignation du poste et pourcentage d'embauche souhaité | C10: 1
A11: 2.2 | B11: =' '!A651 -> Tâches et, le cas échéant, activités concrètes | C11: 1
A12: 2.3 | B12: =' '!A652 -> Profil requis (cf. Profil requis) | C12: 1
A13: 2.4 | B13: =' '!A653 -> Compétences et responsabilités | C13: 1
A14: 2.5 | B14: =' '!A654 -> Insertion dans la structure globale, supérieurs hiérarchiques | C14: 1
A15: 2.6 | B15: =' '!A655 -> Rémunération, prestations sociales et autres avantages | C15: 1
A16: 2.7 | B16: =' '!A656 -> Perspectives d'avenir et possibilités d'avancement | C16: 1
A17: 2.8 | B17: =' '!A657 -> Date de pourvoi du poste | C17: 1
A18: 2.9 | B18: =' '!A658 -> Profil de l'entreprise | C18: 1
A19: 2.1 | B19: =' '!A659 -> Interlocuteur à contacter pour toutes questions | C19: 1
A20: 2.11 | B20: =' '!A660 -> Forme souhaitée pour le dossier de candidature (écrit, électronique, etc.) | C20: 1
A21: 3 | B21: =F21 -> 0.99666667 | C21: =IF((SUM(C22:C33))=(COUNT(C22:C33)),1,3) -> 1 | D21: =$D$3 -> Responsable | E21: =$E$3 -> Délai | F21: =-((SUM(C22:C33))/(COUNT(C22:C33)*3))+133% -> 0.99666667
A22: 3.1 | B22: =' '!A662 -> Avis de recrutement interne | C22: 1
A23: 3.2 | B23: =' '!A663 -> Contacts et recommandations | C23: 1
A24: 3.3 | B24: =' '!A664 -> Conseiller RH et chasseurs de tête | C24: 1
A25: 3.4 | B25: =' '!A665 -> Prestataires de services, agences de placement, sociétés intérimaires | C25: 1
A26: 3.5 | B26: =' '!A666 -> Agence pour l'emploi | C26: 1
A27: 3.6 | B27: =' '!A667 -> Quotidien régional | C27: 1
A28: 3.7 | B28: =' '!A668 -> Quotidien suprarégional | C28: 1
A29: 3.8 | B29: =' '!A669 -> Revues professionnelles | C29: 1
A30: 3.9 | B30: =' '!A670 -> Internet | C30: 1
A31: 3.1 | B31: =' '!A671 -> Marchés de l'emploi internationaux | C31: 1
A32: 3.11 | B32: =' '!A672 -> Salons professionnels | C32: 1
A33: 3.12 | B33: =' '!A673 -> Médias sociaux | C33: 1
A34: 4 | B34: =F34 -> 0.99666667 | C34: =IF((SUM(C35:C40))=(COUNT(C35:C40)),1,3) -> 1 | D34: =$D$3 -> Responsable | E34: =$E$3 -> Délai | F34: =-((SUM(C35:C43))/(COUNT(C35:C43)*3))+133% -> 0.99666667
A35: 4.1 | C35: 1
A36: 4.2
A37: 4.3
A38: 4.4
A39: 4.5
A40: 4.6
A41: 4.7
A42: 4.8
...

Sheet UebersichtVorselektion
B1: =' '!A724 -> A P E R Ç U P R É S É L E C T I O N
B4: =' '!A676 -> N° | C4: =' '!A725 -> Nom candidat-e | D4: =' '!A726 -> Remarques | E4: =' '!A86 -> Statut
B5: 1 | C5: Kandidat xy | D5: =' '!A722 -> Exemple | E5: 3
B6: 2 | E6: 1
B7: 3
B8: 4
B9: 5
B10: 6
B11: 7
B12: 8
B13: 9
B14: 10
B15: 11
B16: 12
B17: 13
B18: 14
... B34: 30
B35: © iManagement • s.imboden • www.2iManagement.ch

Sheet Vorselektion
B1: =' '!A723 -> P R É S É L E C T I O N
B3: =' '!A727 -> Date : | D3: =TODAY() -> 46049 | E3: =' '!A746 -> insuffisant | F3: =' '!A745 -> suffisant | G3: =' '!A744 -> bien | H3: =' '!A743 -> très bien | I3: =' '!A742 -> excellent | J3: =' '!A754 -> Ponderation | K3: =' '!A751 -> Points | L3: =' '!A752 -> Total | M3: =' '!A733 -> Max. points : | N3: =(J9+J12+J18+J23+J28) -> 75
B4: =' '!A728 -> Nom candidat-e : | D4: xy | M4: =' '!A734 -> obtenu : | N4: =L9+L12+L18+L23+L28 -> 50
B5: =' '!A729 -> Poste : | M5: =' '!A732 -> en % | N5: =N4/N3 -> 0.66666667
B6: =' '!A730 -> Responsable : | M6: =' '!A735 -> A suivre ? | N6: 2
B9: 1 | C9: =' '!A755 -> Impression visuelle des dossiers de candidature | J9: =SUM(J10:J11)*5 -> 10 | K9: =SUM(K10:K11) -> 6 | L9: =SUM(L10:L11) -> 6 | M9: =' '!A747 -> Remarques
B10: 1.1 | C10: =' '!A756 -> Ordre, discipline, structuration | J10: 1 | K10: 4 | L10: =IF(J10>0,K10*J10,K10*1) -> 4
B11: 1.2 | C11: =' '!A757 -> Mode de travail | J11: 1 | K11: 2 | L11: =IF(J11>0,K11*J11,K11*1) -> 2
B12: 2 | C12: =' '!A758 -> Lettre de motivation | J12: =SUM(J13:J17)*5 -> 25 | K12: =SUM(K13:K17) -> 17 | L12: =SUM(L13:L17) -> 17
B13: 1.3 | C13: =' '!A759 -> Correction de la langue, respect des contraintes formelles | J13: 1 | K13: 2 | L13: =IF(J13>0,K13*J13,K13*1) -> 2
B14: 1.4 | C14: =' '!A760 -> Le/la candidat(e) a-t-il/elle compris de quoi il s'agit ? | J14: 1 | K14: 3 | L14: =IF(J14>0,K14*J14,K14*1) -> 3
B15: 2.1 | C15: =' '!A761 -> Pensée logique et limpide, qui appréhende rapidement l'essentiel | J15: 1 | K15: 4 | L15: =IF(J15>0,K15*J15,K15*1) -> 4
B16: 2.2 | C16: =' '!A762 -> Arguments et justificatifs à l'appui des compétences | J16: 1 | K16: 4 | L16: =IF(J16>0,K16*J16,K16*1) -> 4
B17: 2.3 | C17: =' '!A763 -> Motivation | J17: 1 | K17: 4 | L17: =IF(J17>0,K17*J17,K17*1) -> 4
B18: 3 | C18: =' '!A764 -> Curriculum vitae | J18: =SUM(J19:J22)*5 -> 20 | K18: =SUM(K19:K22) -> 14 | L18: =SUM(L19:L22) -> 14
B19: 3.1 | C19: =' '!A765 -> Respect des contraintes formelles, synthétique, transparent | J19: 1 | K19: 3 | L19: =IF(J19>0,K19*J19,K19*1) -> 3
B20: 3.2 | C20: =' '!A766 -> Justificatifs des qualifications et expériences | J20: 1 | K20: 4 | L20: =IF(J20>0,K20*J20,K20*1) -> 4
B21: 3.3 | C21: =' '!A767 -> Succession logique de formation et expérience professionnelle, ruptures, failles | J21: 1 | K21: 4 | L21: =IF(J21>0,K21*J21,K21*1) -> 4
B22: 3.4 | C22: =' '!A768 -> Évolution perceptible, qualification continue | J22: 1 | K22: 3 | L22: =IF(J22>0,K22*J22,K22*1) -> 3
B23: 4 | C23: =' '!A769 -> Certificats et autres justificatifs | J23: =SUM(J24:J27)*5 -> 20 | K23: =SUM(K24:K27) -> 13 | L23: =SUM(L24:L27) -> 13
B24: 4.1 | C24: =' '!C770 -> Vollständigkeit, Stimmigkeit, passend zum Lebenslauf | J24: 1 | K24: 3 | L24: =IF(J24>0,K24*J24,K24*1) -> 3
B25: 4.2 | C25: =' '!C771 -> Belege für Kompetenzen und Erfahrungen | J25: 1 | K25: 3 | L25: =IF(J25>0,K25*J25,K25*1) -> 3
B26: 4.3 | C26: =' '!C772 -> Schulzeugnisse und Arbeitgeberzeugnisse – Was sagen die „Codes“? | J26: 1 | K26: 4 | L26: =IF(J26>0,K26*J26,K26*1) -> 4
B27: 4.4 | C27: =' '!C773 -> Arbeitsproben, Referenzen, Webseite | J27: 1 | K27: 3 | L27: =IF(J27>0,K27*J27,K27*1) -> 3
B28: 5 | C28: =' '!A774 -> Critères IMPERATIFS (cf. profil requis) | J28: =SUM(O29:O37)*5 -> 0 | K28: =SUM(K29:K37) -> 0 | L28: =SUM(L29:L37) -> 0
B29: 5.1 | J29: 10 | L29: =IF(C29<>"", IF(J29>0, K29*J29, K29*1),"") | O29: =IF(C29<>"",J29,0) -> 0
B30: 5.2 | J30: 10 | L30: =IF(C30<>"", IF(J30>0, K30*J30, K30*1),"") | O30: =IF(C30<>"",J30,0) -> 0
B31: 5.3 | J31: 10 | L31: =IF(C31<>"", IF(J31>0, K31*J31, K31*1),"") | O31: =IF(C31<>"",J31,0) -> 0
B32: 5.4 | J32: 10 | L32: =IF(C32<>"", IF(J32>0, K32*J32, K32*1),"") | O32: =IF(C32<>"",J32,0) -> 0
B33: 5.5 | J33: 10 | L33: =IF(C33<>"", IF(J33>0, K33*J33, K33*1),"") | O33: =IF(C33<>"",J33,0) -> 0
B34: 5.6 | J34: 10 | L34: =IF(C34<>"", IF(J34>0, K34*J34, K34*1),"") | O34: =IF(C34<>"",J34,0) -> 0
B35: 5.7 | J35: 10 | L35: =IF(C35<>"", IF(J35>0, K35*J35, K35*1),"") | O35: =IF(C35<>"",J35,0) -> 0
B36: 5.8 | J36: 10 | L36: =IF(C36<>"", IF(J36>0, K36*J36, K36*1),"") | O36: =IF(C36<>"",J36,0) -> 0
B37: 5.9 | J37: 10 | L37: =IF(C37<>"", IF(J37>0, K37*J37, K37*1),"") | O37: =IF(C37<>"",J37,0) -> 0
B38: © iManagement • s.imboden • www.2iManagement.ch
B99: =' '!A775 -> Pour effacer le tableau, veuillez effacer les points dans cette colonne.

Sheet UebersichtBGespräch
B1: =' '!A777 -> A P E R Ç U E N T R E T I E N S D ' E M B A U C H E
B4: =' '!A676 -> N° | C4: =' '!A725 -> Nom candidat-e | D4: =' '!A726 -> Remarques | E4: =' '!A86 -> Statut
B5: 1 | C5: Kandidat xy | D5: =' '!A722 -> Exemple | E5: 3
B6: 2 | E6: 1
B7: 3
B8: 4
B9: 5
B10: 6
B11: 7
B12: 8
B13: 9
B14: 10
B15: 11
B16: 12
B17: 13
B18: 14
... B34: 30
B35: © iManagement • s.imboden • www.2iManagement.ch

Sheet BGespräch
B1: =' '!A776 -> E N T R E T I E N D ' E M B A U C H E
A2: =IF(ABS(COUNTBLANK(S11:S39)-29)<>0,' '!A839,"")
B3: =' '!A727 -> Date : | D3: =TODAY() -> 46049 | F3: =' '!A746 -> insuffisant | G3: =' '!A745 -> suffisant | H3: =' '!A744 -> bien | I3: =' '!A743 -> très bien | J3: =' '!A742 -> excellent | K3: =' '!A754 -> Ponderation | L3: =' '!A751 -> Points | M3: =' '!A752 -> Total | N3: =' '!A733 -> Max. points : | O3: =(K10+K13+K40) -> 50
B4: =' '!A728 -> Nom candidat-e : | N4: =' '!A734 -> obtenu : | O4: =M10+M13+M40 -> 25 | P4: Punkte | Q4: Frage selektiert | R4: Gewichtung | S4: Für Fehlermeldung
B5: =' '!A729 -> Poste : | E5: =IF(AND(ISNUMBER($L12),$Q12=0),' '!A839,"") | N5: =' '!A732 -> en % | O5: =IF(O3<>0,O4/O3,0) -> 0.5
B6: =' '!A730 -> Responsable : | N6: =' '!A735 -> A suivre ? | O6: 2
A8: =IF(AND(ISNUMBER($L12),$Q12=0),' '!A839,"")
B10: 1 | C10: =' '!A778 -> Impression générale | E10: =' '!A783 -> Exemples de questions | K10: =SUM(R11:R12)*5 -> 30 | L10: =SUM(L11:L12) -> 5 | M10: =SUM(M11:M12) -> 13 | N10: =' '!A747 -> Remarques
A11: TRUE | B11: 1.1 | C11: =' '!A779 -> Première impression (apparence, expression du visage, présentation, voix, contact visuel) | E11: =' '!A780 -> p. ex. Paraît-il/elle naturel(le) ? Sa tenue vestimentaire est-elle adaptée ? Entretient-il/elle un contact naturel du regard ? S'exprime-t-il/elle clairement ? | K11: 1 | L11: 3 | M11: =IF(K11>0,P11*K11,P11*1) -> 3 | P11: =IF(A11=TRUE,L11,0) -> 3 | Q11: =IF(A11=TRUE,1,0) -> 1 | R11: =IF(A11=TRUE,K11,0) -> 1 | S11: =IF(OR(R11<>0,ISBLANK(L11)),"",1)
A12: TRUE | B12: 1.2 | C12: =' '!A781 -> Motivation pour ce poste | E12: =' '!A784 -> Vous avez postulé pour ce poste vacant. Qu'est-ce qui vous a incité à le faire ? | K12: 5 | L12: 2 | M12: =IF(K12>0,P12*K12,P12*1) -> 10 | P12: =IF(A12=TRUE,L12,0) -> 2 | Q12: =IF(A12=TRUE,1,0) -> 1 | R12: =IF(A12=TRUE,K12,0) -> 5 | S12: =IF(OR(R12<>0,ISBLANK(L12)),"",1)
B13: 2 | C13: =' '!A782 -> Critères de sélection possibles | K13: =SUM(R14:R39)*5 -> 20 | L13: =SUM(P14:P39) -> 12 | M13: =SUM(M14:M39) -> 12
A14: TRUE | B14: 2.1 | C14: =' '!A787 -> Aptitude au travail en équipe | E14: =' '!A788 -> Il faut parfois travailler en équipe avec des personnes difficiles. Décrivez quelques cas dans lesquels cela vous est arrivé. Comment avez-vous géré cette situation ? | K14: 1 | L14: 2 | M14: =IF(K14>0,P14*K14,P14*1) -> 2 | P14: =IF(A14=TRUE,L14,0) -> 2 | Q14: =IF(A14=TRUE,1,0) -> 1 | R14: =IF(A14=TRUE,K14,0) -> 1 | S14: =IF(OR(R14<>0,ISBLANK(L14)),"",1)
A15: TRUE | B15: 2.2 | C15: =' '!A785 -> Expression (orale / écrite) | E15: =' '!A786 -> Quels étaient les textes / présentations les plus exigeants que vous avez élaborés jusqu'à présent ? Quel résultat avez-vous ainsi obtenu ? | K15: 1 | L15: 3 | M15: =IF(K15>0,P15*K15,P15*1) -> 3 | P15: =IF(A15=TRUE,L15,0) -> 3 | Q15: =IF(A15=TRUE,1,0) -> 1 | R15: =IF(A15=TRUE,K15,0) -> 1 | S15: =IF(OR(R15<>0,ISBLANK(L15)),"",1)
A16: TRUE | B16: 2.3 | C16: =' '!A789 -> Volonté de performer | E16: =' '!A790 -> Veuillez nous indiquer des situations dans lesquelles vous avez dû réaliser des performances du plus haut niveau ? A quoi peut-on imputer ces prestations ? | K16: 1 | L16: 4 | M16: =IF(K16>0,P16*K16,P16*1) -> 4 | P16: =IF(A16=TRUE,L16,0) -> 4 | Q16: =IF(A16=TRUE,1,0) -> 1 | R16: =IF(A16=TRUE,K16,0) -> 1 | S16: =IF(OR(R16<>0,ISBLANK(L16)),"",1)
A17: TRUE | B17: 2.4 | C17: =' '!A791 -> Esprit d'initiative | E17: =' '!A792 -> Souvenez-vous de situations dans lesquelles vous vous êtes saisis de travaux de votre propre initiative. Pourquoi l'avez-vous fait ? Quel était le résultat ? | K17: 1 | L17: 3 | M17: =IF(K17>0,P17*K17,P17*1) -> 3 | P17: =IF(A17=TRUE,L17,0) -> 3 | Q17: =IF(A17=TRUE,1,0) -> 1 | R17: =IF(A17=TRUE,K17,0) -> 1 | S17: =IF(OR(R17<>0,ISBLANK(L17)),"",1)
A18: FALSE | B18: 2.5 | C18: =' '!A793 -> Endurance | E18: =' '!A794 -> Quand avez-vous été vraiment sous pression pour la dernière fois ? Quel était l'enjeu ? Qu'avez-vous fait ? Comment était le résultat ? | K18: 1 | M18: =IF(K18>0,P18*K18,P18*1) -> 0 | P18: =IF(A18=TRUE,L18,0) -> 0 | Q18: =IF(A18=TRUE,1,0) -> 0 | R18: =IF(A18=TRUE,K18,0) -> 0 | S18: =IF(OR(R18<>0,ISBLANK(L18)),"",1)
A19: FALSE | B19: 2.6 | C19: =' '!A795 -> Persévérance | E19: =' '!A796 -> Dans la vie professionnelle, on est très souvent confronté à des résistances. Citez-nous un exemple tiré de votre activité. Comment avez-vous géré cette situation ? | K19: 5 | M19: =IF(K19>0,P19*K19,P19*1) -> 0 | P19: =IF(A19=TRUE,L19,0) -> 0 | Q19: =IF(A19=TRUE,1,0) -> 0 | R19: =IF(A19=TRUE,K19,0) -> 0 | S19: =IF(OR(R19<>0,ISBLANK(L19)),"",1)
A20: FALSE | B20: 2.7 | C20: =' '!A797 -> Diligence | E20: =' '!A798 -> Pour quelles tâches, un travail particulièrement méticuleux était-il essentiel ? Avec quel résultat vous êtes-vous acquitté de cette tâche ? | K20: 1 | M20: =IF(K20>0,P20*K20,P20*1) -> 0 | P20: =IF(A20=TRUE,L20,0) -> 0 | Q20: =IF(A20=TRUE,1,0) -> 0 | R20: =IF(A20=TRUE,K20,0) -> 0 | S20: =IF(OR(R20<>0,ISBLANK(L20)),"",1)
A21: FALSE | B21: 2.8 | C21: =' '!A799 -> Faculté de décision | E21: =' '!A800 -> Quelles étaient vos décisions les plus difficiles jusqu'à présent ? En quoi consistait la principale difficulté pour vous ? Avez-vous pris la bonne décision ? | K21: 1 | M21: =IF(K21>0,P21*K21,P21*1) -> 0 | P21: =IF(A21=TRUE,L21,0) -> 0 | Q21: =IF(A21=TRUE,1,0) -> 0 | R21: =IF(A21=TRUE,K21,0) -> 0 | S21: =IF(OR(R21<>0,ISBLANK(L21)),"",1)
A22: FALSE | B22: 2.9 | C22: =' '!A801 -> Créativité | E22: =' '!A802 -> Quelle a été votre idée la plus originale jusqu'à présent ? Comment l'avez-vous réalisée ? | K22: 1 | M22: =IF(K22>0,P22*K22,P22*1) -> 0 | P22: =IF(A22=TRUE,L22,0) -> 0 | Q22: =IF(A22=TRUE,1,0) -> 0 | R22: =IF(A22=TRUE,K22,0) -> 0 | S22: =IF(OR(R22<>0,ISBLANK(L22)),"",1)
A23: FALSE | B23: 2.1 | C23: =' '!A803 -> Connaissances professionnelles | E23: =' '!A804 -> Quelle performance professionnelle était-elle la plus appréciée de votre supérieur ? | K23: 5 | M23: =IF(K23>0,P23*K23,P23*1) -> 0 | P23: =IF(A23=TRUE,L23,0) -> 0 | Q23: =IF(A23=TRUE,1,0) -> 0 | R23: =IF(A23=TRUE,K23,0) -> 0 | S23: =IF(OR(R23<>0,ISBLANK(L23)),"",1)
A24: FALSE | B24: 2.11 | C24: =' '!A805 -> Planification et organisation | E24: =' '!A806 -> Comment faites-vous le planning d'une journée de travail habituelle (votre système) ? | K24: 1 | M24: =IF(K24>0,P24*K24,P24*1) -> 0 | P24: =IF(A24=TRUE,L24,0) -> 0 | Q24: =IF(A24=TRUE,1,0) -> 0 | R24: =IF(A24=TRUE,K24,0) -> 0 | S24: =IF(OR(R24<>0,ISBLANK(L24)),"",1)
A25: FALSE | B25: 2.12 | C25: =' '!A807 -> Disposition à apprendre | E25: =' '!A808 -> Comment maintenez-vous vos connaissances professionnelles à niveau ? Quels cours de formation continue avez-vous suivis au cours de ces 2 dernières années ? | K25: 1 | M25: =IF(K25>0,P25*K25,P25*1) -> 0 | P25: =IF(A25=TRUE,L25,0) -> 0 | Q25: =IF(A25=TRUE,1,0) -> 0 | R25: =IF(A25=TRUE,K25,0) -> 0 | S25: =IF(OR(R25<>0,ISBLANK(L25)),"",1)
A26: FALSE | B26: 2.13 | C26: =' '!A809 -> Flexibilité | E26: =' '!A810 -> Comment vous adaptez-vous à de nouvelles situations et circonstances dans votre activité professionnelle ? Quels changements ont eu lieu pour vous par le passé ? Exemples ? | K26: 1 | M26: =IF(K26>0,P26*K26,P26*1) -> 0 | P26: =IF(A26=TRUE,L26,0) -> 0 | Q26: =IF(A26=TRUE,1,0) -> 0 | R26: =IF(A26=TRUE,K26,0) -> 0 | S26: =IF(OR(R26<>0,ISBLANK(L26)),"",1)
A27: FALSE | B27: 2.14 | C27: =' '!A811 -> Autonomie | E27: =' '!A812 -> Quels travaux effectuez-vous actuellement de façon autonome ? Quelles activités devez-vous effectuer en concertation avec d'autres ? | K27: 1 | M27: =IF(K27>0,P27*K27,P27*1) -> 0 | P27: =IF(A27=TRUE,L27,0) -> 0 | Q27: =IF(A27=TRUE,1,0) -> 0 | R27: =IF(A27=TRUE,K27,0) -> 0 | S27: =IF(OR(R27<>0,ISBLANK(L27)),"",1)
A28: FALSE | B28: 2.15 | C28: =' '!A813 -> Tolérance à la frustration | E28: =' '!A814 -> Dans quelles situations auriez-vous vraiment envie de jeter votre poste par-dessus bord ? Comment parvenez-vous à surmonter cela ? | K28: 1 | M28: =IF(K28>0,P28*K28,P28*1) -> 0 | P28: =IF(A28=TRUE,L28,0) -> 0 | Q28: =IF(A28=TRUE,1,0) -> 0 | R28: =IF(A28=TRUE,K28,0) -> 0 | S28: =IF(OR(R28<>0,ISBLANK(L28)),"",1)
A29: FALSE | B29: 2.16 | C29: =' '!A815 -> Présentation en public | E29: =' '!A816 -> Qu'est-ce qui vous cause le plus de difficulté lorsque vous devez faire une présentation en public ? Exemple ? | K29: 1 | M29: =IF(K29>0,P29*K29,P29*1) -> 0 | P29: =IF(A29=TRUE,L29,0) -> 0 | Q29: =IF(A29=TRUE,1,0) -> 0 | R29: =IF(A29=TRUE,K29,0) -> 0 | S29: =IF(OR(R29<>0,ISBLANK(L29)),"",1)
A30: FALSE | B30: 2.17 | C30: =' '!A817 -> Empathie | E30: =' '!A818 -> Quelles étaient les personnes les plus difficiles avec lesquelles vous avez eu à faire jusqu'à présent ? Avec quel résultat y êtes-vous parvenu(e) ? | K30: 1 | M30: =IF(K30>0,P30*K30,P30*1) -> 0 | P30: =IF(A30=TRUE,L30,0) -> 0 | Q30: =IF(A30=TRUE,1,0) -> 0 | R30: =IF(A30=TRUE,K30,0) -> 0 | S30: =IF(OR(R30<>0,ISBLANK(L30)),"",1)
A31: FALSE | B31: 2.18 | C31: =' '!A819 -> Sens des contacts humains | E31: =' '!A820 -> Comment établissez-vous généralement le contact, avec de nouveaux collègues de travail, des clients ou des inconnus ? | K31: 1 | M31: =IF(K31>0,P31*K31,P31*1) -> 0 | P31: =IF(A31=TRUE,L31,0) -> 0 | Q31: =IF(A31=TRUE,1,0) -> 0 | R31: =IF(A31=TRUE,K31,0) -> 0 | S31: =IF(OR(R31<>0,ISBLANK(L31)),"",1)
A32: FALSE | B32: 2.19 | C32: =' '!A821 -> Force de persuasion | E32: =' '!A822 -> Comment êtes-vous parvenu(e) au mieux, jusqu'à présent, à convaincre quelqu'un d'une cause ? | K32: 1 | M32: =IF(K32>0,P32*K32,P32*1) -> 0 | P32: =IF(A32=TRUE,L32,0) -> 0 | Q32: =IF(A32=TRUE,1,0) -> 0 | R32: =IF(A32=TRUE,K32,0) -> 0 | S32: =IF(OR(R32<>0,ISBLANK(L32)),"",1)
A33: FALSE | B33: 2.2 | C33: =' '!A823 -> Habileté en négociation | E33: =' '!A824 -> Quelle négociation qualifieriez-vous à posteriori de votre plus gros échec ? Qu'est-ce qui n'a pas marché ? Quelles conséquences en ont été tirées ? | K33: 1 | M33: =IF(K33>0,P33*K33,P33*1) -> 0 | P33: =IF(A33=TRUE,L33,0) -> 0 | Q33: =IF(A33=TRUE,1,0) -> 0 | R33: =IF(A33=TRUE,K33,0) -> 0 | S33: =IF(OR(R33<>0,ISBLANK(L33)),"",1)
A34: FALSE | B34: 2.21 | C34: =' '!A825 -> Comportement en situations conflictuelles | E34: =' '!A826 -> Défendre un point de vue reconnu comme juste signifie souvent admettre le conflit avec autrui. Citez des exemples. Comment avez-vous géré de telles situations ? | K34: 1 | M34: =IF(K34>0,P34*K34,P34*1) -> 0 | P34: =IF(A34=TRUE,L34,0) -> 0 | Q34: =IF(A34=TRUE,1,0) -> 0 | R34: =IF(A34=TRUE,K34,0) -> 0 | S34: =IF(OR(R34<>0,ISBLANK(L34)),"",1)
A35: FALSE | B35: 2.22 | C35: =' '!A827 -> Capacité d'intégration | E35: =' '!A828 -> Avez-vous déjà dû intégrer de nouveaux collaborateurs dans une équipe ? Comment avez-vous procédé / procéderiez-vous ? | K35: 8 | M35: =IF(K35>0,P35*K35,P35*1) -> 0 | P35: =IF(A35=TRUE,L35,0) -> 0 | Q35: =IF(A35=TRUE,1,0) -> 0 | R35: =IF(A35=TRUE,K35,0) -> 0 | S35: =IF(OR(R35<>0,ISBLANK(L35)),"",1)
A36: FALSE | B36: 2.23 | C36: =' '!A829 -> Analyse de problèmes | E36: =' '!A830 -> Décrivez-nous, à l'appui d'un problème concret, quelle a été votre approche pour gérer ce problème. Quel résultat avez-vous obtenu ? | K36: 1 | M36: =IF(K36>0,P36*K36,P36*1) -> 0 | P36: =IF(A36=TRUE,L36,0) -> 0 | Q36: =IF(A36=TRUE,1,0) -> 0 | R36: =IF(A36=TRUE,K36,0) -> 0 | S36: =IF(OR(R36<>0,ISBLANK(L36)),"",1)
A37: FALSE | B37: 2.24 | C37: =' '!A831 -> Encadrement général | E37: =' '!A832 -> Citez une des situations de leadership les plus difficiles que vous avez dû maîtriser. Comment avez-vous procédé ? Résultat ? | K37: 1 | M37: =IF(K37>0,P37*K37,P37*1) -> 0 | P37: =IF(A37=TRUE,L37,0) -> 0 | Q37: =IF(A37=TRUE,1,0) -> 0 | R37: =IF(A37=TRUE,K37,0) -> 0 | S37: =IF(OR(R37<>0,ISBLANK(L37)),"",1)
A38: FALSE | B38: 2.25 | C38: =' '!A833 -> Volition (volonté) | E38: =' '!A834 -> Y a-t-il eu des situations dans lesquelles vous n'avez pas réussi à mettre en œuvre les mesures requises ? Qu'avez-vous fait ? | K38: 1 | M38: =IF(K38>0,P38*K38,P38*1) -> 0 | P38: =IF(A38=TRUE,L38,0) -> 0 | Q38: =IF(A38=TRUE,1,0) -> 0 | R38: =IF(A38=TRUE,K38,0) -> 0 | S38: =IF(OR(R38<>0,ISBLANK(L38)),"",1)
A39: FALSE | B39: 2.26 | C39: =' '!A835 -> Motivation des collaborateurs | E39: =' '!A836 -> Avez-vous eu des collaborateurs qui n'étaient pas du tout motivés ? Comment avez-vous géré cette situation ? De manière générale, comment motivez-vous vos collaborateurs ? | K39: 1 | M39: =IF(K39>0,P39*K39,P39*1) -> 0 | P39: =IF(A39=TRUE,L39,0) -> 0 | Q39: =IF(A39=TRUE,1,0) -> 0 | R39: =IF(A39=TRUE,K39,0) -> 0 | S39: =IF(OR(R39<>0,ISBLANK(L39)),"",1)
B40: 3 | C40: =' '!A837 -> Critères impératifs | E40: =' '!A840 -> Cf. profil requis | K40: =SUM(P41:P49)*5 -> 0 | L40: =SUM(L41:L49) -> 0 | M40: =SUM(M41:M49) -> 0
B41: 3.1 | K41: 10 | M41: =IF(C41<>"", IF(K41>0, L41*K41, L41*1),"") | P41: =IF(C41<>"",K41,0) -> 0 | Q41: =IF(C41<>"",1,0) -> 0
B42: 3.2 | K42: 10 | M42: =IF(C42<>"", IF(K42>0, L42*K42, L42*1),"") | P42: =IF(C42<>"",K42,0) -> 0 | Q42: =IF(C42<>"",1,0) -> 0
...

Sheet CheckEinarbeitung
B1: =' '!A572 -> Check-list "Période d'essai "
A3: 1 | B3: =F3 -> #DIV/0! | C3: =IF((SUM(C5:C9))=(COUNT(C5:C9)),1,3) -> 1 | D3: =' '!A574 -> Responsable | E3: =' '!A575 -> Délai | F3: =-((SUM(C5:C9))/(COUNT(C5:C9)*3))+133% -> #DIV/0!
A5: 1.1 | B5: =' '!A578 -> Le collaborateur doit rapidement se sentir bien et être intégré. | D5: ?? | E5: 42005
A6: 1.2 | B6: =' '!A579 -> Il a besoin de toutes les informations importantes et doit connaître tout ce qui est essentiel.
A7: 1.3 | B7: =' '!A580 -> Les équipements techniques dont il a besoin doivent fonctionner.
A8: 1.4 | B8: =' '!A581 -> Le collaborateur se familiarise vite et devient rapidement productif.
A9: 1.5 | B9: =' '!A582 -> Avant la fin de la période d'essai, l'entreprise peut mieux évaluer les performances.
A10: 2 | B10: =F10 -> #DIV/0! | C10: =IF((SUM(C11:C24))=(COUNT(C11:C24)),1,3) -> 1 | D10: =$D$3 -> Responsable | E10: =$E$3 -> Délai | F10: =-((SUM(C11:C24))/(COUNT(C11:C24)*3))+133% -> #DIV/0!
A11: 2.1 | B11: =' '!A584 -> Préparer le poste de travail pour le collaborateur (le cas échéant les dispositifs spécifiques, p. ex. pour les personnes handicapées)
A12: 2.2 | B12: =' '!A585 -> Mettre à disposition les outils et le matériel nécessaires (papier et stylos) sur le poste de travail.
A13: 2.3 | B13: =' '!A586 -> Installer le PC
A14: 2.4 | B14: =' '!A587 -> Installer l'adresse e-mail
A15: 2.5 | B15: =' '!A588 -> Installer les accès aux programmes et documents pertinents et attribuer des mots de passe
A16: 2.6 | B16: =' '!A589 -> Élaborer des modèles spécifiques
A17: 2.7 | B17: =' '!A590 -> Mettre à disposition les documents importants : - vision & stratégie - manuels - descriptifs de processus - documentation sur la gestion de qualité - documentation sur la santé et la sécurité au travail etc.
A18: 2.8 | B18: =' '!A591 -> Installer les numéros de téléphone et garantir l'accès au téléphone (le cas échéant également au fax)
A19: 2.9 | B19: =' '!A592 -> Réaliser et poser des plaquettes nominatives pour les portes et des badges
A20: 2.1 | B20: =' '!A593 -> Préparer et imprimer des cartes de visite
A21: 2.11 | B21: =' '!A594 -> Procéder à l'inscription dans l'annuaire téléphonique
A22: 2.12 | B22: =' '!A595 -> Préparer et disposer les cartes d'accès, clés, badge personnel
... A24: 2.14 | B24: =' '!A597 -> Réceptionner le contrat de travail approuvé et signé par le collaborateur
A25: 3 | B25: =F25 -> #DIV/0! | C25: =IF((SUM(C26:C32))=(COUNT(C26:C32)),1,3) -> 1 | D25: =$D$3 -> Responsable | E25: =$E$3 -> Délai | F25: =-((SUM(C26:C32))/(COUNT(C26:C32)*3))+133% -> #DIV/0!
A26: 3.1 | B26: =' '!A599 -> Informer les supérieurs hiérarchiques de l’arrivée du nouveau collaborateur, et le cas échéant leur donner des indications particulières - quand ? - comment ? - à quel sujet ?
A27: 3.2 | B27: =' '!A600 -> Informer les collègues du département et de l’équipe
A28: 3.3 | B28: =' '!A601 -> Informer la centrale et le standard téléphonique
A29: 3.4 | B29: =' '!A602 -> Informer toutes autres personnes concernées (p. ex. le gardien, la cantine, les autres services, …)
A30: 3.5 | B30: =' '!A603 -> Déterminer avec les collègues et supérieurs hiérarchiques qui se chargera de l’initiation professionnelle du nouveau collaborateur
B31: =' '!A604 -> Désigner év. un mentor ou parrain
A32: 3.6 | B32: =' '!A605 -> Élaborer un planning pour les premiers entretiens - avec qui ? - quand ? - combien de temps ? - à quel sujet ? - où ? - pourquoi ?
A33: 4 | B33: =F33 -> #DIV/0! | C33: =IF((SUM(C34:C43))=(COUNT(C34:C43)),1,3) -> 1 | D33: =$D$3 -> Responsable | E33: =$E$3 -> Délai | F33: =-((SUM(C34:C43))/(COUNT(C34:C43)*3))+133% -> #DIV/0!
A34: 4.1 | B34: =' '!A607 -> Aller chercher le collaborateur au lieu convenu
A35: 4.2 | B35: =' '!A608 -> Entretien d'accueil : déroulement de la première journée, sujets importants, tâches, responsabilité, …
A36: 4.3 | B36: =' '!A609 -> Accompagner le nouveau collaborateur à son poste de travail (év. prévoir un petit cadeau)
A37: 4.4 | B37: =' '!A610 -> Première initiation au poste de travail
A38: 4.5 | B38: =' '!A611 -> Faire le tour de tous les secteurs et personnels concernés / faire les présentations : supérieurs hiérarchiques, collègues, installations techniques, bureau des RH, comité d'entreprise, panneaux d'affichage, cantine, etc.
A39: 4.6 | B39: =' '!A612 -> Le cas échéant, présentation du mentor ou parrain
A40: 4.7 | B40: =' '!A613 -> Dîner commun
A41: 4.8 | B41: =' '!A614 -> Visite de l'entreprise et des services voisins
A42: 4.9 | B42: =' '!A615 -> Passer en revue le descriptif du poste
A43: 4.1 | B43: =' '!A616 -> Initiation au PC, au téléphone et autres outils de travail importants
...

Sheet Einsatz
B1: =' '!A34 -> M O B I L I S E R L E P E R S O N N E L
B24: © iManagement • s.imboden • www.2iManagement.ch

Sheet iCanvas
C1: =' '!A223 -> myC A N V A S (mon bilan personnel)
C3: =' '!A224 -> Mon nom | G3: =' '!A225 -> Mis à jour le : | H3: 41640
C5: Who am I ? | D5: My likes | E5: My Key Partners | G5: My forces | H5: My dreams & my aims
D22: My dislikes | G22: My weaknesses
C38: My Key Resources | F38: Costs & Revenues
C51: © iManagement • s.imboden • www.2iManagement.ch

Sheet Motivationstheorien
B1: =' '!A481 -> T H E O R I E S D E L A M O T I V A T I O N
E33: © iManagement • s.imboden • www.2iManagement.ch

Sheet Maslow
B1: =' '!A468 -> Hiérarchie des besoins de Maslow
B28: © iManagement • s.imboden • www.2iManagement.ch
D58: © iManagement • s.imboden • www.2iManagement.ch

Sheet Alderfer
B1: =' '!A492 -> Théorie ESC (ERG) d'Alderfer
B35: © iManagement • s.imboden • www.2iManagement.ch

Sheet McClelland
B1: =' '!A451 -> Trois grands motifs (Big Three) de McClelland
B35: © iManagement • s.imboden • www.2iManagement.ch | L35: (McClelland et al.,1953)

Sheet Barbuto
B1: =' '!A435 -> Les 5 sources de motivation selon Barbuto
B3: © iManagement • s.imboden • www.2iManagement.ch

Sheet McGregor
B1: =' '!A502 -> Théories X et Y de McGregor
B31: © iManagement • s.imboden • www.2iManagement.ch

Sheet Herzberg
B1: =' '!A524 -> Théorie bifactorielle de Herzberg
B37: © iManagement • s.imboden • www.2iManagement.ch

Sheet Flow
B1: =' '!A546 -> Théorie FLOW de Csíkszentmihályi
B30: © iManagement • s.imboden • www.2iManagement.ch | K30: (Csíkszentmihályi, 1975 & 2000)

Sheet RegelnMotivation
B1: =' '!A410 -> R È G L E S D E LA M O T I V A T I O N
B3: =' '!A411 -> Règles de la motivation reposant sur le bon sens (W. Pelz, 2004) : | C3: =IF(D3=22,1,3) -> 1 | D3: =SUM(C4:C25) -> 22
A4: 1 | B4: =' '!A412 -> Traiter tous les collaborateurs avec estime et respect. | C4: 1
A5: 2 | B5: =' '!A413 -> Fixer des objectifs clairs et réalistes, et faire un retour sur la réalisation des objectifs. | C5: 1
A6: 3 | B6: =' '!A414 -> Suffisamment informer les collaborateurs et les faire participer aux décisions. | C6: 1
A7: 4 | B7: =' '!A415 -> Dire ouvertement ce qui est déjà décidé, et sur quoi une participation des collaborateurs n'est plus possible ou plus souhaitée. | C7: 1
A8: 5 | B8: =' '!A416 -> Déléguer la responsabilité aussi souvent que possible. | C8: 1
A9: 6 | B9: =' '!A417 -> Élargir la marge de manœuvre des collaborateurs autant que possible. | C9: 1
A10: 7 | B10: =' '!A418 -> Tirer parti du savoir et de l'expérience des collaborateurs. | C10: 1
A11: 8 | B11: =' '!A419 -> Faire concorder la responsabilité et les compétences (pouvoirs de décision). | C11: 1
A12: 9 | B12: =' '!A420 -> Fournir des conseils et un appui individuels. | C12: 1
A13: 10 | B13: =' '!A421 -> Reconnaître et encourager la motivation personnelle des collaborateurs. | C13: 1
A14: 11 | B14: =' '!A422 -> Ne pas exagérer les compliments et la reconnaissance. | C14: 1
A15: 12 | B15: =' '!A423 -> En cas d'erreurs, adopter une attitude tournée vers l'avenir, au lieu de rechercher des " fautifs ". | C15: 1
... A25: 22 | B25: =' '!A433 -> Encourager l'autocontrôle. | C25: 1
B26: © iManagement • s.imboden • www.2iManagement.ch

Sheet Volition
B1: =' '!A553 -> Volition (volonté, compétence de réalisation)
B19: © iManagement • s.imboden • www.2iManagement.ch
B57: © iManagement - s.imboden

Sheet GesprächsFormular
B1: =' '!A1198 -> F O R M U L A I R E D' E N T R E T I E N
B3: =' '!A1200 -> Collaborateur(trice) | E3: =' '!A1207 -> Feedback | F3: =' '!A1215 -> - S’assurer de l’acceptation du destinataire ! Demander son autorisation ! - Commencer par livrer un retour positif avant de formuler une critique constructive - Assurez-vous que le destinataire comprend bien votre feed-back. - Soyez aussi concret que possible (factuel). - Soyez descriptif, sans jugements de valeur - Dites les choses comme vous-même seriez prêt à les entendre. - Clarifiez immédiatement les malentendus
B4: =' '!A1201 -> Supérieur(e) hiérarchique | E4: =' '!A1208 -> Communication | F4: =' '!A1216 -> - Communiquer immédiatement sa décision - Autoriser une phase de lamentations - Ne pas revenir sur sa décision - Trouver ensemble des modalités de mise en œuvre
B5: =' '!A1202 -> Motif de l'entretien | E5: =' '!A1209 -> Critique | F5: =' '!A1217 -> - Parler du problème sans détour - Fournir une description détaillée de l’état des choses - Laisser le collaborateur s’exprimer - Évaluer l’état des choses, notamment sur le plan émotionnel - Chercher des solutions et œuvrer pour la réussite - Terminer sur une note positive
B6: =' '!A1203 -> Date (& év. signatures) | E6: =' '!A1210 -> Délégation | F6: =' '!A1218 -> - Description aussi exhaustive que possible de la mission, des attributions et de la responsabilité - Qui, quand, quoi, pourquoi, comment, avec quoi ? - Exprimer ses remerciements !
E7: =' '!A1211 -> Conflit | F7: =' '!A1219 -> - Séparément ou ensemble - Laisser les parties au conflit exprimer leurs émotions - Faire preuve de compréhension envers chacun, mais sans prendre parti - Appréhender le problème grâce à des questions ciblées - Mener vers une solution commune - Répartir des tâches clairement définies - Si aucune solution n’est trouvée, remettre la décision à plus tard
C8: =' '!A1220 -> Préparation
B9: 1 | C9: =' '!A1221 -> Objectif de l'entretien
C10: =' '!A1224 -> Introduction
B11: 2 | C11: =' '!A1225 -> Accueil, objectif et déroulement
