Workbook
Name Bars: OFFSET([1]Pareto!$F$7,0,0,COUNT([1]Pareto!$F:$F))
Name Datum: '[2] '!$Z$4
Name Datum: ' '!$Z$4
Name paretoXaxis: OFFSET([1]Pareto!$E$7,0,0,COUNT([1]Pareto!$F:$F))
Name Percentage: OFFSET([1]Pareto!$H$7,0,0,COUNT([1]Pareto!$F:$F))
Name Sprachen: ' '!$C$3:$G$3

Sheet  
A1: =OFFSET($C1,0,$B$4-1) -> English | C1: Deutsch | D1: Français | E1: English | F1: Italiano
A2: Aktuelle Sprache | C2: Sprache 1 | D2: Sprache 2 | E2: Sprache 3 | F2: Sprache 4 | G2: Sprache 5
A3: Aktuell angezeigte Sprache | C3: Deutsch | D3: Français | E3: English | F3: Italiano | G3: 5_???
B4: 3 | Z4: 55153
A5: =OFFSET($C5,0,$B$4-1) -> S T R A T E G I C M A N A G E M E N T | C5: S T R A T E G I S C H E S M A N A G E M E N T | D5: M A N A G E M E N T S T R A T É G I Q U E | E5: S T R A T E G I C M A N A G E M E N T | F5: M A N A G E M E N T S T R A T E G I C O | G5: contact info@2imanagement.ch | Z5: =IF(AND(#REF!="© iManagement • s.imboden • www.2iManagement.ch",#REF!= "© iManagement • s.imboden • www.2iManagement.ch", TODAY()<=$Z$4), $B$4,5) -> #REF!
A6: =OFFSET($C6,0,$B$4-1) -> Phases | C6: Phasen | D6: Phases | E6: Phases | F6: Fasi | G6: contact info@2imanagement.ch
A7: =OFFSET($C7,0,$B$4-1) -> Questions | C7: Fragen | D7: Questions | E7: Questions | F7: Domande | G7: contact info@2imanagement.ch | Z7: Deutsch
A8: =OFFSET($C8,0,$B$4-1) -> Tools | C8: Instrumente | D8: Outils | E8: Tools | F8: Strumenti | G8: contact info@2imanagement.ch | Z8: Français
A9: =OFFSET($C9,0,$B$4-1) -> External | C9: extern | D9: externe | E9: External | F9: esterno | G9: contact info@2imanagement.ch | Z9: English
A10: =OFFSET($C10,0,$B$4-1) -> Internal | C10: intern | D10: interne | E10: Internal | F10: interno | G10: contact info@2imanagement.ch | Z10: Italiano
A11: =OFFSET($C11,0,$B$4-1) -> Analysis | C11: Analyse | D11: Analyse | E11: Analysis | F11: Analisi | G11: contact info@2imanagement.ch
A12: =OFFSET($C12,0,$B$4-1) -> ACTUAL state | C12: IST-Zustand | D12: État ACTUEL | E12: ACTUAL state | F12: Stato ATTUALE | G12: contact info@2imanagement.ch
A13: =OFFSET($C13,0,$B$4-1) -> Who are we? Where do we stand? | C13: Wer sind wir? Wo stehen wir? | D13: Qui sommes-nous? Où sommes-nous? | E13: Who are we? Where do we stand? | F13: Chi siamo? Dove ci troviamo? | G13: contact info@2imanagement.ch
A14: =OFFSET($C14,0,$B$4-1) -> TARGET state | C14: SOLL-Zustand | D14: État FUTUR | E14: TARGET state | F14: Stato FUTURO | G14: contact info@2imanagement.ch
A15: =OFFSET($C15,0,$B$4-1) -> Scenarios | C15: Szenarien | D15: Scénarios | E15: Scenarios | F15: Scenari | G15: contact info@2imanagement.ch
A16: =OFFSET($C16,0,$B$4-1) -> What options? Consequences? | C16: Welche Optionen? Konsequenzen? | D16: Quelles options? Conséquences? | E16: What options? Consequences? | F16: Quali opzioni? Conseguenze? | G16: contact info@2imanagement.ch
A17: =OFFSET($C17,0,$B$4-1) -> Stakeholder analysis | C17: Stakeholderanalyse | D17: Analyse des parties prenantes | E17: Stakeholder analysis | F17: Analisi degli stakeholder | G17: contact info@2imanagement.ch
A18: =OFFSET($C18,0,$B$4-1) -> PESTEL analysis | C18: PESTEL Analyse | D18: Analyse PESTEL | E18: PESTEL analysis | F18: Analisi PESTEL | G18: contact info@2imanagement.ch
A19: =OFFSET($C19,0,$B$4-1) -> Future scenarios | C19: Zukunftsszenarien | D19: Scénarios d'avenir | E19: Future scenarios | F19: Scenari futuri | G19: contact info@2imanagement.ch
A20: =OFFSET($C20,0,$B$4-1) -> Development trends | C20: Entwicklungstrends | D20: Tendances de développement | E20: Development trends | F20: Tendenze di sviluppo | G20: contact info@2imanagement.ch
A21: =OFFSET($C21,0,$B$4-1) -> Five Forces Model | C21: Fünf-Kräfte-Modell | D21: 5 forces de Porter | E21: Five Forces Model | F21: Modello delle 5 forze | G21: contact info@2imanagement.ch
A22: =OFFSET($C22,0,$B$4-1) -> Risk analysis | C22: Risikoanalyse | D22: Analyse des risques | E22: Risk analysis | F22: Analisi del rischio | G22: contact info@2imanagement.ch
... A29: =OFFSET($C29,0,$B$4-1) -> Potential | C29: Potenzial | D29: Potentiel | E29: Potential | F29: Potenziale | G29: contact info@2imanagement.ch
A30: =OFFSET($C30,0,$B$4-1) -> Trends | C30: Trends | D30: Tendances | E30: Trends | F30: Tendenze
A31: =OFFSET($C31,0,$B$4-1) -> Customers | C31: Kunden | D31: Clients | E31: Customers | F31: Clienti | G31: contact info@2imanagement.ch
A32: =OFFSET($C32,0,$B$4-1) -> Market | C32: Markt | D32: Marché | E32: Market | F32: Mercato | G32: contact info@2imanagement.ch
A33: =OFFSET($C33,0,$B$4-1) -> Benchmarking | C33: Benchmarking | D33: Benchmarking | E33: Benchmarking | F33: Benchmarking | G33: contact info@2imanagement.ch
A34: =OFFSET($C34,0,$B$4-1) -> Develop strategies | C34: Strategien entwickeln | D34: Développer les stratégies | E34: Develop strategies | F34: Sviluppare le strategie | G34: contact info@2imanagement.ch
A35: =OFFSET($C35,0,$B$4-1) -> Implemen-tation & Controlling | C35: Umsetzung& Controlling | D35: Réalisation& Controlling | E35: Implemen-tation & Controlling | F35: Attuazione & Controlling | G35: contact info@2imanagement.ch
A36: =OFFSET($C36,0,$B$4-1) -> How can we reach our goals? | C36: Wie erreichen wir unsere Ziele? | D36: Comment atteindre les objectifs | E36: How can we reach our goals? | F36: Come raggiungere gli obiettivi | G36: contact info@2imanagement.ch
A37: =OFFSET($C37,0,$B$4-1) -> SWOT Analysis | C37: SWOT-Analyse | D37: Analyse SWOT | E37: SWOT Analysis | F37: Analisi SWOT | G37: contact info@2imanagement.ch
A38: =OFFSET($C38,0,$B$4-1) -> Project management | C38: Projektmanagement | D38: Gestion de projets | E38: Project management | F38: Gestione di progetti | G38: contact info@2imanagement.ch
A39: =OFFSET($C39,0,$B$4-1) -> Strategies | C39: Strategien | D39: Stratégies | E39: Strategies | F39: Strategie | G39: contact info@2imanagement.ch
A40: =OFFSET($C40,0,$B$4-1) -> How can we reach our goals? | C40: Wie erreichen wir unsere Ziele? | D40: Comment atteindre nos objectifs ? | E40: How can we reach our goals? | F40: Come raggiungiamo i nostri obiettivi? | G40: contact info@2imanagement.ch
A41: =OFFSET($C41,0,$B$4-1) -> Vision / Mission | C41: Vision/Mission | D41: Vision/Mission | E41: Vision / Mission | F41: Visione / Missione | G41: contact info@2imanagement.ch
A42: =OFFSET($C42,0,$B$4-1) -> Strategy Map | C42: Strategy Map | D42: Strategy Map | E42: Strategy Map | F42: Mappa strategica | G42: contact info@2imanagement.ch
... A50: =OFFSET($C50,0,$B$4-1) -> Innovation | C50: Innovation | D50: Innovation | E50: Innovation | F50: Innovazione | G50: contact info@2imanagement.ch
A51: =OFFSET($C51,0,$B$4-1) -> Your logo: | C51: Ihr Logo: | D51: Votre logo: | E51: Your logo: | F51: Vostro logo:
A52: =OFFSET($C52,0,$B$4-1) -> S T A K E H O L D E R A N A L Y S I S | C52: S T A K E H O L D E R - A N A L Y S E | D52: A N A L Y S E D E S P A R T I E S P R E N A N T E S | E52: S T A K E H O L D E R A N A L Y S I S | F52: A N A L I S I D E G L I S T A K E H O L D E R | G52: contact info@2imanagement.ch
A53: =OFFSET($C53,0,$B$4-1) -> Wider environment | C53: weites Umfeld | D53: Contexte large | E53: Wider environment | F53: Contesto ampio | G53: contact info@2imanagement.ch
...

Sheet CanvasLeer
B1: =' '!A340 -> T H E B U S I N E S S M O D E L C A N V A S
C3: =' '!A341 -> Developed for: | E3: =' '!A342 -> Developed by: | G3: =' '!A343 -> Updated on:
C6: Key Partnerships | D6: Key Activities | E6: Value Propositions | G6: Customer Relationship | H6: Customer Segments
D23: Key Resources | G23: Channels
C39: Cost Structure | F39: Revenue Streams
C52: © iManagement • dr. s.imboden • www.2iManagement.ch

Sheet Logo
D4: =' '!A51 -> Your logo:
B11: © iManagement • dr. s.imboden • www.2iManagement.ch
