Workbook
Name Sprachen: ' '!$C$3:$G$3

Sheet  
A1: =OFFSET($C1,0,$B$4-1) -> 0 | C1: Deutsch | D1: Français
A2: Aktuelle Sprache | C2: Sprache 1 | D2: Sprache 2 | E2: Sprache 3 | F2: Sprache 4 | G2: Sprache 5
A3: Aktuell angezeigte Sprache | C3: Deutsch | D3: Français | E3: English | F3: Italiano | G3: 5_???
B4: 3
A5: =OFFSET($C5,0,$B$4-1) -> M A N A G E M E N T C O C K P I T | C5: F Ü H R U N G S C O C K P I T | D5: T A B L E A U D E B O R D | E5: M A N A G E M E N T C O C K P I T | F5: COCKPIT AZIENDALE | G5: contact info@2imanagement.ch
A6: =OFFSET($C6,0,$B$4-1) -> Measures & Projects | C6: Massnahmen & Projekte | D6: Mesures & Projets | E6: Measures & Projects | F6: Misure e progetti | G6: contact info@2imanagement.ch
A7: =OFFSET($C7,0,$B$4-1) -> Key figures | C7: Kennzahlen | D7: Chiffres clés | E7: Key figures | F7: Cifre chiave | G7: contact info@2imanagement.ch | Z7: Deutsch
A8: =OFFSET($C8,0,$B$4-1) -> Strategic Management | C8: Strategisches Management | D8: Management stratégique | E8: Strategic Management | F8: Management strategico | G8: contact info@2imanagement.ch | Z8: Français
A9: =OFFSET($C9,0,$B$4-1) -> Cockpit | C9: Cockpit | D9: Cockpit | E9: Cockpit | F9: Cockpit | G9: contact info@2imanagement.ch | Z9: English
A10: =OFFSET($C10,0,$B$4-1) -> Balanced Scorecard | C10: Balanced Scorecard | D10: Balanced Scorecard | E10: Balanced Scorecard | F10: Balanced scorecard | G10: contact info@2imanagement.ch | Z10: Italiano
A11: =OFFSET($C11,0,$B$4-1) -> Communication | C11: Kommunikation | D11: Communication | E11: Communication | F11: Comunicazione | G11: contact info@2imanagement.ch
A12: =OFFSET($C12,0,$B$4-1) -> Innovation/ Opportunities | C12: Innovation/ Opportunitäten | D12: Innovation/ Opportunités | E12: Innovation/ Opportunities | F12: Innovazione/ Opportunità | G12: contact info@2imanagement.ch
A13: =OFFSET($C13,0,$B$4-1) -> Objectifs & strategies | C13: Ziele & Strategien | D13: Objectifs & stratégies | E13: Objectifs & strategies | F13: Obiettivi e strategie | G13: contact info@2imanagement.ch
A14: =OFFSET($C14,0,$B$4-1) -> Quality | C14: Qualität | D14: Qualité | E14: Quality | F14: Qualità | G14: contact info@2imanagement.ch
A15: =OFFSET($C15,0,$B$4-1) -> Risks | C15: Risiken | D15: Risques | E15: Risks | F15: Rischi | G15: contact info@2imanagement.ch
A16: =OFFSET($C16,0,$B$4-1) -> Your logo: | C16: Ihr Logo: | D16: Votre logo: | E16: Your logo: | F16: Vostro logo:
A17: =OFFSET($C17,0,$B$4-1) -> O V E R V I E W | C17: Ü B E R S I C H T | D17: V U E D ' E N S E M B L E | E17: O V E R V I E W | F17: PANORAMICA | G17: contact info@2imanagement.ch
A18: =OFFSET($C18,0,$B$4-1) -> Update | C18: Aktualisieren | D18: Mettre à jour | E18: Update | F18: Aggiornare | G18: contact info@2imanagement.ch
A19: =OFFSET($C19,0,$B$4-1) -> Key figures | C19: Kenn-zahlen | D19: Chiffres clés | E19: Key figures | F19: Cifre chiave | G19: contact info@2imanagement.ch
A20: =OFFSET($C20,0,$B$4-1) -> Number of key figures | C20: Anzahl Kennzahlen | D20: Nbr. de chiffres clés | E20: Number of key figures | F20: Numero di cifre chiave | G20: contact info@2imanagement.ch
A21: =OFFSET($C21,0,$B$4-1) -> No. | C21: Nr. | D21: No. | E21: No. | F21: N. | G21: contact info@2imanagement.ch
A22: =OFFSET($C22,0,$B$4-1) -> OVERVIEW | C22: Ü B E R S I C H T | D22: VUE D'ENSEMBLE | E22: OVERVIEW | F22: PANORAMICA | G22: contact info@2imanagement.ch
A23: =OFFSET($C23,0,$B$4-1) -> Strategy | C23: Strategie | D23: Stratégie | E23: Strategy | F23: Strategia | G23: contact info@2imanagement.ch
A24: =OFFSET($C24,0,$B$4-1) -> Strategic indicator | C24: Strategischer Indikator | D24: Indicateur stratégique | E24: Strategic indicator | F24: Indicatore strategico | G24: contact info@2imanagement.ch
A25: =OFFSET($C25,0,$B$4-1) -> Act. state | C25: IST | D25: ÊTRE | E25: Act. state | F25: STATO ATTUALE | G25: contact info@2imanagement.ch
A26: =OFFSET($C26,0,$B$4-1) -> Target | C26: SOLL | D26: DOIT | E26: Target | F26: STATO DESIDERATO | G26: contact info@2imanagement.ch
A27: =OFFSET($C27,0,$B$4-1) -> Project controlling | C27: Projektcontrolling | D27: Controlling de projet | E27: Project controlling | F27: Controlling del progetto | G27: contact info@2imanagement.ch
A28: =OFFSET($C28,0,$B$4-1) -> Details | C28: Details | D28: Détails | E28: Details | F28: Dettagli | G28: contact info@2imanagement.ch
... A78: =OFFSET($C78,0,$B$4-1) -> Source | C78: Quelle | D78: Source | E78: Source | F78: Fonte | G78: contact info@2imanagement.ch
A79: =OFFSET($C79,0,$B$4-1) -> Sector comparison | C79: Branchenvergleich | D79: Comparaison avec la branche | E79: Sector comparison | F79: Raffronto settoriale
A80: =OFFSET($C80,0,$B$4-1) -> Time of the survey | C80: Erhebungszeitpunkt | D80: Moment de l'enquête | E80: Time of the survey | F80: Momento della rilevazione | G80: contact info@2imanagement.ch
A81: =OFFSET($C81,0,$B$4-1) -> O P E R A T I O N A L I N D C A T O R S | C81: O P E R A T I V E I N D I K A T O R E N | D81: I N D I C A T E U R S O P É R A T I O N N E L S | E81: O P E R A T I O N A L I N D C A T O R S | F81: INDICATORI OPERATIVI | G81: contact info@2imanagement.ch
A82: =OFFSET($C82,0,$B$4-1) -> I N D I C A T O R S K E Y F I G U R E S | C82: I N D I K A T O R E N K E N N Z A H L E N | D82: I N D I C A T E U R S C H I F F R E S C L E S | E82: I N D I C A T O R S K E Y F I G U R E S | F82: INDICATORI CIFRE CHIAVE | G82: contact info@2imanagement.ch
A83: =OFFSET($C83,0,$B$4-1) -> 0 | G83: contact info@2imanagement.ch
A84: =OFFSET($C84,0,$B$4-1) -> Do you wish to open the program "Strategic Management"? | C84: Möchten Sie das Programm "Strategisches Management" öffnen? | D84: Voulez-vous ouvrir le programme "Management stratégique" ? | E84: Do you wish to open the program "Strategic Management"? | F84: Volete aprire il programma "Management strategico"? | G84: contact info@2imanagement.ch
A85: =OFFSET($C85,0,$B$4-1) -> Make sure that the file "02_StrategicManagement.xls" has been put in the same directory! | C85: Stellen Sie sicher, dass die Datei "02_StrategicManagement.xls" im selben Verzeichnis abgelegt ist! | D85: Assurez-vous, que le fichier "02_StrategicManagement.xls" se trouve dans le même répertoire ! | E85: Make sure that the file "02_StrategicManagement.xls" has been put in the same directory! | F85: Assicuratevi che il file "02_StrategicManagement.xls" si trovi nella stessa directory! | G85: contact info@2imanagement.ch
A86: =OFFSET($C86,0,$B$4-1) -> Do you wish to open the program "Business Plan"? | C86: Möchten Sie das Programm "Business Plan" öffnen? | D86: Voulez-vous ouvrir le programme "Business Plan" ? | E86: Do you wish to open the program "Business Plan"? | F86: Volete aprire il programma "Business plan"? | G86: contact info@2imanagement.ch
A87: =OFFSET($C87,0,$B$4-1) -> Make sure that the file "04_BusinessPlan.xlsx" has been put in the same directory! | C87: Stellen Sie sicher, dass die Datei "04_BusinessPlan.xlsx" im selben Verzeichnis abgelegt ist! | D87: Assurez-vous, que le fichier "04_BusinessPlan.xlsx" se trouve dans le même répertoire ! | E87: Make sure that the file "04_BusinessPlan.xlsx" has been put in the same directory! | F87: Assicuratevi che il file "04_BusinessPlan.xlsx" si trovi nella stessa directory! | G87: contact info@2imanagement.ch
A88: =OFFSET($C88,0,$B$4-1) -> Do you wish to open the program "Innovation Management"? | C88: Möchten Sie das Programm "Innovationsmanagement" öffnen? | D88: Voulez-vous ouvrir le programme "Gestion de l'innovation"? | E88: Do you wish to open the program "Innovation Management"? | F88: Volete aprire il programma "Gestione dell'innovazione"? | G88: contact info@2imanagement.ch
A89: =OFFSET($C89,0,$B$4-1) -> Make sure that the file "08_Innovation.xlsx" has been put in the same directory! | C89: Stellen Sie sicher, dass die Datei "08_Innovation.xlsx" im selben Verzeichnis abgelegt ist! | D89: Assurez-vous, que le fichier "08_Innovation.xlsx" se touve dans le même répertoire! | E89: Make sure that the file "08_Innovation.xlsx" has been put in the same directory! | F89: Assicuratevi che il file "08_Innovation.xlsx" si trovi nella stessa directory! | G89: contact info@2imanagement.ch
...

Sheet Massnahmen
C1: =' '!A35 -> S T R A T E G I E S - M E A S U R E S - P R O J E C T S
B4: =' '!A40 -> No. | C4: =' '!A41 -> Strategies | D4: =B4 -> No. | E4: =' '!A42 -> Strategic indicators | G4: =' '!A43 -> Act. state | H4: =' '!A44 -> Target | I4: =' '!A45 -> achieved | K4: =B4 -> No. | L4: =' '!A48 -> Measures / objectifs | M4: =B4 -> No. | N4: =' '!A49 -> Operational indicators | O4: =G4 -> Act. state | P4: =H4 -> Target | Q4: =I4 -> achieved | S4: =B4 -> No. | T4: =' '!A50 -> Projects | U4: Prio | V4: =' '!A54 -> Who? | W4: =' '!A52 -> Start | X4: =' '!A53 -> Finish | Y4: ok | Z4: Filter in Kolonne B
Z5: =IF($C$6="","","drucken") -> drucken
A6: =B6 -> 1 | B6: 1 | C6: Stratégie 1 | D6: s1 | E6: Indicateur 1 | F6: =IF(E6<>"","?","") -> ? | G6: 30 | H6: 30 | I6: =IF(E6="","", IF(H6="",0, IF(G6=H6,100%, IF(ISERROR(H6/G6),0, IF(ISERROR(G6/H6),0, IF(G6<>0, IF(AND(G6>H6,Logo!$G$18=1), H6/G6, G6/H6 ))))))) -> 1 | J6: =IF(OR(E6="",I6=0),"", IF(I6<Logo!$F$14,3, IF(I6<Logo!$F$15,2,1))) -> 1 | K6: m1 | L6: Mesure 1 | M6: o1 | N6: Indicateur 1 | O6: 0.6 | P6: 0.8 | Q6: =IF(N6="","", IF(P6="",0, IF(O6=P6,100%, IF(ISERROR(P6/O6),0, IF(ISERROR(O6/P6),0, IF(O6<>0, IF(AND(O6>P6,Logo!$G$18=1), P6/O6, O6/P6 ))))))) -> 0.75 | R6: =IF(OR(N6="",Q6=0),"", IF(Q6<Logo!$F$14,3, IF(Q6<Logo!$F$15,2,1))) -> 2 | S6: p1 | T6: Projet 1 | U6: 1 | V6: xy | W6: =TODAY() -> 43234 | X6: =W6+30 -> 43264 | Y6: 1 | Z6: =IF($C$6="","","drucken") -> drucken
A7: =$A$6 -> 1 | B7: =$B$6 -> 1 | K7: m2 | M7: o2 | N7: Indicateur 2 | O7: 90 | P7: 100 | Q7: =IF(N7="","", IF(P7="",0, IF(O7=P7,100%, IF(ISERROR(P7/O7),0, IF(ISERROR(O7/P7),0, IF(O7<>0, IF(AND(O7>P7,Logo!$G$18=1), P7/O7, O7/P7 ))))))) -> 0.9 | R7: =IF(OR(N7="",Q7=0),"", IF(Q7<Logo!$F$14,3, IF(Q7<Logo!$F$15,2,1))) -> 1 | S7: p2 | T7: Projet 2 | U7: 2 | V7: zz | W7: =TODAY()+1 -> 43235 | X7: =W7+30 -> 43265 | Y7: 2 | Z7: =IF($C$6="","","drucken") -> drucken
A8: =$A$6 -> 1 | B8: =$B$6 -> 1 | D8: s2 | E8: Indicateur 2 | F8: =IF(E8<>"","?","") -> ? | G8: 70 | H8: 100 | I8: =IF(E8="","", IF(H8="",0, IF(G8=H8,100%, IF(ISERROR(H8/G8),0, IF(ISERROR(G8/H8),0, IF(G8<>0, IF(AND(G8>H8,Logo!$G$18=1), H8/G8, G8/H8 ))))))) -> 0.7 | J8: =IF(OR(E8="",I8=0),"", IF(I8<Logo!$F$14,3, IF(I8<Logo!$F$15,2,1))) -> 2 | K8: m3 | M8: o3 | N8: Indicateur 3 | O8: 50 | P8: 100 | Q8: =IF(N8="","", IF(P8="",0, IF(O8=P8,100%, IF(ISERROR(P8/O8),0, IF(ISERROR(O8/P8),0, IF(O8<>0, IF(AND(O8>P8,Logo!$G$18=1), P8/O8, O8/P8 ))))))) -> 0.5 | R8: =IF(OR(N8="",Q8=0),"", IF(Q8<Logo!$F$14,3, IF(Q8<Logo!$F$15,2,1))) -> 3 | S8: p3 | T8: Projet 3 | U8: 3 | V8: aa | W8: =TODAY()+2 -> 43236 | X8: =W8+30 -> 43266 | Y8: 3 | Z8: =IF($C$6="","","drucken") -> drucken
A9: =$A$6 -> 1 | B9: =$B$6 -> 1 | K9: m4 | M9: o4 | Q9: =IF(N9="","", IF(P9="",0, IF(O9=P9,100%, IF(ISERROR(P9/O9),0, IF(ISERROR(O9/P9),0, IF(O9<>0, IF(AND(O9>P9,Logo!$G$18=1), P9/O9, O9/P9 ))))))) | R9: =IF(OR(N9="",Q9=0),"", IF(Q9<Logo!$F$14,3, IF(Q9<Logo!$F$15,2,1))) | S9: p4 | Z9: =IF($C$6="","","drucken") -> drucken
A10: =$A$6 -> 1 | B10: =$B$6 -> 1 | D10: s3 | F10: =IF(E10<>"","?","") | I10: =IF(E10="","", IF(H10="",0, IF(G10=H10,100%, IF(ISERROR(H10/G10),0, IF(ISERROR(G10/H10),0, IF(G10<>0, IF(AND(G10>H10,Logo!$G$18=1), H10/G10, G10/H10 ))))))) | J10: =IF(OR(E10="",I10=0),"", IF(I10<Logo!$F$14,3, IF(I10<Logo!$F$15,2,1))) | K10: m5 | M10: o5 | Q10: =IF(N10="","", IF(P10="",0, IF(O10=P10,100%, IF(ISERROR(P10/O10),0, IF(ISERROR(O10/P10),0, IF(O10<>0, IF(AND(O10>P10,Logo!$G$18=1), P10/O10, O10/P10 ))))))) | R10: =IF(OR(N10="",Q10=0),"", IF(Q10<Logo!$F$14,3, IF(Q10<Logo!$F$15,2,1))) | S10: p5 | Z10: =IF($C$6="","","drucken") -> drucken
A11: =$A$6 -> 1 | B11: =$B$6 -> 1 | K11: m6 | M11: o6 | Q11: =IF(N11="","", IF(P11="",0, IF(O11=P11,100%, IF(ISERROR(P11/O11),0, IF(ISERROR(O11/P11),0, IF(O11<>0, IF(AND(O11>P11,Logo!$G$18=1), P11/O11, O11/P11 ))))))) | R11: =IF(OR(N11="",Q11=0),"", IF(Q11<Logo!$F$14,3, IF(Q11<Logo!$F$15,2,1))) | S11: p6 | Z11: =IF($C$6="","","drucken") -> drucken
A12: =$A$6 -> 1 | B12: =$B$6 -> 1 | D12: s4 | F12: =IF(E12<>"","?","") | I12: =IF(E12="","", IF(H12="",0, IF(G12=H12,100%, IF(ISERROR(H12/G12),0, IF(ISERROR(G12/H12),0, IF(G12<>0, IF(AND(G12>H12,Logo!$G$18=1), H12/G12, G12/H12 ))))))) | J12: =IF(OR(E12="",I12=0),"", IF(I12<Logo!$F$14,3, IF(I12<Logo!$F$15,2,1))) | K12: m7 | M12: o7 | Q12: =IF(N12="","", IF(P12="",0, IF(O12=P12,100%, IF(ISERROR(P12/O12),0, IF(ISERROR(O12/P12),0, IF(O12<>0, IF(AND(O12>P12,Logo!$G$18=1), P12/O12, O12/P12 ))))))) | R12: =IF(OR(N12="",Q12=0),"", IF(Q12<Logo!$F$14,3, IF(Q12<Logo!$F$15,2,1))) | S12: p7 | Z12: =IF($C$6="","","drucken") -> drucken
A13: =$A$6 -> 1 | B13: =$B$6 -> 1 | K13: m8 | M13: o8 | Q13: =IF(N13="","", IF(P13="",0, IF(O13=P13,100%, IF(ISERROR(P13/O13),0, IF(ISERROR(O13/P13),0, IF(O13<>0, IF(AND(O13>P13,Logo!$G$18=1), P13/O13, O13/P13 ))))))) | R13: =IF(OR(N13="",Q13=0),"", IF(Q13<Logo!$F$14,3, IF(Q13<Logo!$F$15,2,1))) | S13: p8 | Z13: =IF($C$6="","","drucken") -> drucken
A14: =$A$6 -> 1 | B14: =$B$6 -> 1 | D14: s5 | F14: =IF(E14<>"","?","") | I14: =IF(E14="","", IF(H14="",0, IF(G14=H14,100%, IF(ISERROR(H14/G14),0, IF(ISERROR(G14/H14),0, IF(G14<>0, IF(AND(G14>H14,Logo!$G$18=1), H14/G14, G14/H14 ))))))) | J14: =IF(OR(E14="",I14=0),"", IF(I14<Logo!$F$14,3, IF(I14<Logo!$F$15,2,1))) | K14: m9 | M14: o9 | Q14: =IF(N14="","", IF(P14="",0, IF(O14=P14,100%, IF(ISERROR(P14/O14),0, IF(ISERROR(O14/P14),0, IF(O14<>0, IF(AND(O14>P14,Logo!$G$18=1), P14/O14, O14/P14 ))))))) | R14: =IF(OR(N14="",Q14=0),"", IF(Q14<Logo!$F$14,3, IF(Q14<Logo!$F$15,2,1))) | S14: p9
A15: =$A$6 -> 1 | B15: =$B$6 -> 1 | K15: m10 | M15: o10 | Q15: =IF(N15="","", IF(P15="",0, IF(O15=P15,100%, IF(ISERROR(P15/O15),0, IF(ISERROR(O15/P15),0, IF(O15<>0, IF(AND(O15>P15,Logo!$G$18=1), P15/O15, O15/P15 ))))))) | R15: =IF(OR(N15="",Q15=0),"", IF(Q15<Logo!$F$14,3, IF(Q15<Logo!$F$15,2,1))) | S15: p10
A16: =$A$6 -> 1 | B16: =$B$6 -> 1 | D16: s6 | F16: =IF(E16<>"","?","") | I16: =IF(E16="","", IF(H16="",0, IF(G16=H16,100%, IF(ISERROR(H16/G16),0, IF(ISERROR(G16/H16),0, IF(G16<>0, IF(AND(G16>H16,Logo!$G$18=1), H16/G16, G16/H16 ))))))) | J16: =IF(OR(E16="",I16=0),"", IF(I16<Logo!$F$14,3, IF(I16<Logo!$F$15,2,1))) | K16: m11 | M16: o11 | Q16: =IF(N16="","", IF(P16="",0, IF(O16=P16,100%, IF(ISERROR(P16/O16),0, IF(ISERROR(O16/P16),0, IF(O16<>0, IF(AND(O16>P16,Logo!$G$18=1), P16/O16, O16/P16 ))))))) | R16: =IF(OR(N16="",Q16=0),"", IF(Q16<Logo!$F$14,3, IF(Q16<Logo!$F$15,2,1))) | S16: p11
A17: =$A$6 -> 1 | B17: =$B$6 -> 1 | K17: m12 | M17: o12 | Q17: =IF(N17="","", IF(P17="",0, IF(O17=P17,100%, IF(ISERROR(P17/O17),0, IF(ISERROR(O17/P17),0, IF(O17<>0, IF(AND(O17>P17,Logo!$G$18=1), P17/O17, O17/P17 ))))))) | R17: =IF(OR(N17="",Q17=0),"", IF(Q17<Logo!$F$14,3, IF(Q17<Logo!$F$15,2,1))) | S17: p12
A18: =$A$6 -> 1 | B18: =$B$6 -> 1 | D18: s7 | F18: =IF(E18<>"","?","") | I18: =IF(E18="","", IF(H18="",0, IF(G18=H18,100%, IF(ISERROR(H18/G18),0, IF(ISERROR(G18/H18),0, IF(G18<>0, IF(AND(G18>H18,Logo!$G$18=1), H18/G18, G18/H18 ))))))) | J18: =IF(OR(E18="",I18=0),"", IF(I18<Logo!$F$14,3, IF(I18<Logo!$F$15,2,1))) | K18: m13 | M18: o13 | Q18: =IF(N18="","", IF(P18="",0, IF(O18=P18,100%, IF(ISERROR(P18/O18),0, IF(ISERROR(O18/P18),0, IF(O18<>0, IF(AND(O18>P18,Logo!$G$18=1), P18/O18, O18/P18 ))))))) | R18: =IF(OR(N18="",Q18=0),"", IF(Q18<Logo!$F$14,3, IF(Q18<Logo!$F$15,2,1))) | S18: p13
A19: =$A$6 -> 1 | B19: =$B$6 -> 1 | K19: m14 | M19: o14 | Q19: =IF(N19="","", IF(P19="",0, IF(O19=P19,100%, IF(ISERROR(P19/O19),0, IF(ISERROR(O19/P19),0, IF(O19<>0, IF(AND(O19>P19,Logo!$G$18=1), P19/O19, O19/P19 ))))))) | R19: =IF(OR(N19="",Q19=0),"", IF(Q19<Logo!$F$14,3, IF(Q19<Logo!$F$15,2,1))) | S19: p14
A20: =$A$6 -> 1 | B20: =$B$6 -> 1 | D20: s8 | F20: =IF(E20<>"","?","") | I20: =IF(E20="","", IF(H20="",0, IF(G20=H20,100%, IF(ISERROR(H20/G20),0, IF(ISERROR(G20/H20),0, IF(G20<>0, IF(AND(G20>H20,Logo!$G$18=1), H20/G20, G20/H20 ))))))) | J20: =IF(OR(E20="",I20=0),"", IF(I20<Logo!$F$14,3, IF(I20<Logo!$F$15,2,1))) | K20: m15 | M20: o15 | Q20: =IF(N20="","", IF(P20="",0, IF(O20=P20,100%, IF(ISERROR(P20/O20),0, IF(ISERROR(O20/P20),0, IF(O20<>0, IF(AND(O20>P20,Logo!$G$18=1), P20/O20, O20/P20 ))))))) | R20: =IF(OR(N20="",Q20=0),"", IF(Q20<Logo!$F$14,3, IF(Q20<Logo!$F$15,2,1))) | S20: p15 | Z20: =IF($C$6="","","drucken") -> drucken
A21: =$A$6 -> 1 | B21: =$B$6 -> 1 | K21: m16 | M21: o16 | Q21: =IF(N21="","", IF(P21="",0, IF(O21=P21,100%, IF(ISERROR(P21/O21),0, IF(ISERROR(O21/P21),0, IF(O21<>0, IF(AND(O21>P21,Logo!$G$18=1), P21/O21, O21/P21 ))))))) | R21: =IF(OR(N21="",Q21=0),"", IF(Q21<Logo!$F$14,3, IF(Q21<Logo!$F$15,2,1))) | S21: p16 | Z21: =IF($C$6="","","drucken") -> drucken
A22: =IF(B22=B6,B6,B6+1) -> 2 | B22: 2 | C22: Stratégie 2 | D22: s9 | F22: =IF(E22<>"","?","") | I22: =IF(E22="","", IF(H22="",0, IF(G22=H22,100%, IF(ISERROR(H22/G22),0, IF(ISERROR(G22/H22),0, IF(G22<>0, IF(AND(G22>H22,Logo!$G$18=1), H22/G22, G22/H22 ))))))) | J22: =IF(OR(E22="",I22=0),"", IF(I22<Logo!$F$14,3, IF(I22<Logo!$F$15,2,1))) | K22: m17 | M22: o17 | Q22: =IF(N22="","", IF(P22="",0, IF(O22=P22,100%, IF(ISERROR(P22/O22),0, IF(ISERROR(O22/P22),0, IF(O22<>0, IF(AND(O22>P22,Logo!$G$18=1), P22/O22, O22/P22 ))))))) | R22: =IF(OR(N22="",Q22=0),"", IF(Q22<Logo!$F$14,3, IF(Q22<Logo!$F$15,2,1))) | S22: p17 | Z22: =IF($C$22="","","drucken") -> drucken
A23: =$A$22 -> 2 | B23: =$B$22 -> 2 | K23: m18 | M23: o18 | Q23: =IF(N23="","", IF(P23="",0, IF(O23=P23,100%, IF(ISERROR(P23/O23),0, IF(ISERROR(O23/P23),0, IF(O23<>0, IF(AND(O23>P23,Logo!$G$18=1), P23/O23, O23/P23 ))))))) | R23: =IF(OR(N23="",Q23=0),"", IF(Q23<Logo!$F$14,3, IF(Q23<Logo!$F$15,2,1))) | S23: p18 | Z23: =IF($C$22="","","drucken") -> drucken
A24: =$A$22 -> 2 | B24: =$B$22 -> 2 | D24: s10 | F24: =IF(E24<>"","?","") | I24: =IF(E24="","", IF(H24="",0, IF(G24=H24,100%, IF(ISERROR(H24/G24),0, IF(ISERROR(G24/H24),0, IF(G24<>0, IF(AND(G24>H24,Logo!$G$18=1), H24/G24, G24/H24 ))))))) | J24: =IF(OR(E24="",I24=0),"", IF(I24<Logo!$F$14,3, IF(I24<Logo!$F$15,2,1))) | K24: m19 | M24: o19 | Q24: =IF(N24="","", IF(P24="",0, IF(O24=P24,100%, IF(ISERROR(P24/O24),0, IF(ISERROR(O24/P24),0, IF(O24<>0, IF(AND(O24>P24,Logo!$G$18=1), P24/O24, O24/P24 ))))))) | R24: =IF(OR(N24="",Q24=0),"", IF(Q24<Logo!$F$14,3, IF(Q24<Logo!$F$15,2,1))) | S24: p19 | Z24: =IF($C$22="","","drucken") -> drucken
A25: =$A$22 -> 2 | B25: =$B$22 -> 2 | K25: m20 | M25: o20 | Q25: =IF(N25="","", IF(P25="",0, IF(O25=P25,100%, IF(ISERROR(P25/O25),0, IF(ISERROR(O25/P25),0, IF(O25<>0, IF(AND(O25>P25,Logo!$G$18=1), P25/O25, O25/P25 ))))))) | R25: =IF(OR(N25="",Q25=0),"", IF(Q25<Logo!$F$14,3, IF(Q25<Logo!$F$15,2,1))) | S25: p20 | Z25: =IF($C$22="","","drucken") -> drucken
A26: =$A$22 -> 2 | B26: =$B$22 -> 2 | D26: s11 | F26: =IF(E26<>"","?","") | I26: =IF(E26="","", IF(H26="",0, IF(G26=H26,100%, IF(ISERROR(H26/G26),0, IF(ISERROR(G26/H26),0, IF(G26<>0, IF(AND(G26>H26,Logo!$G$18=1), H26/G26, G26/H26 ))))))) | J26: =IF(OR(E26="",I26=0),"", IF(I26<Logo!$F$14,3, IF(I26<Logo!$F$15,2,1))) | K26: m21 | M26: o21 | Q26: =IF(N26="","", IF(P26="",0, IF(O26=P26,100%, IF(ISERROR(P26/O26),0, IF(ISERROR(O26/P26),0, IF(O26<>0, IF(AND(O26>P26,Logo!$G$18=1), P26/O26, O26/P26 ))))))) | R26: =IF(OR(N26="",Q26=0),"", IF(Q26<Logo!$F$14,3, IF(Q26<Logo!$F$15,2,1))) | S26: p21 | Z26: =IF($C$22="","","drucken") -> drucken
A27: =$A$22 -> 2 | B27: =$B$22 -> 2 | K27: m22 | M27: o22 | Q27: =IF(N27="","", IF(P27="",0, IF(O27=P27,100%, IF(ISERROR(P27/O27),0, IF(ISERROR(O27/P27),0, IF(O27<>0, IF(AND(O27>P27,Logo!$G$18=1), P27/O27, O27/P27 ))))))) | R27: =IF(OR(N27="",Q27=0),"", IF(Q27<Logo!$F$14,3, IF(Q27<Logo!$F$15,2,1))) | S27: p22 | Z27: =IF($C$22="","","drucken") -> drucken
A28: =$A$22 -> 2 | B28: =$B$22 -> 2 | D28: s12 | F28: =IF(E28<>"","?","") | I28: =IF(E28="","", IF(H28="",0, IF(G28=H28,100%, IF(ISERROR(H28/G28),0, IF(ISERROR(G28/H28),0, IF(G28<>0, IF(AND(G28>H28,Logo!$G$18=1), H28/G28, G28/H28 ))))))) | J28: =IF(OR(E28="",I28=0),"", IF(I28<Logo!$F$14,3, IF(I28<Logo!$F$15,2,1))) | K28: m23 | M28: o23 | Q28: =IF(N28="","", IF(P28="",0, IF(O28=P28,100%, IF(ISERROR(P28/O28),0, IF(ISERROR(O28/P28),0, IF(O28<>0, IF(AND(O28>P28,Logo!$G$18=1), P28/O28, O28/P28 ))))))) | R28: =IF(OR(N28="",Q28=0),"", IF(Q28<Logo!$F$14,3, IF(Q28<Logo!$F$15,2,1))) | S28: p23 | Z28: =IF($C$22="","","drucken") -> drucken
A29: =$A$22 -> 2 | B29: =$B$22 -> 2 | K29: m24 | M29: o24 | Q29: =IF(N29="","", IF(P29="",0, IF(O29=P29,100%, IF(ISERROR(P29/O29),0, IF(ISERROR(O29/P29),0, IF(O29<>0, IF(AND(O29>P29,Logo!$G$18=1), P29/O29, O29/P29 ))))))) | R29: =IF(OR(N29="",Q29=0),"", IF(Q29<Logo!$F$14,3, IF(Q29<Logo!$F$15,2,1))) | S29: p24
A30: =$A$22 -> 2 | B30: =$B$22 -> 2 | D30: s13 | F30: =IF(E30<>"","?","") | I30: =IF(E30="","", IF(H30="",0, IF(G30=H30,100%, IF(ISERROR(H30/G30),0, IF(ISERROR(G30/H30),0, IF(G30<>0, IF(AND(G30>H30,Logo!$G$18=1), H30/G30, G30/H30 ))))))) | J30: =IF(OR(E30="",I30=0),"", IF(I30<Logo!$F$14,3, IF(I30<Logo!$F$15,2,1))) | K30: m25 | M30: o25 | Q30: =IF(N30="","", IF(P30="",0, IF(O30=P30,100%, IF(ISERROR(P30/O30),0, IF(ISERROR(O30/P30),0, IF(O30<>0, IF(AND(O30>P30,Logo!$G$18=1), P30/O30, O30/P30 ))))))) | R30: =IF(OR(N30="",Q30=0),"", IF(Q30<Logo!$F$14,3, IF(Q30<Logo!$F$15,2,1))) | S30: p25
A31: =$A$22 -> 2 | B31: =$B$22 -> 2 | K31: m26 | M31: o26 | Q31: =IF(N31="","", IF(P31="",0, IF(O31=P31,100%, IF(ISERROR(P31/O31),0, IF(ISERROR(O31/P31),0, IF(O31<>0, IF(AND(O31>P31,Logo!$G$18=1), P31/O31, O31/P31 ))))))) | R31: =IF(OR(N31="",Q31=0),"", IF(Q31<Logo!$F$14,3, IF(Q31<Logo!$F$15,2,1))) | S31: p26
A32: =$A$22 -> 2 | B32: =$B$22 -> 2 | D32: s14 | F32: =IF(E32<>"","?","") | I32: =IF(E32="","", IF(H32="",0, IF(G32=H32,100%, IF(ISERROR(H32/G32),0, IF(ISERROR(G32/H32),0, IF(G32<>0, IF(AND(G32>H32,Logo!$G$18=1), H32/G32, G32/H32 ))))))) | J32: =IF(OR(E32="",I32=0),"", IF(I32<Logo!$F$14,3, IF(I32<Logo!$F$15,2,1))) | K32: m27 | M32: o27 | Q32: =IF(N32="","", IF(P32="",0, IF(O32=P32,100%, IF(ISERROR(P32/O32),0, IF(ISERROR(O32/P32),0, IF(O32<>0, IF(AND(O32>P32,Logo!$G$18=1), P32/O32, O32/P32 ))))))) | R32: =IF(OR(N32="",Q32=0),"", IF(Q32<Logo!$F$14,3, IF(Q32<Logo!$F$15,2,1))) | S32: p27
A33: =$A$22 -> 2 | B33: =$B$22 -> 2 | K33: m28 | M33: o28 | Q33: =IF(N33="","", IF(P33="",0, IF(O33=P33,100%, IF(ISERROR(P33/O33),0, IF(ISERROR(O33/P33),0, IF(O33<>0, IF(AND(O33>P33,Logo!$G$18=1), P33/O33, O33/P33 ))))))) | R33: =IF(OR(N33="",Q33=0),"", IF(Q33<Logo!$F$14,3, IF(Q33<Logo!$F$15,2,1))) | S33: p28
A34: =$A$22 -> 2 | B34: =$B$22 -> 2 | D34: s15 | F34: =IF(E34<>"","?","") | I34: =IF(E34="","", IF(H34="",0, IF(G34=H34,100%, IF(ISERROR(H34/G34),0, IF(ISERROR(G34/H34),0, IF(G34<>0, IF(AND(G34>H34,Logo!$G$18=1), H34/G34, G34/H34 ))))))) | J34: =IF(OR(E34="",I34=0),"", IF(I34<Logo!$F$14,3, IF(I34<Logo!$F$15,2,1))) | K34: m29 | M34: o29 | Q34: =IF(N34="","", IF(P34="",0, IF(O34=P34,100%, IF(ISERROR(P34/O34),0, IF(ISERROR(O34/P34),0, IF(O34<>0, IF(AND(O34>P34,Logo!$G$18=1), P34/O34, O34/P34 ))))))) | R34: =IF(OR(N34="",Q34=0),"", IF(Q34<Logo!$F$14,3, IF(Q34<Logo!$F$15,2,1))) | S34: p29
A35: =$A$22 -> 2 | B35: =$B$22 -> 2 | K35: m30 | M35: o30 | Q35: =IF(N35="","", IF(P35="",0, IF(O35=P35,100%, IF(ISERROR(P35/O35),0, IF(ISERROR(O35/P35),0, IF(O35<>0, IF(AND(O35>P35,Logo!$G$18=1), P35/O35, O35/P35 ))))))) | R35: =IF(OR(N35="",Q35=0),"", IF(Q35<Logo!$F$14,3, IF(Q35<Logo!$F$15,2,1))) | S35: p30
A36: =$A$22 -> 2 | B36: =$B$22 -> 2 | D36: s16 | F36: =IF(E36<>"","?","") | I36: =IF(E36="","", IF(H36="",0, IF(G36=H36,100%, IF(ISERROR(H36/G36),0, IF(ISERROR(G36/H36),0, IF(G36<>0, IF(AND(G36>H36,Logo!$G$18=1), H36/G36, G36/H36 ))))))) | J36: =IF(OR(E36="",I36=0),"", IF(I36<Logo!$F$14,3, IF(I36<Logo!$F$15,2,1))) | K36: m31 | M36: o31 | Q36: =IF(N36="","", IF(P36="",0, IF(O36=P36,100%, IF(ISERROR(P36/O36),0, IF(ISERROR(O36/P36),0, IF(O36<>0, IF(AND(O36>P36,Logo!$G$18=1), P36/O36, O36/P36 ))))))) | R36: =IF(OR(N36="",Q36=0),"", IF(Q36<Logo!$F$14,3, IF(Q36<Logo!$F$15,2,1))) | S36: p31
A37: =$A$22 -> 2 | B37: =$B$22 -> 2 | K37: m32 | M37: o32 | Q37: =IF(N37="","", IF(P37="",0, IF(O37=P37,100%, IF(ISERROR(P37/O37),0, IF(ISERROR(O37/P37),0, IF(O37<>0, IF(AND(O37>P37,Logo!$G$18=1), P37/O37, O37/P37 ))))))) | R37: =IF(OR(N37="",Q37=0),"", IF(Q37<Logo!$F$14,3, IF(Q37<Logo!$F$15,2,1))) | S37: p32
A38: =IF(B38=B22,B22,B22+1) -> 3 | B38: 3 | C38: Stratégie 3 | D38: s17 | F38: =IF(E38<>"","?","") | I38: =IF(E38="","", IF(H38="",0, IF(G38=H38,100%, IF(ISERROR(H38/G38),0, IF(ISERROR(G38/H38),0, IF(G38<>0, IF(AND(G38>H38,Logo!$G$18=1), H38/G38, G38/H38 ))))))) | J38: =IF(OR(E38="",I38=0),"", IF(I38<Logo!$F$14,3, IF(I38<Logo!$F$15,2,1))) | K38: m33 | M38: o33 | Q38: =IF(N38="","", IF(P38="",0, IF(O38=P38,100%, IF(ISERROR(P38/O38),0, IF(ISERROR(O38/P38),0, IF(O38<>0, IF(AND(O38>P38,Logo!$G$18=1), P38/O38, O38/P38 ))))))) | R38: =IF(OR(N38="",Q38=0),"", IF(Q38<Logo!$F$14,3, IF(Q38<Logo!$F$15,2,1))) | S38: p33 | Z38: =IF($C$38="","","drucken") -> drucken
A39: =$A$38 -> 3 | B39: =$B$38 -> 3 | K39: m34 | M39: o34 | Q39: =IF(N39="","", IF(P39="",0, IF(O39=P39,100%, IF(ISERROR(P39/O39),0, IF(ISERROR(O39/P39),0, IF(O39<>0, IF(AND(O39>P39,Logo!$G$18=1), P39/O39, O39/P39 ))))))) | R39: =IF(OR(N39="",Q39=0),"", IF(Q39<Logo!$F$14,3, IF(Q39<Logo!$F$15,2,1))) | S39: p34 | Z39: =IF($C$38="","","drucken") -> drucken
A40: =$A$38 -> 3 | B40: =$B$38 -> 3 | D40: s18 | F40: =IF(E40<>"","?","") | I40: =IF(E40="","", IF(H40="",0, IF(G40=H40,100%, IF(ISERROR(H40/G40),0, IF(ISERROR(G40/H40),0, IF(G40<>0, IF(AND(G40>H40,Logo!$G$18=1), H40/G40, G40/H40 ))))))) | J40: =IF(OR(E40="",I40=0),"", IF(I40<Logo!$F$14,3, IF(I40<Logo!$F$15,2,1))) | K40: m35 | M40: o35 | Q40: =IF(N40="","", IF(P40="",0, IF(O40=P40,100%, IF(ISERROR(P40/O40),0, IF(ISERROR(O40/P40),0, IF(O40<>0, IF(AND(O40>P40,Logo!$G$18=1), P40/O40, O40/P40 ))))))) | R40: =IF(OR(N40="",Q40=0),"", IF(Q40<Logo!$F$14,3, IF(Q40<Logo!$F$15,2,1))) | S40: p35 | Z40: =IF($C$38="","","drucken") -> drucken
A41: =$A$38 -> 3 | B41: =$B$38 -> 3 | K41: m36 | M41: o36 | Q41: =IF(N41="","", IF(P41="",0, IF(O41=P41,100%, IF(ISERROR(P41/O41),0, IF(ISERROR(O41/P41),0, IF(O41<>0, IF(AND(O41>P41,Logo!$G$18=1), P41/O41, O41/P41 ))))))) | R41: =IF(OR(N41="",Q41=0),"", IF(Q41<Logo!$F$14,3, IF(Q41<Logo!$F$15,2,1))) | S41: p36 | Z41: =IF($C$38="","","drucken") -> drucken
A42: =$A$38 -> 3 | B42: =$B$38 -> 3 | D42: s19 | F42: =IF(E42<>"","?","") | I42: =IF(E42="","", IF(H42="",0, IF(G42=H42,100%, IF(ISERROR(H42/G42),0, IF(ISERROR(G42/H42),0, IF(G42<>0, IF(AND(G42>H42,Logo!$G$18=1), H42/G42, G42/H42 ))))))) | J42: =IF(OR(E42="",I42=0),"", IF(I42<Logo!$F$14,3, IF(I42<Logo!$F$15,2,1))) | K42: m37 | M42: o37 | Q42: =IF(N42="","", IF(P42="",0, IF(O42=P42,100%, IF(ISERROR(P42/O42),0, IF(ISERROR(O42/P42),0, IF(O42<>0, IF(AND(O42>P42,Logo!$G$18=1), P42/O42, O42/P42 ))))))) | R42: =IF(OR(N42="",Q42=0),"", IF(Q42<Logo!$F$14,3, IF(Q42<Logo!$F$15,2,1))) | S42: p37 | Z42: =IF($C$38="","","drucken") -> drucken
...

Sheet sIndikatoren
B1: =' '!A75 -> S T R A T E G I C I N D I C A T O R S
C5: =' '!A77 -> Description/Remarks | D5: =' '!$A$76 -> Calculation | E5: =' '!$A$78 -> Source | F5: =' '!$A$80 -> Time of the survey | G5: =' '!A79 -> Sector comparison
B6: s1 | C6: =IF(Massnahmen!E6<>"",Massnahmen!E6,"") -> Indicateur 1 | F6: 42736
B8: s2 | C8: =IF(Massnahmen!E8<>"",Massnahmen!E8,"") -> Indicateur 2
B10: s3 | C10: =IF(Massnahmen!E10<>"",Massnahmen!E10,"")
B12: s4 | C12: =IF(Massnahmen!E12<>"",Massnahmen!E12,"")
B14: s5 | C14: =IF(Massnahmen!E14<>"",Massnahmen!E14,"")
B16: s6 | C16: =IF(Massnahmen!E16<>"",Massnahmen!E16,"")
B18: s7 | C18: =IF(Massnahmen!E18<>"",Massnahmen!E18,"")
B20: s8 | C20: =IF(Massnahmen!E20<>"",Massnahmen!E20,"")
B22: s9 | C22: =IF(Massnahmen!E22<>"",Massnahmen!E22,"")
B24: s10 | C24: =IF(Massnahmen!E24<>"",Massnahmen!E24,"")
B26: s11 | C26: =IF(Massnahmen!E26<>"",Massnahmen!E26,"")
B28: s12 | C28: =IF(Massnahmen!E28<>"",Massnahmen!E28,"")
B30: s13 | C30: =IF(Massnahmen!E30<>"",Massnahmen!E30,"")
... B164: s80 | C164: =IF(Massnahmen!E164<>"",Massnahmen!E164,"")
B166: © iManagement • dr. s.imboden • www.2iManagement.ch

Sheet Logo
D4: =' '!A16 -> Your logo:
B12: =' '!A161 -> Setting light system
B14: 0 | D14: =' '!A162 -> up to | F14: 0.7
B15: =F14 -> 0.7 | D15: =' '!A162 -> up to | F15: 0.9
B16: =F15 -> 0.9 | D16: =' '!A162 -> up to | F16: 1
B18: =' '!A164 -> Calculations of the lights can be higher than 100% | F18: Oui | G18: =IF(OR(F18="Oui",F18="Ja",F18="Yes",F18="Si"),0,1) -> 0
B20: © iManagement • dr. s.imboden • www.2iManagement.ch
