Workbook
Name Sprachen: ' '!$C$3:$G$3

Sheet  
A1: =OFFSET($C1,0,$B$4-1) -> 0 | C1: Deutsch | D1: Français
A2: Aktuelle Sprache | C2: Sprache 1 | D2: Sprache 2 | E2: Sprache 3 | F2: Sprache 4 | G2: Sprache 5
A3: Aktuell angezeigte Sprache | C3: Deutsch | D3: Français | E3: English | F3: Italiano | G3: 5_???
B4: 3
A5: =OFFSET($C5,0,$B$4-1) -> M A N A G E M E N T C O C K P I T | C5: F Ü H R U N G S C O C K P I T | D5: T A B L E A U D E B O R D | E5: M A N A G E M E N T C O C K P I T | F5: COCKPIT AZIENDALE | G5: contact info@2imanagement.ch
A6: =OFFSET($C6,0,$B$4-1) -> Measures & Projects | C6: Massnahmen & Projekte | D6: Mesures & Projets | E6: Measures & Projects | F6: Misure e progetti | G6: contact info@2imanagement.ch
A7: =OFFSET($C7,0,$B$4-1) -> Key figures | C7: Kennzahlen | D7: Chiffres clés | E7: Key figures | F7: Cifre chiave | G7: contact info@2imanagement.ch | Z7: Deutsch
A8: =OFFSET($C8,0,$B$4-1) -> Strategic Management | C8: Strategisches Management | D8: Management stratégique | E8: Strategic Management | F8: Management strategico | G8: contact info@2imanagement.ch | Z8: Français
A9: =OFFSET($C9,0,$B$4-1) -> Cockpit | C9: Cockpit | D9: Cockpit | E9: Cockpit | F9: Cockpit | G9: contact info@2imanagement.ch | Z9: English
A10: =OFFSET($C10,0,$B$4-1) -> Balanced Scorecard | C10: Balanced Scorecard | D10: Balanced Scorecard | E10: Balanced Scorecard | F10: Balanced scorecard | G10: contact info@2imanagement.ch | Z10: Italiano
A11: =OFFSET($C11,0,$B$4-1) -> Communication | C11: Kommunikation | D11: Communication | E11: Communication | F11: Comunicazione | G11: contact info@2imanagement.ch
A12: =OFFSET($C12,0,$B$4-1) -> Innovation/ Opportunities | C12: Innovation/ Opportunitäten | D12: Innovation/ Opportunités | E12: Innovation/ Opportunities | F12: Innovazione/ Opportunità | G12: contact info@2imanagement.ch
A13: =OFFSET($C13,0,$B$4-1) -> Objectifs & strategies | C13: Ziele & Strategien | D13: Objectifs & stratégies | E13: Objectifs & strategies | F13: Obiettivi e strategie | G13: contact info@2imanagement.ch
A14: =OFFSET($C14,0,$B$4-1) -> Quality | C14: Qualität | D14: Qualité | E14: Quality | F14: Qualità | G14: contact info@2imanagement.ch
A15: =OFFSET($C15,0,$B$4-1) -> Risks | C15: Risiken | D15: Risques | E15: Risks | F15: Rischi | G15: contact info@2imanagement.ch
A16: =OFFSET($C16,0,$B$4-1) -> Your logo: | C16: Ihr Logo: | D16: Votre logo: | E16: Your logo: | F16: Vostro logo:
A17: =OFFSET($C17,0,$B$4-1) -> O V E R V I E W | C17: Ü B E R S I C H T | D17: V U E D ' E N S E M B L E | E17: O V E R V I E W | F17: PANORAMICA | G17: contact info@2imanagement.ch
A18: =OFFSET($C18,0,$B$4-1) -> Update | C18: Aktualisieren | D18: Mettre à jour | E18: Update | F18: Aggiornare | G18: contact info@2imanagement.ch
A19: =OFFSET($C19,0,$B$4-1) -> Key figures | C19: Kenn-zahlen | D19: Chiffres clés | E19: Key figures | F19: Cifre chiave | G19: contact info@2imanagement.ch
A20: =OFFSET($C20,0,$B$4-1) -> Number of key figures | C20: Anzahl Kennzahlen | D20: Nbr. de chiffres clés | E20: Number of key figures | F20: Numero di cifre chiave | G20: contact info@2imanagement.ch
A21: =OFFSET($C21,0,$B$4-1) -> No. | C21: Nr. | D21: No. | E21: No. | F21: N. | G21: contact info@2imanagement.ch
A22: =OFFSET($C22,0,$B$4-1) -> OVERVIEW | C22: Ü B E R S I C H T | D22: VUE D'ENSEMBLE | E22: OVERVIEW | F22: PANORAMICA | G22: contact info@2imanagement.ch
A23: =OFFSET($C23,0,$B$4-1) -> Strategy | C23: Strategie | D23: Stratégie | E23: Strategy | F23: Strategia | G23: contact info@2imanagement.ch
A24: =OFFSET($C24,0,$B$4-1) -> Strategic indicator | C24: Strategischer Indikator | D24: Indicateur stratégique | E24: Strategic indicator | F24: Indicatore strategico | G24: contact info@2imanagement.ch
A25: =OFFSET($C25,0,$B$4-1) -> Act. state | C25: IST | D25: ÊTRE | E25: Act. state | F25: STATO ATTUALE | G25: contact info@2imanagement.ch
A26: =OFFSET($C26,0,$B$4-1) -> Target | C26: SOLL | D26: DOIT | E26: Target | F26: STATO DESIDERATO | G26: contact info@2imanagement.ch
A27: =OFFSET($C27,0,$B$4-1) -> Project controlling | C27: Projektcontrolling | D27: Controlling de projet | E27: Project controlling | F27: Controlling del progetto | G27: contact info@2imanagement.ch
A28: =OFFSET($C28,0,$B$4-1) -> Details | C28: Details | D28: Détails | E28: Details | F28: Dettagli | G28: contact info@2imanagement.ch
... A78: =OFFSET($C78,0,$B$4-1) -> Source | C78: Quelle | D78: Source | E78: Source | F78: Fonte | G78: contact info@2imanagement.ch
A79: =OFFSET($C79,0,$B$4-1) -> Sector comparison | C79: Branchenvergleich | D79: Comparaison avec la branche | E79: Sector comparison | F79: Raffronto settoriale
A80: =OFFSET($C80,0,$B$4-1) -> Time of the survey | C80: Erhebungszeitpunkt | D80: Moment de l'enquête | E80: Time of the survey | F80: Momento della rilevazione | G80: contact info@2imanagement.ch
A81: =OFFSET($C81,0,$B$4-1) -> O P E R A T I O N A L I N D C A T O R S | C81: O P E R A T I V E I N D I K A T O R E N | D81: I N D I C A T E U R S O P É R A T I O N N E L S | E81: O P E R A T I O N A L I N D C A T O R S | F81: INDICATORI OPERATIVI | G81: contact info@2imanagement.ch
A82: =OFFSET($C82,0,$B$4-1) -> I N D I C A T O R S K E Y F I G U R E S | C82: I N D I K A T O R E N K E N N Z A H L E N | D82: I N D I C A T E U R S C H I F F R E S C L E S | E82: I N D I C A T O R S K E Y F I G U R E S | F82: INDICATORI CIFRE CHIAVE | G82: contact info@2imanagement.ch
A83: =OFFSET($C83,0,$B$4-1) -> 0 | G83: contact info@2imanagement.ch
A84: =OFFSET($C84,0,$B$4-1) -> Do you wish to open the program "Strategic Management"? | C84: Möchten Sie das Programm "Strategisches Management" öffnen? | D84: Voulez-vous ouvrir le programme "Management stratégique" ? | E84: Do you wish to open the program "Strategic Management"? | F84: Volete aprire il programma "Management strategico"? | G84: contact info@2imanagement.ch
A85: =OFFSET($C85,0,$B$4-1) -> Make sure that the file "02_StrategicManagement.xls" has been put in the same directory! | C85: Stellen Sie sicher, dass die Datei "02_StrategicManagement.xls" im selben Verzeichnis abgelegt ist! | D85: Assurez-vous, que le fichier "02_StrategicManagement.xls" se trouve dans le même répertoire ! | E85: Make sure that the file "02_StrategicManagement.xls" has been put in the same directory! | F85: Assicuratevi che il file "02_StrategicManagement.xls" si trovi nella stessa directory! | G85: contact info@2imanagement.ch
A86: =OFFSET($C86,0,$B$4-1) -> Do you wish to open the program "Business Plan"? | C86: Möchten Sie das Programm "Business Plan" öffnen? | D86: Voulez-vous ouvrir le programme "Business Plan" ? | E86: Do you wish to open the program "Business Plan"? | F86: Volete aprire il programma "Business plan"? | G86: contact info@2imanagement.ch
A87: =OFFSET($C87,0,$B$4-1) -> Make sure that the file "04_BusinessPlan.xlsx" has been put in the same directory! | C87: Stellen Sie sicher, dass die Datei "04_BusinessPlan.xlsx" im selben Verzeichnis abgelegt ist! | D87: Assurez-vous, que le fichier "04_BusinessPlan.xlsx" se trouve dans le même répertoire ! | E87: Make sure that the file "04_BusinessPlan.xlsx" has been put in the same directory! | F87: Assicuratevi che il file "04_BusinessPlan.xlsx" si trovi nella stessa directory! | G87: contact info@2imanagement.ch
A88: =OFFSET($C88,0,$B$4-1) -> Do you wish to open the program "Innovation Management"? | C88: Möchten Sie das Programm "Innovationsmanagement" öffnen? | D88: Voulez-vous ouvrir le programme "Gestion de l'innovation"? | E88: Do you wish to open the program "Innovation Management"? | F88: Volete aprire il programma "Gestione dell'innovazione"? | G88: contact info@2imanagement.ch
A89: =OFFSET($C89,0,$B$4-1) -> Make sure that the file "08_Innovation.xlsx" has been put in the same directory! | C89: Stellen Sie sicher, dass die Datei "08_Innovation.xlsx" im selben Verzeichnis abgelegt ist! | D89: Assurez-vous, que le fichier "08_Innovation.xlsx" se touve dans le même répertoire! | E89: Make sure that the file "08_Innovation.xlsx" has been put in the same directory! | F89: Assicuratevi che il file "08_Innovation.xlsx" si trovi nella stessa directory! | G89: contact info@2imanagement.ch
A90: =OFFSET($C90,0,$B$4-1) -> Do you wish to open the program "Quality Management"? | C90: Möchten Sie das Programm "Qualitätsmanagement" öffnen? | D90: Voulez-vous ouvrir le programme "Gestion de la qualité"? | E90: Do you wish to open the program "Quality Management"? | F90: Volete aprire il programma "Gestione della qualità"? | G90: contact info@2imanagement.ch
A91: =OFFSET($C91,0,$B$4-1) -> Make sure that the file "07_Quality.xlsx" has been put in the same directory! | C91: Stellen Sie sicher, dass die Datei "07_Quality.xlsx" im selben Verzeichnis abgelegt ist! | D91: Assurez-vous, que le fichier "07_Quality.xlsx" se touve dans le même répertoire! | E91: Make sure that the file "07_Quality.xlsx" has been put in the same directory! | F91: Assicuratevi che il file "07_Quality.xlsx" si trovi nella stessa directory! | G91: contact info@2imanagement.ch
A92: =OFFSET($C92,0,$B$4-1) -> C O M M U N I C A T I O N | C92: K O M M U N I K A T I O N | D92: C O M M U N I C A T I O N | E92: C O M M U N I C A T I O N | F92: COMUNICAZIONE | G92: contact info@2imanagement.ch
A93: =OFFSET($C93,0,$B$4-1) -> Internal (direct) | C93: Intern (direkt) | D93: Interne (direct) | E93: Internal (direct) | F93: Interna (diretta) | G93: contact info@2imanagement.ch
A94: =OFFSET($C94,0,$B$4-1) -> External (direct) | C94: Extern (direkt) | D94: Externe (direct) | E94: External (direct) | F94: Esterna (diretta) | G94: contact info@2imanagement.ch
A95: =OFFSET($C95,0,$B$4-1) -> Internet | C95: Internet | D95: Internet | E95: Internet | F95: Internet | G95: contact info@2imanagement.ch
... A157: =OFFSET($C157,0,$B$4-1) -> Risks family | C157: Risiko Familie | D157: Famille de risque | E157: Risks family | F157: Famiglia dei rischi | G157: contact info@2imanagement.ch
A158: =OFFSET($C158,0,$B$4-1) -> S U M M A R Y P R O J E C T S T A T U S | C158: Ü B E R S I C H T P R O J E K T S T A N D | D158: A P E R Ç U E T A T D E S P R O J E T S | E158: S U M M A R Y P R O J E C T S T A T U S | F158: S T A T O D E I P R O G E T T I
A159: =OFFSET($C159,0,$B$4-1) -> Remarks/Project status | C159: Bemerkungen/Projektstand | D159: Remarques/Etat des projets | E159: Remarks/Project status | F159: Osservazioni/Stato dei progetti | G159: contact info@2imanagement.ch
A160: =OFFSET($C160,0,$B$4-1) -> Progress | C160: Fortschritt | D160: Avancement | E160: Progress | F160: Progresso
A161: =OFFSET($C161,0,$B$4-1) -> Setting light system | C161: Einstellung Ampelsystem | D161: Configuration système de feux | E161: Setting light system | F161: Configurazione sistema a semaforo
A162: =OFFSET($C162,0,$B$4-1) -> up to | C162: bis | D162: jusqu'à | E162: up to | F162: fino a
A163: =OFFSET($C163,0,$B$4-1) -> Enter here the hyperlink to the tool "Strategic Management" with the right mouse button | C163: Fügen Sie hier den Link zum Tool "Strategic Management" mit der rechten Maustaste ein | D163: Insérer ici le lien vers l'outil "Strategic Management" avec le bouton droit de la souris | E163: Enter here the hyperlink to the tool "Strategic Management" with the right mouse button | F163: Inserire il link verso il tool "Strategic Management" con il pulsante destro del mouse
A164: =OFFSET($C164,0,$B$4-1) -> Calculations of the lights can be higher than 100% | C164: Prozente der Ampel können grösser 100% sein | D164: La calculations des feux peux dépasser 100% | E164: Calculations of the lights can be higher than 100% | F164: Calcoli semaforo può sorpassare 100%
A165: =OFFSET($C165,0,$B$4-1) -> Yes | C165: Ja | D165: Oui | E165: Yes | F165: Si
A166: =OFFSET($C166,0,$B$4-1) -> No | C166: Nein | D166: Non | E166: No | F166: No
A167: =OFFSET($C167,0,$B$4-1) -> R I S K M A N A G E M E N T | C167: R I S I K O M A T R I X | D167: M A T R I C E D E S R I S Q U E S | E167: R I S K M A N A G E M E N T | F167: G E S T I O N E D E L R I S C H I O | G167: contact info@2imanagement.ch
A168: =OFFSET($C168,0,$B$4-1) -> Risk | C168: Risiko | D168: Risque | E168: Risk | F168: Rischio | G168: contact info@2imanagement.ch
A169: =OFFSET($C169,0,$B$4-1) -> Owner | C169: Verantwortlich | D169: Responsable | E169: Owner | F169: Responsabile
A170: =OFFSET($C170,0,$B$4-1) -> Inpact | C170: Auswirkung | D170: Impact | E170: Inpact | F170: Impatto
A171: =OFFSET($C171,0,$B$4-1) -> Initial risk | C171: Ausgangsrisiko | D171: Risque initial | E171: Initial risk | F171: Rischio iniziale
A172: =OFFSET($C172,0,$B$4-1) -> Initial risk | C172: Ausgangs-risiko | D172: Risque initial | E172: Initial risk | F172: Rischio iniziale
A173: =OFFSET($C173,0,$B$4-1) -> Residual risk | C173: Rest-risiko | D173: Risque résiduel | E173: Residual risk | F173: Rischio residuo
A174: =OFFSET($C174,0,$B$4-1) -> Residual risk | C174: Restrisiko | D174: Risque résiduel | E174: Residual risk | F174: Rischio residuo
A175: =OFFSET($C175,0,$B$4-1) -> Actionplan & Projects | C175: Aktionsplan & Projekte | D175: Plan d'action & Projets | E175: Actionplan & Projects | F175: Piano d'azione e Progetti
A176: =OFFSET($C176,0,$B$4-1) -> Risk treatment | C176: Risiko-behandlung | D176: Traitement du risque | E176: Risk treatment | F176: Trattamento del rischio
A177: =OFFSET($C177,0,$B$4-1) -> unlikely | C177: unwahrscheinlich | D177: peu probable | E177: unlikely | F177: improbabile
A178: =OFFSET($C178,0,$B$4-1) -> probable | C178: wahrscheinlich | D178: probable | E178: probable | F178: probabile
A179: =OFFSET($C179,0,$B$4-1) -> very probable | C179: sehr wahrsch. | D179: très probable | E179: very probable | F179: molto probabile
A180: =OFFSET($C180,0,$B$4-1) -> certain | C180: trifft zu | D180: certain | E180: certain | F180: certo
... A202: =OFFSET($C202,0,$B$4-1) -> Chart | C202: Grafik | D202: Graphique | E202: Chart | F202: Grafico
A203: =OFFSET($C203,0,$B$4-1) -> 0
A204: =OFFSET($C204,0,$B$4-1) -> January | C204: Januar | D204: Janvier | E204: January | F204: Gennaio
A205: =OFFSET($C205,0,$B$4-1) -> February | C205: Februar | D205: Février | E205: February | F205: Febbraio
A206: =OFFSET($C206,0,$B$4-1) -> March | C206: März | D206: Mars | E206: March | F206: Marzo
A207: =OFFSET($C207,0,$B$4-1) -> April | C207: April | D207: Avril | E207: April | F207: Aprile
A208: =OFFSET($C208,0,$B$4-1) -> May | C208: Mai | D208: Mai | E208: May | F208: Maggio
A209: =OFFSET($C209,0,$B$4-1) -> June | C209: Juni | D209: Juin | E209: June | F209: Giugno
A210: =OFFSET($C210,0,$B$4-1) -> July | C210: Juli | D210: Juillet | E210: July | F210: Luglio
A211: =OFFSET($C211,0,$B$4-1) -> August | C211: August | D211: Août | E211: August | F211: Agosto
A212: =OFFSET($C212,0,$B$4-1) -> September | C212: September | D212: Septembre | E212: September | F212: Settembre
A213: =OFFSET($C213,0,$B$4-1) -> October | C213: Oktober | D213: Octobre | E213: October | F213: Ottobre
A214: =OFFSET($C214,0,$B$4-1) -> November | C214: November | D214: Novembre | E214: November | F214: Novembre
A215: =OFFSET($C215,0,$B$4-1) -> December | C215: Dezember | D215: Décembre | E215: December | F215: Dicembre
... A218: =OFFSET($C218,0,$B$4-1) -> Quarterly | C218: Quartal | D218: Trimestriel | E218: Quarterly | F218: Trimestre
A219: =OFFSET($C219,0,$B$4-1) -> State | C219: Stand | D219: Etat | E219: State | F219: Stato | G219: contact info@2imanagement.ch
A220: =OFFSET($C220,0,$B$4-1) -> 0 | G220: contact info@2imanagement.ch
A221: =OFFSET($C221,0,$B$4-1) -> 0
A222: =OFFSET($C222,0,$B$4-1) -> 0
A223: =OFFSET($C223,0,$B$4-1) -> 0
A224: =OFFSET($C224,0,$B$4-1) -> 0

Sheet Massnahmen
C1: =' '!A35 -> S T R A T E G I E S - M E A S U R E S - P R O J E C T S
B4: =' '!A40 -> No. | C4: =' '!A41 -> Strategies | D4: =B4 -> No. | E4: =' '!A42 -> Strategic indicators | G4: =' '!A43 -> Act. state | H4: =' '!A44 -> Target | I4: =' '!A45 -> achieved | K4: =B4 -> No. | L4: =' '!A48 -> Measures / objectifs | M4: =B4 -> No. | N4: =' '!A49 -> Operational indicators | O4: =G4 -> Act. state | P4: =H4 -> Target | Q4: =I4 -> achieved | S4: =B4 -> No. | T4: =' '!A50 -> Projects | U4: Prio | V4: =' '!A54 -> Who? | W4: =' '!A52 -> Start | X4: =' '!A53 -> Finish | Y4: ok | Z4: Filter in Kolonne B
Z5: =IF($C$6="","","drucken") -> drucken
A6: =B6 -> 1 | B6: 1 | C6: Stratégie 1 | D6: s1 | E6: Indicateur 1 | F6: =IF(E6<>"","?","") -> ? | G6: 30 | H6: 30 | I6: =IF(E6="","", IF(H6="",0, IF(G6=H6,100%, IF(ISERROR(H6/G6),0, IF(ISERROR(G6/H6),0, IF(G6<>0, IF(AND(G6>H6,Logo!$G$18=1), H6/G6, G6/H6 ))))))) -> 1 | J6: =IF(OR(E6="",I6=0),"", IF(I6<Logo!$F$14,3, IF(I6<Logo!$F$15,2,1))) -> 1 | K6: m1 | L6: Mesure 1 | M6: o1 | N6: Indicateur 1 | O6: 0.6 | P6: 0.8 | Q6: =IF(N6="","", IF(P6="",0, IF(O6=P6,100%, IF(ISERROR(P6/O6),0, IF(ISERROR(O6/P6),0, IF(O6<>0, IF(AND(O6>P6,Logo!$G$18=1), P6/O6, O6/P6 ))))))) -> 0.75 | R6: =IF(OR(N6="",Q6=0),"", IF(Q6<Logo!$F$14,3, IF(Q6<Logo!$F$15,2,1))) -> 2 | S6: p1 | T6: Projet 1 | U6: 1 | V6: xy | W6: =TODAY() -> 43234 | X6: =W6+30 -> 43264 | Y6: 1 | Z6: =IF($C$6="","","drucken") -> drucken
A7: =$A$6 -> 1 | B7: =$B$6 -> 1 | K7: m2 | M7: o2 | N7: Indicateur 2 | O7: 90 | P7: 100 | Q7: =IF(N7="","", IF(P7="",0, IF(O7=P7,100%, IF(ISERROR(P7/O7),0, IF(ISERROR(O7/P7),0, IF(O7<>0, IF(AND(O7>P7,Logo!$G$18=1), P7/O7, O7/P7 ))))))) -> 0.9 | R7: =IF(OR(N7="",Q7=0),"", IF(Q7<Logo!$F$14,3, IF(Q7<Logo!$F$15,2,1))) -> 1 | S7: p2 | T7: Projet 2 | U7: 2 | V7: zz | W7: =TODAY()+1 -> 43235 | X7: =W7+30 -> 43265 | Y7: 2 | Z7: =IF($C$6="","","drucken") -> drucken
A8: =$A$6 -> 1 | B8: =$B$6 -> 1 | D8: s2 | E8: Indicateur 2 | F8: =IF(E8<>"","?","") -> ? | G8: 70 | H8: 100 | I8: =IF(E8="","", IF(H8="",0, IF(G8=H8,100%, IF(ISERROR(H8/G8),0, IF(ISERROR(G8/H8),0, IF(G8<>0, IF(AND(G8>H8,Logo!$G$18=1), H8/G8, G8/H8 ))))))) -> 0.7 | J8: =IF(OR(E8="",I8=0),"", IF(I8<Logo!$F$14,3, IF(I8<Logo!$F$15,2,1))) -> 2 | K8: m3 | M8: o3 | N8: Indicateur 3 | O8: 50 | P8: 100 | Q8: =IF(N8="","", IF(P8="",0, IF(O8=P8,100%, IF(ISERROR(P8/O8),0, IF(ISERROR(O8/P8),0, IF(O8<>0, IF(AND(O8>P8,Logo!$G$18=1), P8/O8, O8/P8 ))))))) -> 0.5 | R8: =IF(OR(N8="",Q8=0),"", IF(Q8<Logo!$F$14,3, IF(Q8<Logo!$F$15,2,1))) -> 3 | S8: p3 | T8: Projet 3 | U8: 3 | V8: aa | W8: =TODAY()+2 -> 43236 | X8: =W8+30 -> 43266 | Y8: 3 | Z8: =IF($C$6="","","drucken") -> drucken
A9: =$A$6 -> 1 | B9: =$B$6 -> 1 | K9: m4 | M9: o4 | Q9: =IF(N9="","", IF(P9="",0, IF(O9=P9,100%, IF(ISERROR(P9/O9),0, IF(ISERROR(O9/P9),0, IF(O9<>0, IF(AND(O9>P9,Logo!$G$18=1), P9/O9, O9/P9 ))))))) | R9: =IF(OR(N9="",Q9=0),"", IF(Q9<Logo!$F$14,3, IF(Q9<Logo!$F$15,2,1))) | S9: p4 | Z9: =IF($C$6="","","drucken") -> drucken
A10: =$A$6 -> 1 | B10: =$B$6 -> 1 | D10: s3 | F10: =IF(E10<>"","?","") | I10: =IF(E10="","", IF(H10="",0, IF(G10=H10,100%, IF(ISERROR(H10/G10),0, IF(ISERROR(G10/H10),0, IF(G10<>0, IF(AND(G10>H10,Logo!$G$18=1), H10/G10, G10/H10 ))))))) | J10: =IF(OR(E10="",I10=0),"", IF(I10<Logo!$F$14,3, IF(I10<Logo!$F$15,2,1))) | K10: m5 | M10: o5 | Q10: =IF(N10="","", IF(P10="",0, IF(O10=P10,100%, IF(ISERROR(P10/O10),0, IF(ISERROR(O10/P10),0, IF(O10<>0, IF(AND(O10>P10,Logo!$G$18=1), P10/O10, O10/P10 ))))))) | R10: =IF(OR(N10="",Q10=0),"", IF(Q10<Logo!$F$14,3, IF(Q10<Logo!$F$15,2,1))) | S10: p5 | Z10: =IF($C$6="","","drucken") -> drucken
A11: =$A$6 -> 1 | B11: =$B$6 -> 1 | K11: m6 | M11: o6 | Q11: =IF(N11="","", IF(P11="",0, IF(O11=P11,100%, IF(ISERROR(P11/O11),0, IF(ISERROR(O11/P11),0, IF(O11<>0, IF(AND(O11>P11,Logo!$G$18=1), P11/O11, O11/P11 ))))))) | R11: =IF(OR(N11="",Q11=0),"", IF(Q11<Logo!$F$14,3, IF(Q11<Logo!$F$15,2,1))) | S11: p6 | Z11: =IF($C$6="","","drucken") -> drucken
A12: =$A$6 -> 1 | B12: =$B$6 -> 1 | D12: s4 | F12: =IF(E12<>"","?","") | I12: =IF(E12="","", IF(H12="",0, IF(G12=H12,100%, IF(ISERROR(H12/G12),0, IF(ISERROR(G12/H12),0, IF(G12<>0, IF(AND(G12>H12,Logo!$G$18=1), H12/G12, G12/H12 ))))))) | J12: =IF(OR(E12="",I12=0),"", IF(I12<Logo!$F$14,3, IF(I12<Logo!$F$15,2,1))) | K12: m7 | M12: o7 | Q12: =IF(N12="","", IF(P12="",0, IF(O12=P12,100%, IF(ISERROR(P12/O12),0, IF(ISERROR(O12/P12),0, IF(O12<>0, IF(AND(O12>P12,Logo!$G$18=1), P12/O12, O12/P12 ))))))) | R12: =IF(OR(N12="",Q12=0),"", IF(Q12<Logo!$F$14,3, IF(Q12<Logo!$F$15,2,1))) | S12: p7 | Z12: =IF($C$6="","","drucken") -> drucken
A13: =$A$6 -> 1 | B13: =$B$6 -> 1 | K13: m8 | M13: o8 | Q13: =IF(N13="","", IF(P13="",0, IF(O13=P13,100%, IF(ISERROR(P13/O13),0, IF(ISERROR(O13/P13),0, IF(O13<>0, IF(AND(O13>P13,Logo!$G$18=1), P13/O13, O13/P13 ))))))) | R13: =IF(OR(N13="",Q13=0),"", IF(Q13<Logo!$F$14,3, IF(Q13<Logo!$F$15,2,1))) | S13: p8 | Z13: =IF($C$6="","","drucken") -> drucken
A14: =$A$6 -> 1 | B14: =$B$6 -> 1 | D14: s5 | F14: =IF(E14<>"","?","") | I14: =IF(E14="","", IF(H14="",0, IF(G14=H14,100%, IF(ISERROR(H14/G14),0, IF(ISERROR(G14/H14),0, IF(G14<>0, IF(AND(G14>H14,Logo!$G$18=1), H14/G14, G14/H14 ))))))) | J14: =IF(OR(E14="",I14=0),"", IF(I14<Logo!$F$14,3, IF(I14<Logo!$F$15,2,1))) | K14: m9 | M14: o9 | Q14: =IF(N14="","", IF(P14="",0, IF(O14=P14,100%, IF(ISERROR(P14/O14),0, IF(ISERROR(O14/P14),0, IF(O14<>0, IF(AND(O14>P14,Logo!$G$18=1), P14/O14, O14/P14 ))))))) | R14: =IF(OR(N14="",Q14=0),"", IF(Q14<Logo!$F$14,3, IF(Q14<Logo!$F$15,2,1))) | S14: p9
A15: =$A$6 -> 1 | B15: =$B$6 -> 1 | K15: m10 | M15: o10 | Q15: =IF(N15="","", IF(P15="",0, IF(O15=P15,100%, IF(ISERROR(P15/O15),0, IF(ISERROR(O15/P15),0, IF(O15<>0, IF(AND(O15>P15,Logo!$G$18=1), P15/O15, O15/P15 ))))))) | R15: =IF(OR(N15="",Q15=0),"", IF(Q15<Logo!$F$14,3, IF(Q15<Logo!$F$15,2,1))) | S15: p10
A16: =$A$6 -> 1 | B16: =$B$6 -> 1 | D16: s6 | F16: =IF(E16<>"","?","") | I16: =IF(E16="","", IF(H16="",0, IF(G16=H16,100%, IF(ISERROR(H16/G16),0, IF(ISERROR(G16/H16),0, IF(G16<>0, IF(AND(G16>H16,Logo!$G$18=1), H16/G16, G16/H16 ))))))) | J16: =IF(OR(E16="",I16=0),"", IF(I16<Logo!$F$14,3, IF(I16<Logo!$F$15,2,1))) | K16: m11 | M16: o11 | Q16: =IF(N16="","", IF(P16="",0, IF(O16=P16,100%, IF(ISERROR(P16/O16),0, IF(ISERROR(O16/P16),0, IF(O16<>0, IF(AND(O16>P16,Logo!$G$18=1), P16/O16, O16/P16 ))))))) | R16: =IF(OR(N16="",Q16=0),"", IF(Q16<Logo!$F$14,3, IF(Q16<Logo!$F$15,2,1))) | S16: p11
A17: =$A$6 -> 1 | B17: =$B$6 -> 1 | K17: m12 | M17: o12 | Q17: =IF(N17="","", IF(P17="",0, IF(O17=P17,100%, IF(ISERROR(P17/O17),0, IF(ISERROR(O17/P17),0, IF(O17<>0, IF(AND(O17>P17,Logo!$G$18=1), P17/O17, O17/P17 ))))))) | R17: =IF(OR(N17="",Q17=0),"", IF(Q17<Logo!$F$14,3, IF(Q17<Logo!$F$15,2,1))) | S17: p12
A18: =$A$6 -> 1 | B18: =$B$6 -> 1 | D18: s7 | F18: =IF(E18<>"","?","") | I18: =IF(E18="","", IF(H18="",0, IF(G18=H18,100%, IF(ISERROR(H18/G18),0, IF(ISERROR(G18/H18),0, IF(G18<>0, IF(AND(G18>H18,Logo!$G$18=1), H18/G18, G18/H18 ))))))) | J18: =IF(OR(E18="",I18=0),"", IF(I18<Logo!$F$14,3, IF(I18<Logo!$F$15,2,1))) | K18: m13 | M18: o13 | Q18: =IF(N18="","", IF(P18="",0, IF(O18=P18,100%, IF(ISERROR(P18/O18),0, IF(ISERROR(O18/P18),0, IF(O18<>0, IF(AND(O18>P18,Logo!$G$18=1), P18/O18, O18/P18 ))))))) | R18: =IF(OR(N18="",Q18=0),"", IF(Q18<Logo!$F$14,3, IF(Q18<Logo!$F$15,2,1))) | S18: p13
A19: =$A$6 -> 1 | B19: =$B$6 -> 1 | K19: m14 | M19: o14 | Q19: =IF(N19="","", IF(P19="",0, IF(O19=P19,100%, IF(ISERROR(P19/O19),0, IF(ISERROR(O19/P19),0, IF(O19<>0, IF(AND(O19>P19,Logo!$G$18=1), P19/O19, O19/P19 ))))))) | R19: =IF(OR(N19="",Q19=0),"", IF(Q19<Logo!$F$14,3, IF(Q19<Logo!$F$15,2,1))) | S19: p14
A20: =$A$6 -> 1 | B20: =$B$6 -> 1 | D20: s8 | F20: =IF(E20<>"","?","") | I20: =IF(E20="","", IF(H20="",0, IF(G20=H20,100%, IF(ISERROR(H20/G20),0, IF(ISERROR(G20/H20),0, IF(G20<>0, IF(AND(G20>H20,Logo!$G$18=1), H20/G20, G20/H20 ))))))) | J20: =IF(OR(E20="",I20=0),"", IF(I20<Logo!$F$14,3, IF(I20<Logo!$F$15,2,1))) | K20: m15 | M20: o15 | Q20: =IF(N20="","", IF(P20="",0, IF(O20=P20,100%, IF(ISERROR(P20/O20),0, IF(ISERROR(O20/P20),0, IF(O20<>0, IF(AND(O20>P20,Logo!$G$18=1), P20/O20, O20/P20 ))))))) | R20: =IF(OR(N20="",Q20=0),"", IF(Q20<Logo!$F$14,3, IF(Q20<Logo!$F$15,2,1))) | S20: p15 | Z20: =IF($C$6="","","drucken") -> drucken
A21: =$A$6 -> 1 | B21: =$B$6 -> 1 | K21: m16 | M21: o16 | Q21: =IF(N21="","", IF(P21="",0, IF(O21=P21,100%, IF(ISERROR(P21/O21),0, IF(ISERROR(O21/P21),0, IF(O21<>0, IF(AND(O21>P21,Logo!$G$18=1), P21/O21, O21/P21 ))))))) | R21: =IF(OR(N21="",Q21=0),"", IF(Q21<Logo!$F$14,3, IF(Q21<Logo!$F$15,2,1))) | S21: p16 | Z21: =IF($C$6="","","drucken") -> drucken
A22: =IF(B22=B6,B6,B6+1) -> 2 | B22: 2 | C22: Stratégie 2 | D22: s9 | F22: =IF(E22<>"","?","") | I22: =IF(E22="","", IF(H22="",0, IF(G22=H22,100%, IF(ISERROR(H22/G22),0, IF(ISERROR(G22/H22),0, IF(G22<>0, IF(AND(G22>H22,Logo!$G$18=1), H22/G22, G22/H22 ))))))) | J22: =IF(OR(E22="",I22=0),"", IF(I22<Logo!$F$14,3, IF(I22<Logo!$F$15,2,1))) | K22: m17 | M22: o17 | Q22: =IF(N22="","", IF(P22="",0, IF(O22=P22,100%, IF(ISERROR(P22/O22),0, IF(ISERROR(O22/P22),0, IF(O22<>0, IF(AND(O22>P22,Logo!$G$18=1), P22/O22, O22/P22 ))))))) | R22: =IF(OR(N22="",Q22=0),"", IF(Q22<Logo!$F$14,3, IF(Q22<Logo!$F$15,2,1))) | S22: p17 | Z22: =IF($C$22="","","drucken") -> drucken
A23: =$A$22 -> 2 | B23: =$B$22 -> 2 | K23: m18 | M23: o18 | Q23: =IF(N23="","", IF(P23="",0, IF(O23=P23,100%, IF(ISERROR(P23/O23),0, IF(ISERROR(O23/P23),0, IF(O23<>0, IF(AND(O23>P23,Logo!$G$18=1), P23/O23, O23/P23 ))))))) | R23: =IF(OR(N23="",Q23=0),"", IF(Q23<Logo!$F$14,3, IF(Q23<Logo!$F$15,2,1))) | S23: p18 | Z23: =IF($C$22="","","drucken") -> drucken
A24: =$A$22 -> 2 | B24: =$B$22 -> 2 | D24: s10 | F24: =IF(E24<>"","?","") | I24: =IF(E24="","", IF(H24="",0, IF(G24=H24,100%, IF(ISERROR(H24/G24),0, IF(ISERROR(G24/H24),0, IF(G24<>0, IF(AND(G24>H24,Logo!$G$18=1), H24/G24, G24/H24 ))))))) | J24: =IF(OR(E24="",I24=0),"", IF(I24<Logo!$F$14,3, IF(I24<Logo!$F$15,2,1))) | K24: m19 | M24: o19 | Q24: =IF(N24="","", IF(P24="",0, IF(O24=P24,100%, IF(ISERROR(P24/O24),0, IF(ISERROR(O24/P24),0, IF(O24<>0, IF(AND(O24>P24,Logo!$G$18=1), P24/O24, O24/P24 ))))))) | R24: =IF(OR(N24="",Q24=0),"", IF(Q24<Logo!$F$14,3, IF(Q24<Logo!$F$15,2,1))) | S24: p19 | Z24: =IF($C$22="","","drucken") -> drucken
A25: =$A$22 -> 2 | B25: =$B$22 -> 2 | K25: m20 | M25: o20 | Q25: =IF(N25="","", IF(P25="",0, IF(O25=P25,100%, IF(ISERROR(P25/O25),0, IF(ISERROR(O25/P25),0, IF(O25<>0, IF(AND(O25>P25,Logo!$G$18=1), P25/O25, O25/P25 ))))))) | R25: =IF(OR(N25="",Q25=0),"", IF(Q25<Logo!$F$14,3, IF(Q25<Logo!$F$15,2,1))) | S25: p20 | Z25: =IF($C$22="","","drucken") -> drucken
A26: =$A$22 -> 2 | B26: =$B$22 -> 2 | D26: s11 | F26: =IF(E26<>"","?","") | I26: =IF(E26="","", IF(H26="",0, IF(G26=H26,100%, IF(ISERROR(H26/G26),0, IF(ISERROR(G26/H26),0, IF(G26<>0, IF(AND(G26>H26,Logo!$G$18=1), H26/G26, G26/H26 ))))))) | J26: =IF(OR(E26="",I26=0),"", IF(I26<Logo!$F$14,3, IF(I26<Logo!$F$15,2,1))) | K26: m21 | M26: o21 | Q26: =IF(N26="","", IF(P26="",0, IF(O26=P26,100%, IF(ISERROR(P26/O26),0, IF(ISERROR(O26/P26),0, IF(O26<>0, IF(AND(O26>P26,Logo!$G$18=1), P26/O26, O26/P26 ))))))) | R26: =IF(OR(N26="",Q26=0),"", IF(Q26<Logo!$F$14,3, IF(Q26<Logo!$F$15,2,1))) | S26: p21 | Z26: =IF($C$22="","","drucken") -> drucken
A27: =$A$22 -> 2 | B27: =$B$22 -> 2 | K27: m22 | M27: o22 | Q27: =IF(N27="","", IF(P27="",0, IF(O27=P27,100%, IF(ISERROR(P27/O27),0, IF(ISERROR(O27/P27),0, IF(O27<>0, IF(AND(O27>P27,Logo!$G$18=1), P27/O27, O27/P27 ))))))) | R27: =IF(OR(N27="",Q27=0),"", IF(Q27<Logo!$F$14,3, IF(Q27<Logo!$F$15,2,1))) | S27: p22 | Z27: =IF($C$22="","","drucken") -> drucken
A28: =$A$22 -> 2 | B28: =$B$22 -> 2 | D28: s12 | F28: =IF(E28<>"","?","") | I28: =IF(E28="","", IF(H28="",0, IF(G28=H28,100%, IF(ISERROR(H28/G28),0, IF(ISERROR(G28/H28),0, IF(G28<>0, IF(AND(G28>H28,Logo!$G$18=1), H28/G28, G28/H28 ))))))) | J28: =IF(OR(E28="",I28=0),"", IF(I28<Logo!$F$14,3, IF(I28<Logo!$F$15,2,1))) | K28: m23 | M28: o23 | Q28: =IF(N28="","", IF(P28="",0, IF(O28=P28,100%, IF(ISERROR(P28/O28),0, IF(ISERROR(O28/P28),0, IF(O28<>0, IF(AND(O28>P28,Logo!$G$18=1), P28/O28, O28/P28 ))))))) | R28: =IF(OR(N28="",Q28=0),"", IF(Q28<Logo!$F$14,3, IF(Q28<Logo!$F$15,2,1))) | S28: p23 | Z28: =IF($C$22="","","drucken") -> drucken
A29: =$A$22 -> 2 | B29: =$B$22 -> 2 | K29: m24 | M29: o24 | Q29: =IF(N29="","", IF(P29="",0, IF(O29=P29,100%, IF(ISERROR(P29/O29),0, IF(ISERROR(O29/P29),0, IF(O29<>0, IF(AND(O29>P29,Logo!$G$18=1), P29/O29, O29/P29 ))))))) | R29: =IF(OR(N29="",Q29=0),"", IF(Q29<Logo!$F$14,3, IF(Q29<Logo!$F$15,2,1))) | S29: p24
A30: =$A$22 -> 2 | B30: =$B$22 -> 2 | D30: s13 | F30: =IF(E30<>"","?","") | I30: =IF(E30="","", IF(H30="",0, IF(G30=H30,100%, IF(ISERROR(H30/G30),0, IF(ISERROR(G30/H30),0, IF(G30<>0, IF(AND(G30>H30,Logo!$G$18=1), H30/G30, G30/H30 ))))))) | J30: =IF(OR(E30="",I30=0),"", IF(I30<Logo!$F$14,3, IF(I30<Logo!$F$15,2,1))) | K30: m25 | M30: o25 | Q30: =IF(N30="","", IF(P30="",0, IF(O30=P30,100%, IF(ISERROR(P30/O30),0, IF(ISERROR(O30/P30),0, IF(O30<>0, IF(AND(O30>P30,Logo!$G$18=1), P30/O30, O30/P30 ))))))) | R30: =IF(OR(N30="",Q30=0),"", IF(Q30<Logo!$F$14,3, IF(Q30<Logo!$F$15,2,1))) | S30: p25
A31: =$A$22 -> 2 | B31: =$B$22 -> 2 | K31: m26 | M31: o26 | Q31: =IF(N31="","", IF(P31="",0, IF(O31=P31,100%, IF(ISERROR(P31/O31),0, IF(ISERROR(O31/P31),0, IF(O31<>0, IF(AND(O31>P31,Logo!$G$18=1), P31/O31, O31/P31 ))))))) | R31: =IF(OR(N31="",Q31=0),"", IF(Q31<Logo!$F$14,3, IF(Q31<Logo!$F$15,2,1))) | S31: p26
A32: =$A$22 -> 2 | B32: =$B$22 -> 2 | D32: s14 | F32: =IF(E32<>"","?","") | I32: =IF(E32="","", IF(H32="",0, IF(G32=H32,100%, IF(ISERROR(H32/G32),0, IF(ISERROR(G32/H32),0, IF(G32<>0, IF(AND(G32>H32,Logo!$G$18=1), H32/G32, G32/H32 ))))))) | J32: =IF(OR(E32="",I32=0),"", IF(I32<Logo!$F$14,3, IF(I32<Logo!$F$15,2,1))) | K32: m27 | M32: o27 | Q32: =IF(N32="","", IF(P32="",0, IF(O32=P32,100%, IF(ISERROR(P32/O32),0, IF(ISERROR(O32/P32),0, IF(O32<>0, IF(AND(O32>P32,Logo!$G$18=1), P32/O32, O32/P32 ))))))) | R32: =IF(OR(N32="",Q32=0),"", IF(Q32<Logo!$F$14,3, IF(Q32<Logo!$F$15,2,1))) | S32: p27
A33: =$A$22 -> 2 | B33: =$B$22 -> 2 | K33: m28 | M33: o28 | Q33: =IF(N33="","", IF(P33="",0, IF(O33=P33,100%, IF(ISERROR(P33/O33),0, IF(ISERROR(O33/P33),0, IF(O33<>0, IF(AND(O33>P33,Logo!$G$18=1), P33/O33, O33/P33 ))))))) | R33: =IF(OR(N33="",Q33=0),"", IF(Q33<Logo!$F$14,3, IF(Q33<Logo!$F$15,2,1))) | S33: p28
A34: =$A$22 -> 2 | B34: =$B$22 -> 2 | D34: s15 | F34: =IF(E34<>"","?","") | I34: =IF(E34="","", IF(H34="",0, IF(G34=H34,100%, IF(ISERROR(H34/G34),0, IF(ISERROR(G34/H34),0, IF(G34<>0, IF(AND(G34>H34,Logo!$G$18=1), H34/G34, G34/H34 ))))))) | J34: =IF(OR(E34="",I34=0),"", IF(I34<Logo!$F$14,3, IF(I34<Logo!$F$15,2,1))) | K34: m29 | M34: o29 | Q34: =IF(N34="","", IF(P34="",0, IF(O34=P34,100%, IF(ISERROR(P34/O34),0, IF(ISERROR(O34/P34),0, IF(O34<>0, IF(AND(O34>P34,Logo!$G$18=1), P34/O34, O34/P34 ))))))) | R34: =IF(OR(N34="",Q34=0),"", IF(Q34<Logo!$F$14,3, IF(Q34<Logo!$F$15,2,1))) | S34: p29
A35: =$A$22 -> 2 | B35: =$B$22 -> 2 | K35: m30 | M35: o30 | Q35: =IF(N35="","", IF(P35="",0, IF(O35=P35,100%, IF(ISERROR(P35/O35),0, IF(ISERROR(O35/P35),0, IF(O35<>0, IF(AND(O35>P35,Logo!$G$18=1), P35/O35, O35/P35 ))))))) | R35: =IF(OR(N35="",Q35=0),"", IF(Q35<Logo!$F$14,3, IF(Q35<Logo!$F$15,2,1))) | S35: p30
A36: =$A$22 -> 2 | B36: =$B$22 -> 2 | D36: s16 | F36: =IF(E36<>"","?","") | I36: =IF(E36="","", IF(H36="",0, IF(G36=H36,100%, IF(ISERROR(H36/G36),0, IF(ISERROR(G36/H36),0, IF(G36<>0, IF(AND(G36>H36,Logo!$G$18=1), H36/G36, G36/H36 ))))))) | J36: =IF(OR(E36="",I36=0),"", IF(I36<Logo!$F$14,3, IF(I36<Logo!$F$15,2,1))) | K36: m31 | M36: o31 | Q36: =IF(N36="","", IF(P36="",0, IF(O36=P36,100%, IF(ISERROR(P36/O36),0, IF(ISERROR(O36/P36),0, IF(O36<>0, IF(AND(O36>P36,Logo!$G$18=1), P36/O36, O36/P36 ))))))) | R36: =IF(OR(N36="",Q36=0),"", IF(Q36<Logo!$F$14,3, IF(Q36<Logo!$F$15,2,1))) | S36: p31
A37: =$A$22 -> 2 | B37: =$B$22 -> 2 | K37: m32 | M37: o32 | Q37: =IF(N37="","", IF(P37="",0, IF(O37=P37,100%, IF(ISERROR(P37/O37),0, IF(ISERROR(O37/P37),0, IF(O37<>0, IF(AND(O37>P37,Logo!$G$18=1), P37/O37, O37/P37 ))))))) | R37: =IF(OR(N37="",Q37=0),"", IF(Q37<Logo!$F$14,3, IF(Q37<Logo!$F$15,2,1))) | S37: p32
A38: =IF(B38=B22,B22,B22+1) -> 3 | B38: 3 | C38: Stratégie 3 | D38: s17 | F38: =IF(E38<>"","?","") | I38: =IF(E38="","", IF(H38="",0, IF(G38=H38,100%, IF(ISERROR(H38/G38),0, IF(ISERROR(G38/H38),0, IF(G38<>0, IF(AND(G38>H38,Logo!$G$18=1), H38/G38, G38/H38 ))))))) | J38: =IF(OR(E38="",I38=0),"", IF(I38<Logo!$F$14,3, IF(I38<Logo!$F$15,2,1))) | K38: m33 | M38: o33 | Q38: =IF(N38="","", IF(P38="",0, IF(O38=P38,100%, IF(ISERROR(P38/O38),0, IF(ISERROR(O38/P38),0, IF(O38<>0, IF(AND(O38>P38,Logo!$G$18=1), P38/O38, O38/P38 ))))))) | R38: =IF(OR(N38="",Q38=0),"", IF(Q38<Logo!$F$14,3, IF(Q38<Logo!$F$15,2,1))) | S38: p33 | Z38: =IF($C$38="","","drucken") -> drucken
A39: =$A$38 -> 3 | B39: =$B$38 -> 3 | K39: m34 | M39: o34 | Q39: =IF(N39="","", IF(P39="",0, IF(O39=P39,100%, IF(ISERROR(P39/O39),0, IF(ISERROR(O39/P39),0, IF(O39<>0, IF(AND(O39>P39,Logo!$G$18=1), P39/O39, O39/P39 ))))))) | R39: =IF(OR(N39="",Q39=0),"", IF(Q39<Logo!$F$14,3, IF(Q39<Logo!$F$15,2,1))) | S39: p34 | Z39: =IF($C$38="","","drucken") -> drucken
A40: =$A$38 -> 3 | B40: =$B$38 -> 3 | D40: s18 | F40: =IF(E40<>"","?","") | I40: =IF(E40="","", IF(H40="",0, IF(G40=H40,100%, IF(ISERROR(H40/G40),0, IF(ISERROR(G40/H40),0, IF(G40<>0, IF(AND(G40>H40,Logo!$G$18=1), H40/G40, G40/H40 ))))))) | J40: =IF(OR(E40="",I40=0),"", IF(I40<Logo!$F$14,3, IF(I40<Logo!$F$15,2,1))) | K40: m35 | M40: o35 | Q40: =IF(N40="","", IF(P40="",0, IF(O40=P40,100%, IF(ISERROR(P40/O40),0, IF(ISERROR(O40/P40),0, IF(O40<>0, IF(AND(O40>P40,Logo!$G$18=1), P40/O40, O40/P40 ))))))) | R40: =IF(OR(N40="",Q40=0),"", IF(Q40<Logo!$F$14,3, IF(Q40<Logo!$F$15,2,1))) | S40: p35 | Z40: =IF($C$38="","","drucken") -> drucken
A41: =$A$38 -> 3 | B41: =$B$38 -> 3 | K41: m36 | M41: o36 | Q41: =IF(N41="","", IF(P41="",0, IF(O41=P41,100%, IF(ISERROR(P41/O41),0, IF(ISERROR(O41/P41),0, IF(O41<>0, IF(AND(O41>P41,Logo!$G$18=1), P41/O41, O41/P41 ))))))) | R41: =IF(OR(N41="",Q41=0),"", IF(Q41<Logo!$F$14,3, IF(Q41<Logo!$F$15,2,1))) | S41: p36 | Z41: =IF($C$38="","","drucken") -> drucken
A42: =$A$38 -> 3 | B42: =$B$38 -> 3 | D42: s19 | F42: =IF(E42<>"","?","") | I42: =IF(E42="","", IF(H42="",0, IF(G42=H42,100%, IF(ISERROR(H42/G42),0, IF(ISERROR(G42/H42),0, IF(G42<>0, IF(AND(G42>H42,Logo!$G$18=1), H42/G42, G42/H42 ))))))) | J42: =IF(OR(E42="",I42=0),"", IF(I42<Logo!$F$14,3, IF(I42<Logo!$F$15,2,1))) | K42: m37 | M42: o37 | Q42: =IF(N42="","", IF(P42="",0, IF(O42=P42,100%, IF(ISERROR(P42/O42),0, IF(ISERROR(O42/P42),0, IF(O42<>0, IF(AND(O42>P42,Logo!$G$18=1), P42/O42, O42/P42 ))))))) | R42: =IF(OR(N42="",Q42=0),"", IF(Q42<Logo!$F$14,3, IF(Q42<Logo!$F$15,2,1))) | S42: p37 | Z42: =IF($C$38="","","drucken") -> drucken
A43: =$A$38 -> 3 | B43: =$B$38 -> 3 | K43: m38 | M43: o38 | Q43: =IF(N43="","", IF(P43="",0, IF(O43=P43,100%, IF(ISERROR(P43/O43),0, IF(ISERROR(O43/P43),0, IF(O43<>0, IF(AND(O43>P43,Logo!$G$18=1), P43/O43, O43/P43 ))))))) | R43: =IF(OR(N43="",Q43=0),"", IF(Q43<Logo!$F$14,3, IF(Q43<Logo!$F$15,2,1))) | S43: p38 | Z43: =IF($C$38="","","drucken") -> drucken
A44: =$A$38 -> 3 | B44: =$B$38 -> 3 | D44: s20 | F44: =IF(E44<>"","?","") | I44: =IF(E44="","", IF(H44="",0, IF(G44=H44,100%, IF(ISERROR(H44/G44),0, IF(ISERROR(G44/H44),0, IF(G44<>0, IF(AND(G44>H44,Logo!$G$18=1), H44/G44, G44/H44 ))))))) | J44: =IF(OR(E44="",I44=0),"", IF(I44<Logo!$F$14,3, IF(I44<Logo!$F$15,2,1))) | K44: m39 | M44: o39 | Q44: =IF(N44="","", IF(P44="",0, IF(O44=P44,100%, IF(ISERROR(P44/O44),0, IF(ISERROR(O44/P44),0, IF(O44<>0, IF(AND(O44>P44,Logo!$G$18=1), P44/O44, O44/P44 ))))))) | R44: =IF(OR(N44="",Q44=0),"", IF(Q44<Logo!$F$14,3, IF(Q44<Logo!$F$15,2,1))) | S44: p39 | Z44: =IF($C$38="","","drucken") -> drucken
A45: =$A$38 -> 3 | B45: =$B$38 -> 3 | K45: m40 | M45: o40 | Q45: =IF(N45="","", IF(P45="",0, IF(O45=P45,100%, IF(ISERROR(P45/O45),0, IF(ISERROR(O45/P45),0, IF(O45<>0, IF(AND(O45>P45,Logo!$G$18=1), P45/O45, O45/P45 ))))))) | R45: =IF(OR(N45="",Q45=0),"", IF(Q45<Logo!$F$14,3, IF(Q45<Logo!$F$15,2,1))) | S45: p40
A46: =$A$38 -> 3 | B46: =$B$38 -> 3 | D46: s21 | F46: =IF(E46<>"","?","") | I46: =IF(E46="","", IF(H46="",0, IF(G46=H46,100%, IF(ISERROR(H46/G46),0, IF(ISERROR(G46/H46),0, IF(G46<>0, IF(AND(G46>H46,Logo!$G$18=1), H46/G46, G46/H46 ))))))) | J46: =IF(OR(E46="",I46=0),"", IF(I46<Logo!$F$14,3, IF(I46<Logo!$F$15,2,1))) | K46: m41 | M46: o41 | Q46: =IF(N46="","", IF(P46="",0, IF(O46=P46,100%, IF(ISERROR(P46/O46),0, IF(ISERROR(O46/P46),0, IF(O46<>0, IF(AND(O46>P46,Logo!$G$18=1), P46/O46, O46/P46 ))))))) | R46: =IF(OR(N46="",Q46=0),"", IF(Q46<Logo!$F$14,3, IF(Q46<Logo!$F$15,2,1))) | S46: p41
A47: =$A$38 -> 3 | B47: =$B$38 -> 3 | K47: m42 | M47: o42 | Q47: =IF(N47="","", IF(P47="",0, IF(O47=P47,100%, IF(ISERROR(P47/O47),0, IF(ISERROR(O47/P47),0, IF(O47<>0, IF(AND(O47>P47,Logo!$G$18=1), P47/O47, O47/P47 ))))))) | R47: =IF(OR(N47="",Q47=0),"", IF(Q47<Logo!$F$14,3, IF(Q47<Logo!$F$15,2,1))) | S47: p42
A48: =$A$38 -> 3 | B48: =$B$38 -> 3 | D48: s22 | F48: =IF(E48<>"","?","") | I48: =IF(E48="","", IF(H48="",0, IF(G48=H48,100%, IF(ISERROR(H48/G48),0, IF(ISERROR(G48/H48),0, IF(G48<>0, IF(AND(G48>H48,Logo!$G$18=1), H48/G48, G48/H48 ))))))) | J48: =IF(OR(E48="",I48=0),"", IF(I48<Logo!$F$14,3, IF(I48<Logo!$F$15,2,1))) | K48: m43 | M48: o43 | Q48: =IF(N48="","", IF(P48="",0, IF(O48=P48,100%, IF(ISERROR(P48/O48),0, IF(ISERROR(O48/P48),0, IF(O48<>0, IF(AND(O48>P48,Logo!$G$18=1), P48/O48, O48/P48 ))))))) | R48: =IF(OR(N48="",Q48=0),"", IF(Q48<Logo!$F$14,3, IF(Q48<Logo!$F$15,2,1))) | S48: p43
A49: =$A$38 -> 3 | B49: =$B$38 -> 3 | K49: m44 | M49: o44 | Q49: =IF(N49="","", IF(P49="",0, IF(O49=P49,100%, IF(ISERROR(P49/O49),0, IF(ISERROR(O49/P49),0, IF(O49<>0, IF(AND(O49>P49,Logo!$G$18=1), P49/O49, O49/P49 ))))))) | R49: =IF(OR(N49="",Q49=0),"", IF(Q49<Logo!$F$14,3, IF(Q49<Logo!$F$15,2,1))) | S49: p44
A50: =$A$38 -> 3 | B50: =$B$38 -> 3 | D50: s23 | F50: =IF(E50<>"","?","") | I50: =IF(E50="","", IF(H50="",0, IF(G50=H50,100%, IF(ISERROR(H50/G50),0, IF(ISERROR(G50/H50),0, IF(G50<>0, IF(AND(G50>H50,Logo!$G$18=1), H50/G50, G50/H50 ))))))) | J50: =IF(OR(E50="",I50=0),"", IF(I50<Logo!$F$14,3, IF(I50<Logo!$F$15,2,1))) | K50: m45 | M50: o45 | Q50: =IF(N50="","", IF(P50="",0, IF(O50=P50,100%, IF(ISERROR(P50/O50),0, IF(ISERROR(O50/P50),0, IF(O50<>0, IF(AND(O50>P50,Logo!$G$18=1), P50/O50, O50/P50 ))))))) | R50: =IF(OR(N50="",Q50=0),"", IF(Q50<Logo!$F$14,3, IF(Q50<Logo!$F$15,2,1))) | S50: p45
A51: =$A$38 -> 3 | B51: =$B$38 -> 3 | K51: m46 | M51: o46 | Q51: =IF(N51="","", IF(P51="",0, IF(O51=P51,100%, IF(ISERROR(P51/O51),0, IF(ISERROR(O51/P51),0, IF(O51<>0, IF(AND(O51>P51,Logo!$G$18=1), P51/O51, O51/P51 ))))))) | R51: =IF(OR(N51="",Q51=0),"", IF(Q51<Logo!$F$14,3, IF(Q51<Logo!$F$15,2,1))) | S51: p46
A52: =$A$38 -> 3 | B52: =$B$38 -> 3 | D52: s24 | F52: =IF(E52<>"","?","") | I52: =IF(E52="","", IF(H52="",0, IF(G52=H52,100%, IF(ISERROR(H52/G52),0, IF(ISERROR(G52/H52),0, IF(G52<>0, IF(AND(G52>H52,Logo!$G$18=1), H52/G52, G52/H52 ))))))) | J52: =IF(OR(E52="",I52=0),"", IF(I52<Logo!$F$14,3, IF(I52<Logo!$F$15,2,1))) | K52: m47 | M52: o47 | Q52: =IF(N52="","", IF(P52="",0, IF(O52=P52,100%, IF(ISERROR(P52/O52),0, IF(ISERROR(O52/P52),0, IF(O52<>0, IF(AND(O52>P52,Logo!$G$18=1), P52/O52, O52/P52 ))))))) | R52: =IF(OR(N52="",Q52=0),"", IF(Q52<Logo!$F$14,3, IF(Q52<Logo!$F$15,2,1))) | S52: p47
A53: =$A$38 -> 3 | B53: =$B$38 -> 3 | K53: m48 | M53: o48 | Q53: =IF(N53="","", IF(P53="",0, IF(O53=P53,100%, IF(ISERROR(P53/O53),0, IF(ISERROR(O53/P53),0, IF(O53<>0, IF(AND(O53>P53,Logo!$G$18=1), P53/O53, O53/P53 ))))))) | R53: =IF(OR(N53="",Q53=0),"", IF(Q53<Logo!$F$14,3, IF(Q53<Logo!$F$15,2,1))) | S53: p48 | Z53: =IF($C$38="","","drucken") -> drucken
A54: =IF(B54=B38,B38,B38+1) -> 4 | B54: =B38+1 -> 4 | C54: Stratégie 4 | D54: s25 | F54: =IF(E54<>"","?","") | I54: =IF(E54="","", IF(H54="",0, IF(G54=H54,100%, IF(ISERROR(H54/G54),0, IF(ISERROR(G54/H54),0, IF(G54<>0, IF(AND(G54>H54,Logo!$G$18=1), H54/G54, G54/H54 ))))))) | J54: =IF(OR(E54="",I54=0),"", IF(I54<Logo!$F$14,3, IF(I54<Logo!$F$15,2,1))) | K54: m49 | M54: o49 | Q54: =IF(N54="","", IF(P54="",0, IF(O54=P54,100%, IF(ISERROR(P54/O54),0, IF(ISERROR(O54/P54),0, IF(O54<>0, IF(AND(O54>P54,Logo!$G$18=1), P54/O54, O54/P54 ))))))) | R54: =IF(OR(N54="",Q54=0),"", IF(Q54<Logo!$F$14,3, IF(Q54<Logo!$F$15,2,1))) | S54: p49 | Z54: =IF($C$54="","","drucken") -> drucken
A55: =$A$54 -> 4 | B55: =$B$54 -> 4 | F55: =IF(E55<>"","?","") | K55: m50 | M55: o50 | Q55: =IF(N55="","", IF(P55="",0, IF(O55=P55,100%, IF(ISERROR(P55/O55),0, IF(ISERROR(O55/P55),0, IF(O55<>0, IF(AND(O55>P55,Logo!$G$18=1), P55/O55, O55/P55 ))))))) | R55: =IF(OR(N55="",Q55=0),"", IF(Q55<Logo!$F$14,3, IF(Q55<Logo!$F$15,2,1))) | S55: p50 | Z55: =IF($C$54="","","drucken") -> drucken
A56: =$A$54 -> 4 | B56: =$B$54 -> 4 | D56: s26 | F56: =IF(E56<>"","?","") | I56: =IF(E56="","", IF(H56="",0, IF(G56=H56,100%, IF(ISERROR(H56/G56),0, IF(ISERROR(G56/H56),0, IF(G56<>0, IF(AND(G56>H56,Logo!$G$18=1), H56/G56, G56/H56 ))))))) | J56: =IF(OR(E56="",I56=0),"", IF(I56<Logo!$F$14,3, IF(I56<Logo!$F$15,2,1))) | K56: m51 | M56: o51 | Q56: =IF(N56="","", IF(P56="",0, IF(O56=P56,100%, IF(ISERROR(P56/O56),0, IF(ISERROR(O56/P56),0, IF(O56<>0, IF(AND(O56>P56,Logo!$G$18=1), P56/O56, O56/P56 ))))))) | R56: =IF(OR(N56="",Q56=0),"", IF(Q56<Logo!$F$14,3, IF(Q56<Logo!$F$15,2,1))) | S56: p51 | Z56: =IF($C$54="","","drucken") -> drucken
A57: =$A$54 -> 4 | B57: =$B$54 -> 4 | F57: =IF(E57<>"","?","") | K57: m52 | M57: o52 | Q57: =IF(N57="","", IF(P57="",0, IF(O57=P57,100%, IF(ISERROR(P57/O57),0, IF(ISERROR(O57/P57),0, IF(O57<>0, IF(AND(O57>P57,Logo!$G$18=1), P57/O57, O57/P57 ))))))) | R57: =IF(OR(N57="",Q57=0),"", IF(Q57<Logo!$F$14,3, IF(Q57<Logo!$F$15,2,1))) | S57: p52 | Z57: =IF($C$54="","","drucken") -> drucken
A58: =$A$54 -> 4 | B58: =$B$54 -> 4 | D58: s27 | F58: =IF(E58<>"","?","") | I58: =IF(E58="","", IF(H58="",0, IF(G58=H58,100%, IF(ISERROR(H58/G58),0, IF(ISERROR(G58/H58),0, IF(G58<>0, IF(AND(G58>H58,Logo!$G$18=1), H58/G58, G58/H58 ))))))) | J58: =IF(OR(E58="",I58=0),"", IF(I58<Logo!$F$14,3, IF(I58<Logo!$F$15,2,1))) | K58: m53 | M58: o53 | Q58: =IF(N58="","", IF(P58="",0, IF(O58=P58,100%, IF(ISERROR(P58/O58),0, IF(ISERROR(O58/P58),0, IF(O58<>0, IF(AND(O58>P58,Logo!$G$18=1), P58/O58, O58/P58 ))))))) | R58: =IF(OR(N58="",Q58=0),"", IF(Q58<Logo!$F$14,3, IF(Q58<Logo!$F$15,2,1))) | S58: p53 | Z58: =IF($C$54="","","drucken") -> drucken
A59: =$A$54 -> 4 | B59: =$B$54 -> 4 | F59: =IF(E59<>"","?","") | K59: m54 | M59: o54 | Q59: =IF(N59="","", IF(P59="",0, IF(O59=P59,100%, IF(ISERROR(P59/O59),0, IF(ISERROR(O59/P59),0, IF(O59<>0, IF(AND(O59>P59,Logo!$G$18=1), P59/O59, O59/P59 ))))))) | R59: =IF(OR(N59="",Q59=0),"", IF(Q59<Logo!$F$14,3, IF(Q59<Logo!$F$15,2,1))) | S59: p54 | Z59: =IF($C$54="","","drucken") -> drucken
A60: =$A$54 -> 4 | B60: =$B$54 -> 4 | D60: s28 | F60: =IF(E60<>"","?","") | I60: =IF(E60="","", IF(H60="",0, IF(G60=H60,100%, IF(ISERROR(H60/G60),0, IF(ISERROR(G60/H60),0, IF(G60<>0, IF(AND(G60>H60,Logo!$G$18=1), H60/G60, G60/H60 ))))))) | J60: =IF(OR(E60="",I60=0),"", IF(I60<Logo!$F$14,3, IF(I60<Logo!$F$15,2,1))) | K60: m55 | M60: o55 | Q60: =IF(N60="","", IF(P60="",0, IF(O60=P60,100%, IF(ISERROR(P60/O60),0, IF(ISERROR(O60/P60),0, IF(O60<>0, IF(AND(O60>P60,Logo!$G$18=1), P60/O60, O60/P60 ))))))) | R60: =IF(OR(N60="",Q60=0),"", IF(Q60<Logo!$F$14,3, IF(Q60<Logo!$F$15,2,1))) | S60: p55 | Z60: =IF($C$54="","","drucken") -> drucken
A61: =$A$54 -> 4 | B61: =$B$54 -> 4 | F61: =IF(E61<>"","?","") | K61: m56 | M61: o56 | Q61: =IF(N61="","", IF(P61="",0, IF(O61=P61,100%, IF(ISERROR(P61/O61),0, IF(ISERROR(O61/P61),0, IF(O61<>0, IF(AND(O61>P61,Logo!$G$18=1), P61/O61, O61/P61 ))))))) | R61: =IF(OR(N61="",Q61=0),"", IF(Q61<Logo!$F$14,3, IF(Q61<Logo!$F$15,2,1))) | S61: p56
A62: =$A$54 -> 4 | B62: =$B$54 -> 4 | D62: s29 | F62: =IF(E62<>"","?","") | I62: =IF(E62="","", IF(H62="",0, IF(G62=H62,100%, IF(ISERROR(H62/G62),0, IF(ISERROR(G62/H62),0, IF(G62<>0, IF(AND(G62>H62,Logo!$G$18=1), H62/G62, G62/H62 ))))))) | J62: =IF(OR(E62="",I62=0),"", IF(I62<Logo!$F$14,3, IF(I62<Logo!$F$15,2,1))) | K62: m57 | M62: o57 | Q62: =IF(N62="","", IF(P62="",0, IF(O62=P62,100%, IF(ISERROR(P62/O62),0, IF(ISERROR(O62/P62),0, IF(O62<>0, IF(AND(O62>P62,Logo!$G$18=1), P62/O62, O62/P62 ))))))) | R62: =IF(OR(N62="",Q62=0),"", IF(Q62<Logo!$F$14,3, IF(Q62<Logo!$F$15,2,1))) | S62: p57
A63: =$A$54 -> 4 | B63: =$B$54 -> 4 | F63: =IF(E63<>"","?","") | K63: m58 | M63: o58 | Q63: =IF(N63="","", IF(P63="",0, IF(O63=P63,100%, IF(ISERROR(P63/O63),0, IF(ISERROR(O63/P63),0, IF(O63<>0, IF(AND(O63>P63,Logo!$G$18=1), P63/O63, O63/P63 ))))))) | R63: =IF(OR(N63="",Q63=0),"", IF(Q63<Logo!$F$14,3, IF(Q63<Logo!$F$15,2,1))) | S63: p58
A64: =$A$54 -> 4 | B64: =$B$54 -> 4 | D64: s30 | F64: =IF(E64<>"","?","") | I64: =IF(E64="","", IF(H64="",0, IF(G64=H64,100%, IF(ISERROR(H64/G64),0, IF(ISERROR(G64/H64),0, IF(G64<>0, IF(AND(G64>H64,Logo!$G$18=1), H64/G64, G64/H64 ))))))) | J64: =IF(OR(E64="",I64=0),"", IF(I64<Logo!$F$14,3, IF(I64<Logo!$F$15,2,1))) | K64: m59 | M64: o59 | Q64: =IF(N64="","", IF(P64="",0, IF(O64=P64,100%, IF(ISERROR(P64/O64),0, IF(ISERROR(O64/P64),0, IF(O64<>0, IF(AND(O64>P64,Logo!$G$18=1), P64/O64, O64/P64 ))))))) | R64: =IF(OR(N64="",Q64=0),"", IF(Q64<Logo!$F$14,3, IF(Q64<Logo!$F$15,2,1))) | S64: p59
A65: =$A$54 -> 4 | B65: =$B$54 -> 4 | F65: =IF(E65<>"","?","") | K65: m60 | M65: o60 | Q65: =IF(N65="","", IF(P65="",0, IF(O65=P65,100%, IF(ISERROR(P65/O65),0, IF(ISERROR(O65/P65),0, IF(O65<>0, IF(AND(O65>P65,Logo!$G$18=1), P65/O65, O65/P65 ))))))) | R65: =IF(OR(N65="",Q65=0),"", IF(Q65<Logo!$F$14,3, IF(Q65<Logo!$F$15,2,1))) | S65: p60
A66: =$A$54 -> 4 | B66: =$B$54 -> 4 | D66: s31 | F66: =IF(E66<>"","?","") | I66: =IF(E66="","", IF(H66="",0, IF(G66=H66,100%, IF(ISERROR(H66/G66),0, IF(ISERROR(G66/H66),0, IF(G66<>0, IF(AND(G66>H66,Logo!$G$18=1), H66/G66, G66/H66 ))))))) | J66: =IF(OR(E66="",I66=0),"", IF(I66<Logo!$F$14,3, IF(I66<Logo!$F$15,2,1))) | K66: m61 | M66: o61 | Q66: =IF(N66="","", IF(P66="",0, IF(O66=P66,100%, IF(ISERROR(P66/O66),0, IF(ISERROR(O66/P66),0, IF(O66<>0, IF(AND(O66>P66,Logo!$G$18=1), P66/O66, O66/P66 ))))))) | R66: =IF(OR(N66="",Q66=0),"", IF(Q66<Logo!$F$14,3, IF(Q66<Logo!$F$15,2,1))) | S66: p61
A67: =$A$54 -> 4 | B67: =$B$54 -> 4 | F67: =IF(E67<>"","?","") | K67: m62 | M67: o62 | Q67: =IF(N67="","", IF(P67="",0, IF(O67=P67,100%, IF(ISERROR(P67/O67),0, IF(ISERROR(O67/P67),0, IF(O67<>0, IF(AND(O67>P67,Logo!$G$18=1), P67/O67, O67/P67 ))))))) | R67: =IF(OR(N67="",Q67=0),"", IF(Q67<Logo!$F$14,3, IF(Q67<Logo!$F$15,2,1))) | S67: p62
A68: =$A$54 -> 4 | B68: =$B$54 -> 4 | D68: s32 | F68: =IF(E68<>"","?","") | I68: =IF(E68="","", IF(H68="",0, IF(G68=H68,100%, IF(ISERROR(H68/G68),0, IF(ISERROR(G68/H68),0, IF(G68<>0, IF(AND(G68>H68,Logo!$G$18=1), H68/G68, G68/H68 ))))))) | J68: =IF(OR(E68="",I68=0),"", IF(I68<Logo!$F$14,3, IF(I68<Logo!$F$15,2,1))) | K68: m63 | M68: o63 | Q68: =IF(N68="","", IF(P68="",0, IF(O68=P68,100%, IF(ISERROR(P68/O68),0, IF(ISERROR(O68/P68),0, IF(O68<>0, IF(AND(O68>P68,Logo!$G$18=1), P68/O68, O68/P68 ))))))) | R68: =IF(OR(N68="",Q68=0),"", IF(Q68<Logo!$F$14,3, IF(Q68<Logo!$F$15,2,1))) | S68: p63
A69: =$A$54 -> 4 | B69: =$B$54 -> 4 | F69: =IF(E69<>"","?","") | K69: m64 | M69: o64 | Q69: =IF(N69="","", IF(P69="",0, IF(O69=P69,100%, IF(ISERROR(P69/O69),0, IF(ISERROR(O69/P69),0, IF(O69<>0, IF(AND(O69>P69,Logo!$G$18=1), P69/O69, O69/P69 ))))))) | R69: =IF(OR(N69="",Q69=0),"", IF(Q69<Logo!$F$14,3, IF(Q69<Logo!$F$15,2,1))) | S69: p64 | Z69: =IF($C$54="","","drucken") -> drucken
A70: =IF(B70=B54,B54,B54+1) -> 5 | B70: =B54+1 -> 5 | C70: Stratégie 5 | D70: s33 | F70: =IF(E70<>"","?","") | I70: =IF(E70="","", IF(H70="",0, IF(G70=H70,100%, IF(ISERROR(H70/G70),0, IF(ISERROR(G70/H70),0, IF(G70<>0, IF(AND(G70>H70,Logo!$G$18=1), H70/G70, G70/H70 ))))))) | J70: =IF(OR(E70="",I70=0),"", IF(I70<Logo!$F$14,3, IF(I70<Logo!$F$15,2,1))) | K70: m65 | M70: o65 | Q70: =IF(N70="","", IF(P70="",0, IF(O70=P70,100%, IF(ISERROR(P70/O70),0, IF(ISERROR(O70/P70),0, IF(O70<>0, IF(AND(O70>P70,Logo!$G$18=1), P70/O70, O70/P70 ))))))) | R70: =IF(OR(N70="",Q70=0),"", IF(Q70<Logo!$F$14,3, IF(Q70<Logo!$F$15,2,1))) | S70: p65 | Z70: =IF($C$70="","","drucken") -> drucken
A71: =$A$70 -> 5 | B71: =$B$70 -> 5 | F71: =IF(E71<>"","?","") | K71: m66 | M71: o66 | Q71: =IF(N71="","", IF(P71="",0, IF(O71=P71,100%, IF(ISERROR(P71/O71),0, IF(ISERROR(O71/P71),0, IF(O71<>0, IF(AND(O71>P71,Logo!$G$18=1), P71/O71, O71/P71 ))))))) | R71: =IF(OR(N71="",Q71=0),"", IF(Q71<Logo!$F$14,3, IF(Q71<Logo!$F$15,2,1))) | S71: p66 | Z71: =IF($C$70="","","drucken") -> drucken
A72: =$A$70 -> 5 | B72: =$B$70 -> 5 | D72: s34 | F72: =IF(E72<>"","?","") | I72: =IF(E72="","", IF(H72="",0, IF(G72=H72,100%, IF(ISERROR(H72/G72),0, IF(ISERROR(G72/H72),0, IF(G72<>0, IF(AND(G72>H72,Logo!$G$18=1), H72/G72, G72/H72 ))))))) | J72: =IF(OR(E72="",I72=0),"", IF(I72<Logo!$F$14,3, IF(I72<Logo!$F$15,2,1))) | K72: m67 | M72: o67 | Q72: =IF(N72="","", IF(P72="",0, IF(O72=P72,100%, IF(ISERROR(P72/O72),0, IF(ISERROR(O72/P72),0, IF(O72<>0, IF(AND(O72>P72,Logo!$G$18=1), P72/O72, O72/P72 ))))))) | R72: =IF(OR(N72="",Q72=0),"", IF(Q72<Logo!$F$14,3, IF(Q72<Logo!$F$15,2,1))) | S72: p67 | Z72: =IF($C$70="","","drucken") -> drucken
A73: =$A$70 -> 5 | B73: =$B$70 -> 5 | F73: =IF(E73<>"","?","") | K73: m68 | M73: o68 | Q73: =IF(N73="","", IF(P73="",0, IF(O73=P73,100%, IF(ISERROR(P73/O73),0, IF(ISERROR(O73/P73),0, IF(O73<>0, IF(AND(O73>P73,Logo!$G$18=1), P73/O73, O73/P73 ))))))) | R73: =IF(OR(N73="",Q73=0),"", IF(Q73<Logo!$F$14,3, IF(Q73<Logo!$F$15,2,1))) | S73: p68 | Z73: =IF($C$70="","","drucken") -> drucken
A74: =$A$70 -> 5 | B74: =$B$70 -> 5 | D74: s35 | F74: =IF(E74<>"","?","") | I74: =IF(E74="","", IF(H74="",0, IF(G74=H74,100%, IF(ISERROR(H74/G74),0, IF(ISERROR(G74/H74),0, IF(G74<>0, IF(AND(G74>H74,Logo!$G$18=1), H74/G74, G74/H74 ))))))) | J74: =IF(OR(E74="",I74=0),"", IF(I74<Logo!$F$14,3, IF(I74<Logo!$F$15,2,1))) | K74: m69 | M74: o69 | Q74: =IF(N74="","", IF(P74="",0, IF(O74=P74,100%, IF(ISERROR(P74/O74),0, IF(ISERROR(O74/P74),0, IF(O74<>0, IF(AND(O74>P74,Logo!$G$18=1), P74/O74, O74/P74 ))))))) | R74: =IF(OR(N74="",Q74=0),"", IF(Q74<Logo!$F$14,3, IF(Q74<Logo!$F$15,2,1))) | S74: p69 | Z74: =IF($C$70="","","drucken") -> drucken
A75: =$A$70 -> 5 | B75: =$B$70 -> 5 | F75: =IF(E75<>"","?","") | K75: m70 | M75: o70 | Q75: =IF(N75="","", IF(P75="",0, IF(O75=P75,100%, IF(ISERROR(P75/O75),0, IF(ISERROR(O75/P75),0, IF(O75<>0, IF(AND(O75>P75,Logo!$G$18=1), P75/O75, O75/P75 ))))))) | R75: =IF(OR(N75="",Q75=0),"", IF(Q75<Logo!$F$14,3, IF(Q75<Logo!$F$15,2,1))) | S75: p70 | Z75: =IF($C$70="","","drucken") -> drucken
A76: =$A$70 -> 5 | B76: =$B$70 -> 5 | D76: s36 | F76: =IF(E76<>"","?","") | I76: =IF(E76="","", IF(H76="",0, IF(G76=H76,100%, IF(ISERROR(H76/G76),0, IF(ISERROR(G76/H76),0, IF(G76<>0, IF(AND(G76>H76,Logo!$G$18=1), H76/G76, G76/H76 ))))))) | J76: =IF(OR(E76="",I76=0),"", IF(I76<Logo!$F$14,3, IF(I76<Logo!$F$15,2,1))) | K76: m71 | M76: o71 | Q76: =IF(N76="","", IF(P76="",0, IF(O76=P76,100%, IF(ISERROR(P76/O76),0, IF(ISERROR(O76/P76),0, IF(O76<>0, IF(AND(O76>P76,Logo!$G$18=1), P76/O76, O76/P76 ))))))) | R76: =IF(OR(N76="",Q76=0),"", IF(Q76<Logo!$F$14,3, IF(Q76<Logo!$F$15,2,1))) | S76: p71 | Z76: =IF($C$70="","","drucken") -> drucken
A77: =$A$70 -> 5 | B77: =$B$70 -> 5 | F77: =IF(E77<>"","?","") | K77: m72 | M77: o72 | Q77: =IF(N77="","", IF(P77="",0, IF(O77=P77,100%, IF(ISERROR(P77/O77),0, IF(ISERROR(O77/P77),0, IF(O77<>0, IF(AND(O77>P77,Logo!$G$18=1), P77/O77, O77/P77 ))))))) | R77: =IF(OR(N77="",Q77=0),"", IF(Q77<Logo!$F$14,3, IF(Q77<Logo!$F$15,2,1))) | S77: p72
A78: =$A$70 -> 5 | B78: =$B$70 -> 5 | D78: s37 | F78: =IF(E78<>"","?","") | I78: =IF(E78="","", IF(H78="",0, IF(G78=H78,100%, IF(ISERROR(H78/G78),0, IF(ISERROR(G78/H78),0, IF(G78<>0, IF(AND(G78>H78,Logo!$G$18=1), H78/G78, G78/H78 ))))))) | K78: m73 | M78: o73 | Q78: =IF(N78="","", IF(P78="",0, IF(O78=P78,100%, IF(ISERROR(P78/O78),0, IF(ISERROR(O78/P78),0, IF(O78<>0, IF(AND(O78>P78,Logo!$G$18=1), P78/O78, O78/P78 ))))))) | R78: =IF(OR(N78="",Q78=0),"", IF(Q78<Logo!$F$14,3, IF(Q78<Logo!$F$15,2,1))) | S78: p73
A79: =$A$70 -> 5 | B79: =$B$70 -> 5 | F79: =IF(E79<>"","?","") | K79: m74 | M79: o74 | Q79: =IF(N79="","", IF(P79="",0, IF(O79=P79,100%, IF(ISERROR(P79/O79),0, IF(ISERROR(O79/P79),0, IF(O79<>0, IF(AND(O79>P79,Logo!$G$18=1), P79/O79, O79/P79 ))))))) | R79: =IF(OR(N79="",Q79=0),"", IF(Q79<Logo!$F$14,3, IF(Q79<Logo!$F$15,2,1))) | S79: p74
A80: =$A$70 -> 5 | B80: =$B$70 -> 5 | D80: s38 | F80: =IF(E80<>"","?","") | I80: =IF(E80="","", IF(H80="",0, IF(G80=H80,100%, IF(ISERROR(H80/G80),0, IF(ISERROR(G80/H80),0, IF(G80<>0, IF(AND(G80>H80,Logo!$G$18=1), H80/G80, G80/H80 ))))))) | K80: m75 | M80: o75 | Q80: =IF(N80="","", IF(P80="",0, IF(O80=P80,100%, IF(ISERROR(P80/O80),0, IF(ISERROR(O80/P80),0, IF(O80<>0, IF(AND(O80>P80,Logo!$G$18=1), P80/O80, O80/P80 ))))))) | R80: =IF(OR(N80="",Q80=0),"", IF(Q80<Logo!$F$14,3, IF(Q80<Logo!$F$15,2,1))) | S80: p75
A81: =$A$70 -> 5 | B81: =$B$70 -> 5 | F81: =IF(E81<>"","?","") | K81: m76 | M81: o76 | Q81: =IF(N81="","", IF(P81="",0, IF(O81=P81,100%, IF(ISERROR(P81/O81),0, IF(ISERROR(O81/P81),0, IF(O81<>0, IF(AND(O81>P81,Logo!$G$18=1), P81/O81, O81/P81 ))))))) | R81: =IF(OR(N81="",Q81=0),"", IF(Q81<Logo!$F$14,3, IF(Q81<Logo!$F$15,2,1))) | S81: p76
A82: =$A$70 -> 5 | B82: =$B$70 -> 5 | D82: s39 | F82: =IF(E82<>"","?","") | I82: =IF(E82="","", IF(H82="",0, IF(G82=H82,100%, IF(ISERROR(H82/G82),0, IF(ISERROR(G82/H82),0, IF(G82<>0, IF(AND(G82>H82,Logo!$G$18=1), H82/G82, G82/H82 ))))))) | K82: m77 | M82: o77 | Q82: =IF(N82="","", IF(P82="",0, IF(O82=P82,100%, IF(ISERROR(P82/O82),0, IF(ISERROR(O82/P82),0, IF(O82<>0, IF(AND(O82>P82,Logo!$G$18=1), P82/O82, O82/P82 ))))))) | R82: =IF(OR(N82="",Q82=0),"", IF(Q82<Logo!$F$14,3, IF(Q82<Logo!$F$15,2,1))) | S82: p77
A83: =$A$70 -> 5 | B83: =$B$70 -> 5 | F83: =IF(E83<>"","?","") | K83: m78 | M83: o78 | Q83: =IF(N83="","", IF(P83="",0, IF(O83=P83,100%, IF(ISERROR(P83/O83),0, IF(ISERROR(O83/P83),0, IF(O83<>0, IF(AND(O83>P83,Logo!$G$18=1), P83/O83, O83/P83 ))))))) | R83: =IF(OR(N83="",Q83=0),"", IF(Q83<Logo!$F$14,3, IF(Q83<Logo!$F$15,2,1))) | S83: p78
A84: =$A$70 -> 5 | B84: =$B$70 -> 5 | D84: s40 | F84: =IF(E84<>"","?","") | I84: =IF(E84="","", IF(H84="",0, IF(G84=H84,100%, IF(ISERROR(H84/G84),0, IF(ISERROR(G84/H84),0, IF(G84<>0, IF(AND(G84>H84,Logo!$G$18=1), H84/G84, G84/H84 ))))))) | K84: m79 | M84: o79 | Q84: =IF(N84="","", IF(P84="",0, IF(O84=P84,100%, IF(ISERROR(P84/O84),0, IF(ISERROR(O84/P84),0, IF(O84<>0, IF(AND(O84>P84,Logo!$G$18=1), P84/O84, O84/P84 ))))))) | R84: =IF(OR(N84="",Q84=0),"", IF(Q84<Logo!$F$14,3, IF(Q84<Logo!$F$15,2,1))) | S84: p79
A85: =$A$70 -> 5 | B85: =$B$70 -> 5 | F85: =IF(E85<>"","?","") | K85: m80 | M85: o80 | Q85: =IF(N85="","", IF(P85="",0, IF(O85=P85,100%, IF(ISERROR(P85/O85),0, IF(ISERROR(O85/P85),0, IF(O85<>0, IF(AND(O85>P85,Logo!$G$18=1), P85/O85, O85/P85 ))))))) | R85: =IF(OR(N85="",Q85=0),"", IF(Q85<Logo!$F$14,3, IF(Q85<Logo!$F$15,2,1))) | S85: p80 | Z85: =IF($C$70="","","drucken") -> drucken
A86: =IF(B86=B70,B70,B70+1) -> 6 | B86: =B70+1 -> 6 | C86: Stratégie 6 | D86: s41 | F86: =IF(E86<>"","?","") | I86: =IF(E86="","", IF(H86="",0, IF(G86=H86,100%, IF(ISERROR(H86/G86),0, IF(ISERROR(G86/H86),0, IF(G86<>0, IF(AND(G86>H86,Logo!$G$18=1), H86/G86, G86/H86 ))))))) | J86: =IF(OR(E86="",I86=0),"", IF(I86<Logo!$F$14,3, IF(I86<Logo!$F$15,2,1))) | K86: m81 | M86: o81 | Q86: =IF(N86="","", IF(P86="",0, IF(O86=P86,100%, IF(ISERROR(P86/O86),0, IF(ISERROR(O86/P86),0, IF(O86<>0, IF(AND(O86>P86,Logo!$G$18=1), P86/O86, O86/P86 ))))))) | R86: =IF(OR(N86="",Q86=0),"", IF(Q86<Logo!$F$14,3, IF(Q86<Logo!$F$15,2,1))) | S86: p81 | Z86: =IF($C$86="","","drucken") -> drucken
A87: =$A$86 -> 6 | B87: =$B$86 -> 6 | F87: =IF(E87<>"","?","") | K87: m82 | M87: o82 | Q87: =IF(N87="","", IF(P87="",0, IF(O87=P87,100%, IF(ISERROR(P87/O87),0, IF(ISERROR(O87/P87),0, IF(O87<>0, IF(AND(O87>P87,Logo!$G$18=1), P87/O87, O87/P87 ))))))) | R87: =IF(OR(N87="",Q87=0),"", IF(Q87<Logo!$F$14,3, IF(Q87<Logo!$F$15,2,1))) | S87: p82 | Z87: =IF($C$86="","","drucken") -> drucken
A88: =$A$86 -> 6 | B88: =$B$86 -> 6 | D88: s42 | F88: =IF(E88<>"","?","") | I88: =IF(E88="","", IF(H88="",0, IF(G88=H88,100%, IF(ISERROR(H88/G88),0, IF(ISERROR(G88/H88),0, IF(G88<>0, IF(AND(G88>H88,Logo!$G$18=1), H88/G88, G88/H88 ))))))) | J88: =IF(OR(E88="",I88=0),"", IF(I88<Logo!$F$14,3, IF(I88<Logo!$F$15,2,1))) | K88: m83 | M88: o83 | Q88: =IF(N88="","", IF(P88="",0, IF(O88=P88,100%, IF(ISERROR(P88/O88),0, IF(ISERROR(O88/P88),0, IF(O88<>0, IF(AND(O88>P88,Logo!$G$18=1), P88/O88, O88/P88 ))))))) | R88: =IF(OR(N88="",Q88=0),"", IF(Q88<Logo!$F$14,3, IF(Q88<Logo!$F$15,2,1))) | S88: p83 | Z88: =IF($C$86="","","drucken") -> drucken
A89: =$A$86 -> 6 | B89: =$B$86 -> 6 | F89: =IF(E89<>"","?","") | K89: m84 | M89: o84 | Q89: =IF(N89="","", IF(P89="",0, IF(O89=P89,100%, IF(ISERROR(P89/O89),0, IF(ISERROR(O89/P89),0, IF(O89<>0, IF(AND(O89>P89,Logo!$G$18=1), P89/O89, O89/P89 ))))))) | R89: =IF(OR(N89="",Q89=0),"", IF(Q89<Logo!$F$14,3, IF(Q89<Logo!$F$15,2,1))) | S89: p84 | Z89: =IF($C$86="","","drucken") -> drucken
A90: =$A$86 -> 6 | B90: =$B$86 -> 6 | D90: s43 | F90: =IF(E90<>"","?","") | I90: =IF(E90="","", IF(H90="",0, IF(G90=H90,100%, IF(ISERROR(H90/G90),0, IF(ISERROR(G90/H90),0, IF(G90<>0, IF(AND(G90>H90,Logo!$G$18=1), H90/G90, G90/H90 ))))))) | J90: =IF(OR(E90="",I90=0),"", IF(I90<Logo!$F$14,3, IF(I90<Logo!$F$15,2,1))) | K90: m85 | M90: o85 | Q90: =IF(N90="","", IF(P90="",0, IF(O90=P90,100%, IF(ISERROR(P90/O90),0, IF(ISERROR(O90/P90),0, IF(O90<>0, IF(AND(O90>P90,Logo!$G$18=1), P90/O90, O90/P90 ))))))) | R90: =IF(OR(N90="",Q90=0),"", IF(Q90<Logo!$F$14,3, IF(Q90<Logo!$F$15,2,1))) | S90: p85 | Z90: =IF($C$86="","","drucken") -> drucken
A91: =$A$86 -> 6 | B91: =$B$86 -> 6 | F91: =IF(E91<>"","?","") | K91: m86 | M91: o86 | Q91: =IF(N91="","", IF(P91="",0, IF(O91=P91,100%, IF(ISERROR(P91/O91),0, IF(ISERROR(O91/P91),0, IF(O91<>0, IF(AND(O91>P91,Logo!$G$18=1), P91/O91, O91/P91 ))))))) | R91: =IF(OR(N91="",Q91=0),"", IF(Q91<Logo!$F$14,3, IF(Q91<Logo!$F$15,2,1))) | S91: p86 | Z91: =IF($C$86="","","drucken") -> drucken
A92: =$A$86 -> 6 | B92: =$B$86 -> 6 | D92: s44 | F92: =IF(E92<>"","?","") | I92: =IF(E92="","", IF(H92="",0, IF(G92=H92,100%, IF(ISERROR(H92/G92),0, IF(ISERROR(G92/H92),0, IF(G92<>0, IF(AND(G92>H92,Logo!$G$18=1), H92/G92, G92/H92 ))))))) | J92: =IF(OR(E92="",I92=0),"", IF(I92<Logo!$F$14,3, IF(I92<Logo!$F$15,2,1))) | K92: m87 | M92: o87 | Q92: =IF(N92="","", IF(P92="",0, IF(O92=P92,100%, IF(ISERROR(P92/O92),0, IF(ISERROR(O92/P92),0, IF(O92<>0, IF(AND(O92>P92,Logo!$G$18=1), P92/O92, O92/P92 ))))))) | R92: =IF(OR(N92="",Q92=0),"", IF(Q92<Logo!$F$14,3, IF(Q92<Logo!$F$15,2,1))) | S92: p87 | Z92: =IF($C$86="","","drucken") -> drucken
A93: =$A$86 -> 6 | B93: =$B$86 -> 6 | F93: =IF(E93<>"","?","") | K93: m88 | M93: o88 | Q93: =IF(N93="","", IF(P93="",0, IF(O93=P93,100%, IF(ISERROR(P93/O93),0, IF(ISERROR(O93/P93),0, IF(O93<>0, IF(AND(O93>P93,Logo!$G$18=1), P93/O93, O93/P93 ))))))) | R93: =IF(OR(N93="",Q93=0),"", IF(Q93<Logo!$F$14,3, IF(Q93<Logo!$F$15,2,1))) | S93: p88
A94: =$A$86 -> 6 | B94: =$B$86 -> 6 | D94: s45 | F94: =IF(E94<>"","?","") | I94: =IF(E94="","", IF(H94="",0, IF(G94=H94,100%, IF(ISERROR(H94/G94),0, IF(ISERROR(G94/H94),0, IF(G94<>0, IF(AND(G94>H94,Logo!$G$18=1), H94/G94, G94/H94 ))))))) | J94: =IF(OR(E94="",I94=0),"", IF(I94<Logo!$F$14,3, IF(I94<Logo!$F$15,2,1))) | K94: m89 | M94: o89 | Q94: =IF(N94="","", IF(P94="",0, IF(O94=P94,100%, IF(ISERROR(P94/O94),0, IF(ISERROR(O94/P94),0, IF(O94<>0, IF(AND(O94>P94,Logo!$G$18=1), P94/O94, O94/P94 ))))))) | R94: =IF(OR(N94="",Q94=0),"", IF(Q94<Logo!$F$14,3, IF(Q94<Logo!$F$15,2,1))) | S94: p89
A95: =$A$86 -> 6 | B95: =$B$86 -> 6 | F95: =IF(E95<>"","?","") | K95: m90 | M95: o90 | Q95: =IF(N95="","", IF(P95="",0, IF(O95=P95,100%, IF(ISERROR(P95/O95),0, IF(ISERROR(O95/P95),0, IF(O95<>0, IF(AND(O95>P95,Logo!$G$18=1), P95/O95, O95/P95 ))))))) | R95: =IF(OR(N95="",Q95=0),"", IF(Q95<Logo!$F$14,3, IF(Q95<Logo!$F$15,2,1))) | S95: p90
A96: =$A$86 -> 6 | B96: =$B$86 -> 6 | D96: s46 | F96: =IF(E96<>"","?","") | I96: =IF(E96="","", IF(H96="",0, IF(G96=H96,100%, IF(ISERROR(H96/G96),0, IF(ISERROR(G96/H96),0, IF(G96<>0, IF(AND(G96>H96,Logo!$G$18=1), H96/G96, G96/H96 ))))))) | J96: =IF(OR(E96="",I96=0),"", IF(I96<Logo!$F$14,3, IF(I96<Logo!$F$15,2,1))) | K96: m91 | M96: o91 | Q96: =IF(N96="","", IF(P96="",0, IF(O96=P96,100%, IF(ISERROR(P96/O96),0, IF(ISERROR(O96/P96),0, IF(O96<>0, IF(AND(O96>P96,Logo!$G$18=1), P96/O96, O96/P96 ))))))) | R96: =IF(OR(N96="",Q96=0),"", IF(Q96<Logo!$F$14,3, IF(Q96<Logo!$F$15,2,1))) | S96: p91
A97: =$A$86 -> 6 | B97: =$B$86 -> 6 | F97: =IF(E97<>"","?","") | K97: m92 | M97: o92 | Q97: =IF(N97="","", IF(P97="",0, IF(O97=P97,100%, IF(ISERROR(P97/O97),0, IF(ISERROR(O97/P97),0, IF(O97<>0, IF(AND(O97>P97,Logo!$G$18=1), P97/O97, O97/P97 ))))))) | R97: =IF(OR(N97="",Q97=0),"", IF(Q97<Logo!$F$14,3, IF(Q97<Logo!$F$15,2,1))) | S97: p92
A98: =$A$86 -> 6 | B98: =$B$86 -> 6 | D98: s47 | F98: =IF(E98<>"","?","") | I98: =IF(E98="","", IF(H98="",0, IF(G98=H98,100%, IF(ISERROR(H98/G98),0, IF(ISERROR(G98/H98),0, IF(G98<>0, IF(AND(G98>H98,Logo!$G$18=1), H98/G98, G98/H98 ))))))) | J98: =IF(OR(E98="",I98=0),"", IF(I98<Logo!$F$14,3, IF(I98<Logo!$F$15,2,1))) | K98: m93 | M98: o93 | Q98: =IF(N98="","", IF(P98="",0, IF(O98=P98,100%, IF(ISERROR(P98/O98),0, IF(ISERROR(O98/P98),0, IF(O98<>0, IF(AND(O98>P98,Logo!$G$18=1), P98/O98, O98/P98 ))))))) | R98: =IF(OR(N98="",Q98=0),"", IF(Q98<Logo!$F$14,3, IF(Q98<Logo!$F$15,2,1))) | S98: p93
A99: =$A$86 -> 6 | B99: =$B$86 -> 6 | F99: =IF(E99<>"","?","") | K99: m94 | M99: o94 | Q99: =IF(N99="","", IF(P99="",0, IF(O99=P99,100%, IF(ISERROR(P99/O99),0, IF(ISERROR(O99/P99),0, IF(O99<>0, IF(AND(O99>P99,Logo!$G$18=1), P99/O99, O99/P99 ))))))) | R99: =IF(OR(N99="",Q99=0),"", IF(Q99<Logo!$F$14,3, IF(Q99<Logo!$F$15,2,1))) | S99: p94
A100: =$A$86 -> 6 | B100: =$B$86 -> 6 | D100: s48 | F100: =IF(E100<>"","?","") | I100: =IF(E100="","", IF(H100="",0, IF(G100=H100,100%, IF(ISERROR(H100/G100),0, IF(ISERROR(G100/H100),0, IF(G100<>0, IF(AND(G100>H100,Logo!$G$18=1), H100/G100, G100/H100 ))))))) | J100: =IF(OR(E100="",I100=0),"", IF(I100<Logo!$F$14,3, IF(I100<Logo!$F$15,2,1))) | K100: m95 | M100: o95 | Q100: =IF(N100="","", IF(P100="",0, IF(O100=P100,100%, IF(ISERROR(P100/O100),0, IF(ISERROR(O100/P100),0, IF(O100<>0, IF(AND(O100>P100,Logo!$G$18=1), P100/O100, O100/P100 ))))))) | R100: =IF(OR(N100="",Q100=0),"", IF(Q100<Logo!$F$14,3, IF(Q100<Logo!$F$15,2,1))) | S100: p95
A101: =$A$86 -> 6 | B101: =$B$86 -> 6 | F101: =IF(E101<>"","?","") | K101: m96 | M101: o96 | Q101: =IF(N101="","", IF(P101="",0, IF(O101=P101,100%, IF(ISERROR(P101/O101),0, IF(ISERROR(O101/P101),0, IF(O101<>0, IF(AND(O101>P101,Logo!$G$18=1), P101/O101, O101/P101 ))))))) | R101: =IF(OR(N101="",Q101=0),"", IF(Q101<Logo!$F$14,3, IF(Q101<Logo!$F$15,2,1))) | S101: p96 | Z101: =IF($C$86="","","drucken") -> drucken
A102: =IF(B102=B86,B86,B86+1) -> 7 | B102: =B86+1 -> 7 | D102: s49 | F102: =IF(E102<>"","?","") | I102: =IF(E102="","", IF(H102="",0, IF(G102=H102,100%, IF(ISERROR(H102/G102),0, IF(ISERROR(G102/H102),0, IF(G102<>0, IF(AND(G102>H102,Logo!$G$18=1), H102/G102, G102/H102 ))))))) | J102: =IF(OR(E102="",I102=0),"", IF(I102<Logo!$F$14,3, IF(I102<Logo!$F$15,2,1))) | K102: m97 | M102: o97 | Q102: =IF(N102="","", IF(P102="",0, IF(O102=P102,100%, IF(ISERROR(P102/O102),0, IF(ISERROR(O102/P102),0, IF(O102<>0, IF(AND(O102>P102,Logo!$G$18=1), P102/O102, O102/P102 ))))))) | R102: =IF(OR(N102="",Q102=0),"", IF(Q102<Logo!$F$14,3, IF(Q102<Logo!$F$15,2,1))) | S102: p97 | Z102: =IF($C$102="","","drucken")
...

Sheet sIndikatoren
B1: =' '!A75 -> S T R A T E G I C I N D I C A T O R S
C5: =' '!A77 -> Description/Remarks | D5: =' '!$A$76 -> Calculation | E5: =' '!$A$78 -> Source | F5: =' '!$A$80 -> Time of the survey | G5: =' '!A79 -> Sector comparison
B6: s1 | C6: =IF(Massnahmen!E6<>"",Massnahmen!E6,"") -> Indicateur 1 | F6: 42736
B8: s2 | C8: =IF(Massnahmen!E8<>"",Massnahmen!E8,"") -> Indicateur 2
B10: s3 | C10: =IF(Massnahmen!E10<>"",Massnahmen!E10,"")
B12: s4 | C12: =IF(Massnahmen!E12<>"",Massnahmen!E12,"")
B14: s5 | C14: =IF(Massnahmen!E14<>"",Massnahmen!E14,"")
B16: s6 | C16: =IF(Massnahmen!E16<>"",Massnahmen!E16,"")
B18: s7 | C18: =IF(Massnahmen!E18<>"",Massnahmen!E18,"")
B20: s8 | C20: =IF(Massnahmen!E20<>"",Massnahmen!E20,"")
B22: s9 | C22: =IF(Massnahmen!E22<>"",Massnahmen!E22,"")
B24: s10 | C24: =IF(Massnahmen!E24<>"",Massnahmen!E24,"")
B26: s11 | C26: =IF(Massnahmen!E26<>"",Massnahmen!E26,"")
B28: s12 | C28: =IF(Massnahmen!E28<>"",Massnahmen!E28,"")
B30: s13 | C30: =IF(Massnahmen!E30<>"",Massnahmen!E30,"")
... B164: s80 | C164: =IF(Massnahmen!E164<>"",Massnahmen!E164,"")
B166: © iManagement • dr. s.imboden • www.2iManagement.ch

Sheet Logo
D4: =' '!A16 -> Your logo:
B12: =' '!A161 -> Setting light system
B14: 0 | D14: =' '!A162 -> up to | F14: 0.7
B15: =F14 -> 0.7 | D15: =' '!A162 -> up to | F15: 0.9
B16: =F15 -> 0.9 | D16: =' '!A162 -> up to | F16: 1
B18: =' '!A164 -> Calculations of the lights can be higher than 100% | F18: Oui | G18: =IF(OR(F18="Oui",F18="Ja",F18="Yes",F18="Si"),0,1) -> 0
B20: © iManagement • dr. s.imboden • www.2iManagement.ch
