Workbook
Name Année_civile: 'Liste de tâches'!$N$1
Name Titre1: Liste_des_tâches[[#Headers],[No]]

Sheet  
A1: =OFFSET($C1,0,$B$4-1) -> Français | C1: Deutsch | D1: Français | E1: English | F1: Italiano | H1: Deutsch
A2: Aktuelle Sprache | C2: Sprache 1 | D2: Sprache 2 | E2: Sprache 3 | F2: Sprache 4 | G2: Sprache 5 | H2: Français
A3: Aktuell angezeigte Sprache | C3: Deutsch | D3: Français | E3: English | F3: Italiano | G3: 5_??? | H3: English
B4: 2 | H4: Italiano | I4: =$B$4 -> 2 | Z4: 55153
A5: =OFFSET($C5,0,$I$4-1) -> LISTE DE TÂCHES | C5: TO-DO Liste | D5: LISTE DE TÂCHES | E5: TO-DO list | F5: Lista delle cose da fare | G5: contact info@2imanagement.ch
A6: =OFFSET($C6,0,$I$4-1) -> No | C6: Nr. | D6: No | E6: No. | F6: No. | G6: contact info@2imanagement.ch
A7: =OFFSET($C7,0,$I$4-1) -> Qui | C7: Wer | D7: Qui | E7: Who | F7: Chi
A8: =OFFSET($C8,0,$I$4-1) -> Tâche / Décision / Projet | C8: Aufgabe / Entscheidung / Projekt | D8: Tâche / Décision / Projet | E8: Task / Decision / Project | F8: Compito / Decisione / Progetto
A9: =OFFSET($C9,0,$I$4-1) -> Priorité | C9: Priorität | D9: Priorité | E9: Priority | F9: Priorità | G9: contact info@2imanagement.ch
A10: =OFFSET($C10,0,$I$4-1) -> Date de début | C10: Datum Beginn | D10: Date de début | E10: Start date | F10: Data di inizio
A11: =OFFSET($C11,0,$I$4-1) -> Date d’échéance | C11: Fälligkeits-datum | D11: Date d’échéance | E11: Due date | F11: Data di scadenza
A12: =OFFSET($C12,0,$I$4-1) -> Etat | C12: Status | D12: Etat | E12: Status | F12: Stato di avanzamento
A13: =OFFSET($C13,0,$I$4-1) -> % achevé | C13: % vollendet | D13: % achevé | E13: % completed | F13: % completata
A14: =OFFSET($C14,0,$I$4-1) -> Remarques | C14: Bemerkungen | D14: Remarques | E14: Remarks | F14: Osservazioni | G14: contact info@2imanagement.ch
A15: =OFFSET($C15,0,$I$4-1) -> en cours | C15: in Arbeit | D15: en cours | E15: in progress | F15: in corso
A16: =OFFSET($C16,0,$I$4-1) -> terminée | C16: abgeschlossen | D16: terminée | E16: completed | F16: completato | G16: contact info@2imanagement.ch
A17: =OFFSET($C17,0,$I$4-1) -> reportée | C17: aufgeschoben | D17: reportée | E17: reported | F17: differito | G17: contact info@2imanagement.ch
A18: =OFFSET($C18,0,$I$4-1) -> Tâche | C18: Aufgabe | D18: Tâche | E18: Task | F18: Attività | G18: contact info@2imanagement.ch
A19: =OFFSET($C19,0,$I$4-1) -> Projet | C19: Projekt | D19: Projet | E19: Project | F19: Progetto | G19: contact info@2imanagement.ch
A20: =OFFSET($C20,0,$I$4-1) -> Décision | C20: Entscheid | D20: Décision | E20: Decision | F20: Decisione | G20: contact info@2imanagement.ch
A21: =OFFSET($C21,0,$I$4-1) -> 0
A22: =OFFSET($C22,0,$I$4-1) -> 0
A23: =OFFSET($C23,0,$I$4-1) -> 0
A24: =OFFSET($C24,0,$I$4-1) -> 0
A25: =OFFSET($C25,0,$I$4-1) -> 0
A26: =OFFSET($C26,0,$I$4-1) -> 0
A27: =OFFSET($C27,0,$I$4-1) -> 0
A28: =OFFSET($C28,0,$I$4-1) -> 0
A29: =OFFSET($C29,0,$I$4-1) -> 0
A30: =OFFSET($C30,0,$I$4-1) -> 0
A31: =OFFSET($C31,0,$I$4-1) -> 0
A32: =OFFSET($C32,0,$I$4-1) -> 0
... A48: =OFFSET($C48,0,$I$4-1) -> 0

Sheet Liste de tâches
M1: =YEAR(TODAY()) -> 2026
C2: =' '!A5 -> LISTE DE TÂCHES
C4: =' '!A6 -> No | D4: =' '!A18 -> Tâche | E4: =' '!A19 -> Projet | F4: =' '!A20 -> Décision | G4: =' '!A7 -> Qui | H4: =' '!A8 -> Tâche / Décision / Projet | I4: =' '!A9 -> Priorité | J4: =' '!A10 -> Date de début | K4: =' '!A11 -> Date d’échéance | L4: =' '!A12 -> Etat | M4: =' '!A13 -> % achevé | N4: =' '!A14 -> Remarques
C5: No | D5: Colonne3 | E5: Colonne2 | F5: Colonne1 | G5: Qui | H5: Tâche / Décision / Projet | I5: Priorité | J5: Date de début | K5: Date d’échéance | L5: Etat | M5: % achevé | N5: Remarques
C6: 1 | D6: x | G6: ims | H6: Tâche 1 | I6: 1 | J6: =TODAY()-5 -> 46053 | K6: =TODAY()+30 -> 46088 | L6: reportée | M6: =IF(K6<>"", IF(L6=' '!$A$16,100%, IF(K6>TODAY(), IF((TODAY()-J6)/(K6-J6)>0,(TODAY()-J6)/(K6-J6),0),100%)),"") -> 0.14285714
C7: 2 | E7: x | G7: cgl | H7: Projet 2 (faire un hyperlien fichier gestion de projet) | I7: 2 | J7: =TODAY()-7 -> 46051 | K7: =TODAY()-5 -> 46053 | L7: terminée | M7: =IF(K7<>"", IF(L7=' '!$A$16,100%, IF(K7>TODAY(), IF((TODAY()-J7)/(K7-J7)>0,(TODAY()-J7)/(K7-J7),0),100%)),"") -> 1
C8: 3 | F8: x | G8: ims | H8: Décision | I8: 3 | J8: =TODAY()-3 -> 46055 | K8: =TODAY()+3 -> 46061 | L8: en cours | M8: =IF(K8<>"", IF(L8=' '!$A$16,100%, IF(K8>TODAY(), IF((TODAY()-J8)/(K8-J8)>0,(TODAY()-J8)/(K8-J8),0),100%)),"") -> 0.5 | N8: voir PV du …
C9: 4 | M9: =IF(K9<>"", IF(L9=' '!$A$16,100%, IF(K9>TODAY(), IF((TODAY()-J9)/(K9-J9)>0,(TODAY()-J9)/(K9-J9),0),100%)),"")
C10: 5 | M10: =IF(K10<>"", IF(L10=' '!$A$16,100%, IF(K10>TODAY(), IF((TODAY()-J10)/(K10-J10)>0,(TODAY()-J10)/(K10-J10),0),100%)),"")
C11: 6 | M11: =IF(K11<>"", IF(L11=' '!$A$16,100%, IF(K11>TODAY(), IF((TODAY()-J11)/(K11-J11)>0,(TODAY()-J11)/(K11-J11),0),100%)),"")
C12: 7 | M12: =IF(K12<>"", IF(L12=' '!$A$16,100%, IF(K12>TODAY(), IF((TODAY()-J12)/(K12-J12)>0,(TODAY()-J12)/(K12-J12),0),100%)),"")
C13: 8 | M13: =IF(K13<>"", IF(L13=' '!$A$16,100%, IF(K13>TODAY(), IF((TODAY()-J13)/(K13-J13)>0,(TODAY()-J13)/(K13-J13),0),100%)),"")
C14: 9 | M14: =IF(K14<>"", IF(L14=' '!$A$16,100%, IF(K14>TODAY(), IF((TODAY()-J14)/(K14-J14)>0,(TODAY()-J14)/(K14-J14),0),100%)),"")
C15: 10 | M15: =IF(K15<>"", IF(L15=' '!$A$16,100%, IF(K15>TODAY(), IF((TODAY()-J15)/(K15-J15)>0,(TODAY()-J15)/(K15-J15),0),100%)),"")
C16: 11 | M16: =IF(K16<>"", IF(L16=' '!$A$16,100%, IF(K16>TODAY(), IF((TODAY()-J16)/(K16-J16)>0,(TODAY()-J16)/(K16-J16),0),100%)),"")
C17: 12 | M17: =IF(K17<>"", IF(L17=' '!$A$16,100%, IF(K17>TODAY(), IF((TODAY()-J17)/(K17-J17)>0,(TODAY()-J17)/(K17-J17),0),100%)),"")
C18: 13 | M18: =IF(K18<>"", IF(L18=' '!$A$16,100%, IF(K18>TODAY(), IF((TODAY()-J18)/(K18-J18)>0,(TODAY()-J18)/(K18-J18),0),100%)),"")
C19: 14 | M19: =IF(K19<>"", IF(L19=' '!$A$16,100%, IF(K19>TODAY(), IF((TODAY()-J19)/(K19-J19)>0,(TODAY()-J19)/(K19-J19),0),100%)),"")
C20: 15 | M20: =IF(K20<>"", IF(L20=' '!$A$16,100%, IF(K20>TODAY(), IF((TODAY()-J20)/(K20-J20)>0,(TODAY()-J20)/(K20-J20),0),100%)),"")
C21: 16 | M21: =IF(K21<>"", IF(L21=' '!$A$16,100%, IF(K21>TODAY(), IF((TODAY()-J21)/(K21-J21)>0,(TODAY()-J21)/(K21-J21),0),100%)),"")
