Workbook
Name Bars: OFFSET(#REF!,0,0,COUNT(#REF!))
Name Datum: ' '!$Z$4
Name graph_forces: NEO_S1!$A$108
Name Graph_Kompetenzen: #REF!
Name graph_pestel: #REF!
Name Graph_Risk: #REF!
Name Name_Student: #REF!
Name Note_Arbeit: #REF!
Name Note_Praesentation: #REF!
Name paretoXaxis: OFFSET(#REF!,0,0,COUNT(#REF!))
Name Percentage: OFFSET(#REF!,0,0,COUNT(#REF!))
Name Sprachen: ' '!$C$3:$G$3
Name Strategie_1: #REF!
Name Strategie_10: #REF!
Name Strategie_2: #REF!
Name Strategie_3: #REF!
Name Strategie_4: #REF!
Name Strategie_5: #REF!
Name Strategie_6: #REF!
Name Strategie_7: #REF!
Name Strategie_8: #REF!
Name Strategie_9: #REF!
Name top: #REF!
Name top_forces: NEO_S1!$A$9
Name top_massnahmen: #REF!

Sheet  
A1: =OFFSET($C1,0,$Z$5-1) -> Français | C1: Deutsch | D1: Français | E1: English | F1: Italiano | G1: ??
A2: Aktuelle Sprache | C2: Sprache 1 | D2: Sprache 2 | E2: Sprache 3 | F2: Sprache 4 | G2: Sprache 5
A3: Aktuell angezeigte Sprache | C3: Deutsch | D3: Français | E3: English | F3: Italiano | G3: 5_???
B4: 2 | Z4: 69763
A5: =OFFSET($C5,0,$Z$5-1) -> M y M A N A G E M E N T | B5: =' '!#REF! -> #REF! | C5: M y M A N A G E M E N T | D5: M y M A N A G E M E N T | E5: M y M A N A G E M E N T | F5: M y M A N A G E M E N T | Z5: =IF(AND(NEO_S1!C73="© iManagement • s.imboden • www.2iManagement.ch", TODAY()<=$Z$4), $B$4,5) -> 2
A6: =OFFSET($C6,0,$Z$5-1) -> Nom | C6: Name | D6: Nom | E6: Name | F6: Nome
A7: =OFFSET($C7,0,$Z$5-1) -> Date | C7: Datum | D7: Date | E7: Date | F7: data | Z7: Deutsch
A8: =OFFSET($C8,0,$Z$5-1) -> Remarques | C8: Bemerkungen | D8: Remarques | E8: Comments | F8: Osservazioni | Z8: Français
A9: =OFFSET($C9,0,$Z$5-1) -> ← Pour effacer les réponses, s.v.p supprimez les points dans cette colonne. | C9: ← Zum Löschen der Antworten bitte Punkte in dieser Spalte löschen. | D9: ← Pour effacer les réponses, s.v.p supprimez les points dans cette colonne. | E9: ← To delete the answers, please delete points in this column. | F9: ← Per eliminare le risposte, cancellare i punti in questa colonna. | Z9: English
A10: =OFFSET($C10,0,$Z$5-1) -> Inventaire NEO des cinq facteurs (Big Five) selon Costa et McCrae | C10: NEO-Fünf-Faktoren-Inventar (Big Five) nach Costa und McCrae | D10: Inventaire NEO des cinq facteurs (Big Five) selon Costa et McCrae | E10: NEO Five-Factor Inventory (Big Five) according to Costa and McCrae | F10: Inventario dei cinque fattori NEO (Big Five) secondo Costa e McCrae | Z10: Italiano
A11: =OFFSET($C11,0,$Z$5-1) -> désapprouve fortement | C11: Starke Ablehung | D11: désapprouve fortement | E11: Strong rejection | F11: fortemente disapprova
A12: =OFFSET($C12,0,$Z$5-1) -> désapprouve un peu | C12: Ablehnung | D12: désapprouve un peu | E12: Rejection | F12: disapprova leggermente
A13: =OFFSET($C13,0,$Z$5-1) -> n’approuve ni ne dé_x0002_sapprouve | C13: Neutral | D13: n’approuve ni ne dé_x0002_sapprouve | E13: Neutral | F13: non approva né disapprova
A14: =OFFSET($C14,0,$Z$5-1) -> approuve un peu | C14: Zustimmung | D14: approuve un peu | E14: Agree | F14: approva leggermente
A15: =OFFSET($C15,0,$Z$5-1) -> approuve fortement | C15: Starke Zustimmung | D15: approuve fortement | E15: Strong approval | F15: approva fortemente
A16: =OFFSET($C16,0,$Z$5-1) -> 0 | C16: S. 1/3 | E16: p. 1/3
A17: =OFFSET($C17,0,$Z$5-1) -> Remarques : Ce questionnaire contient 60 affirmations qui pourraient être utiles pour vous décrire. Lisez attentivement chacune de ces affirmations et demandez-vous si elle s'applique à vous ou non. Pour évaluer chacune des 60 affirmations, vous disposez d'une échelle à cinq niveaux. Veuillez cocher la case correspondante : | C17: Hinweise: Dieser Fragebogen enthält 60 Aussagen, welche sich zur Beschreibung Ihrer eigenen Person eignen könnten. Lesen Sie bitte jede dieser Aussagen aufmerksam durch und überlegen Sie, ob diese Aussage auf Sie persönlich zutrifft oder nicht. Zur Bewertung jeder der 60 Aussagen steht Ihnen eine fünffach abgestufte Skala zur Verfügung. Kreuzen Sie bitte an: | D17: Remarques : Ce questionnaire contient 60 affirmations qui pourraient être utiles pour vous décrire. Lisez attentivement chacune de ces affirmations et demandez-vous si elle s'applique à vous ou non. Pour évaluer chacune des 60 affirmations, vous disposez d'une échelle à cinq niveaux. Veuillez cocher la case correspondante : | E17: Notes: This questionnaire contains 60 statements that could be used to describe yourself. Please read each of these statements carefully and consider whether or not they apply to you personally. A five-point scale is provided for you to rate each of the 60 statements. Please mark with a cross: | F17: Note: Questo questionario contiene 60 affermazioni che potrebbero essere utilizzate per descrivere se stessi. Si prega di leggere attentamente ciascuna di queste affermazioni e di considerare se si applicano o meno alla propria persona. È prevista una scala di cinque punti per valutare ciascuna delle 60 affermazioni. Barrare la casella:
A18: =OFFSET($C18,0,$Z$5-1) -> Fort désaccord si vous n'êtes absolument pas d'accord avec l'affirmation ou si vous la jugez totalement inexacte. | C18: Starke Ablehnung, wenn Sie der Aussage auf keinen Fall zustimmen oder sie für völlig unzutreffend halten. | D18: Fort désaccord si vous n'êtes absolument pas d'accord avec l'affirmation ou si vous la jugez totalement inexacte. | E18: Strongly disagree if you strongly disagree with the statement or consider it to be completely inaccurate. | F18: Fortemente in disaccordo se siete fortemente in disaccordo con l'affermazione o se ritenete che sia completamente inesatta.
A19: =OFFSET($C19,0,$Z$5-1) -> Désapprobation, si vous êtes plutôt en désaccord avec l'affirmation ou si vous pensez qu'elle est inexacte. | C19: Ablehnung, wenn Sie der Aussage eher nicht zustimmen oder sie für unzutreffend halten. | D19: Désapprobation, si vous êtes plutôt en désaccord avec l'affirmation ou si vous pensez qu'elle est inexacte. | E19: Disagree if you tend to disagree with the statement or consider it to be incorrect. | F19: In disaccordo se si è tendenzialmente in disaccordo con l'affermazione o la si ritiene errata.
A20: =OFFSET($C20,0,$Z$5-1) -> Neutre, si l'affirmation n'est ni juste ni fausse, c'est-à-dire ni vraie ni fausse. | C20: Neutral, wenn die Aussage weder richtig noch falsch, also weder zutreffend noch unzutreffend ist. | D20: Neutre, si l'affirmation n'est ni juste ni fausse, c'est-à-dire ni vraie ni fausse. | E20: Neutral if the statement is neither true nor false, i.e. neither accurate nor inaccurate. | F20: Neutro se l'affermazione non è né corretta né errata, cioè né vera né falsa.
A21: =OFFSET($C21,0,$Z$5-1) -> D'accord, si vous êtes plutôt d'accord avec l'affirmation ou si vous la trouvez pertinente. | C21: Zustimmung, wenn Sie der Aussage eher zustimmen oder sie für zutreffend halten. | D21: D'accord, si vous êtes plutôt d'accord avec l'affirmation ou si vous la trouvez pertinente. | E21: Agree if you tend to agree with the statement or consider it to be correct. | F21: D'accordo se si è tendenzialmente d'accordo con l'affermazione o la si ritiene corretta.
A22: =OFFSET($C22,0,$Z$5-1) -> Fortement d'accord, si vous êtes fortement d'accord avec l'affirmation ou si vous pensez qu'elle est tout à fait correcte. | C22: Starke Zustimmung, wenn Sie der Aussage nachdrücklich zustimmen oder sie für völlig zutreffend halten. | D22: Fortement d'accord, si vous êtes fortement d'accord avec l'affirmation ou si vous pensez qu'elle est tout à fait correcte. | E22: Strongly agree if you strongly agree with the statement or consider it to be completely accurate. | F22: Fortemente d'accordo se si è fortemente d'accordo con l'affermazione o la si ritiene completamente corretta.
A23: =OFFSET($C23,0,$Z$5-1) -> « Il n'y a pas de « bonne » ou de « mauvaise » réponse à ce questionnaire. Vous n'avez pas besoin d'être un.e expert.e pour répondre correctement au questionnaire. Le meilleur moyen d'atteindre l'objectif de l'enquête est de répondre aux questions le plus honnêtement possible. Veuillez lire attentivement chaque affirmation et cocher la catégorie qui exprime le mieux votre point de vue. Veuillez évaluer les 60 affirmations rapidement, mais soigneusement. N'omettez aucune affirmation. Même si vous avez du mal à vous décider, cochez quand même toujours une réponse, celle qui vous correspond le mieux ». | C23: Es gibt bei diesem Fragebogen keine „richtigen" oder „falschen" Antworten, und Sie müssen kein ExperteIn sein, um den Fragebogen angemessen beantworten zu können. Sie erfüllen den Zweck der Befragung am besten, indem Sie die Fragen so wahrheitsgemäss wie möglich beantworten. Bitte lesen Sie jede Aussage genau durch und kreuzen Sie als Antwort die Kategorie an, die Ihre Sichtweise am besten ausdrückt. Bitte bewerten Sie die 60 Aussagen zügig, aber sorgfältig. Lassen Sie keine Aussage aus. Auch wenn Ihnen einmal die Entscheidung schwer fallen sollte, kreuzen Sie trotzdem immer eine Antwort an, und zwar die, welche noch am ehesten auf Sie zutrifft. | D23: « Il n'y a pas de « bonne » ou de « mauvaise » réponse à ce questionnaire. Vous n'avez pas besoin d'être un.e expert.e pour répondre correctement au questionnaire. Le meilleur moyen d'atteindre l'objectif de l'enquête est de répondre aux questions le plus honnêtement possible. Veuillez lire attentivement chaque affirmation et cocher la catégorie qui exprime le mieux votre point de vue. Veuillez évaluer les 60 affirmations rapidement, mais soigneusement. N'omettez aucune affirmation. Même si vous avez du mal à vous décider, cochez quand même toujours une réponse, celle qui vous correspond le mieux ». | E23: “There are no “right” or “wrong” answers to this questionnaire. answers, and you do not need to be an expert to answer the questionnaire appropriately. You will best fulfill the purpose of the survey by answering the questions as truthfully as possible. Please read each statement carefully and mark the category that best expresses your point of view. Please evaluate the 60 statements quickly but carefully. Do not omit any statement. Even if you find it difficult to make a decision, always tick the answer that best applies to you.” | F23: “Non ci sono risposte “giuste” o “sbagliate” a questo questionario. e non è necessario essere esperti per rispondere in modo appropriato al questionario. Rispondendo alle domande nel modo più veritiero possibile, si raggiungerà al meglio lo scopo del sondaggio. Leggete attentamente ogni affermazione e spuntate la categoria che meglio esprime il vostro punto di vista. Valutare rapidamente ma con attenzione le 60 affermazioni. Non tralasciate nessuna affermazione. Anche se le risulta difficile prendere una decisione, barri sempre la risposta che meglio si applica a lei”.
A24: =OFFSET($C24,0,$Z$5-1) -> 0
A25: =OFFSET($C25,0,$Z$5-1) -> 0
A26: =OFFSET($C26,0,$Z$5-1) -> Je ne m'inquiète pas facilement. | C26: Ich mache mir nicht so schnell Sorgen. (Ich bin nicht leicht beunruhigt). | D26: Je ne m'inquiète pas facilement. | E26: I am not easily worried. | F26: Non mi preoccupo facilmente.
A27: =OFFSET($C27,0,$Z$5-1) -> J'aime avoir beaucoup de monde autour de moi. | C27: Ich habe gerne viele Leute um mich herum. | D27: J'aime avoir beaucoup de monde autour de moi. | E27: I like having lots of people around me. | F27: Mi piace avere molte persone intorno a me.
A28: =OFFSET($C28,0,$Z$5-1) -> Je n'aime pas perdre mon temps à rêvasser. | C28: Ich mag meine Zeit nicht mit Tagträumereien verschwenden. | D28: Je n'aime pas perdre mon temps à rêvasser. | E28: I don't like to waste my time daydreaming. | F28: Non mi piace perdere tempo a sognare ad occhi aperti.
A29: =OFFSET($C29,0,$Z$5-1) -> J'essaie d'être aimable avec toutes les personnes que je rencontre. | C29: Ich versuche zu jedem, dem ich begegne, freundlich zu sein. | D29: J'essaie d'être aimable avec toutes les personnes que je rencontre. | E29: I try to be friendly to everyone I meet. | F29: Cerco di essere amichevole con tutti quelli che incontro.
A30: =OFFSET($C30,0,$Z$5-1) -> Je garde mes affaires en ordre et propres. | C30: Ich halte meine Sachen ordentlich und sauber. | D30: Je garde mes affaires en ordre et propres. | E30: I keep my things tidy and clean. | F30: Tengo le mie cose in ordine e pulite.
A31: =OFFSET($C31,0,$Z$5-1) -> Je me sens souvent inférieur aux autres. | C31: Ich fühle mich anderen oft unterlegen. | D31: Je me sens souvent inférieur aux autres. | E31: I often feel inferior to others. | F31: Spesso mi sento inferiore agli altri.
A32: =OFFSET($C32,0,$Z$5-1) -> Il est facile de me faire rire. | C32: Ich bin leicht zum Lachen zu bringen. | D32: Il est facile de me faire rire. | E32: I am easy to make laugh. | F32: È facile che mi facciano ridere.
A33: =OFFSET($C33,0,$Z$5-1) -> Je trouve les discussions philosophiques ennuyeuses. | C33: Ich finde philosophische Diskussionen langweilig. | D33: Je trouve les discussions philosophiques ennuyeuses. | E33: I find philosophical discussions boring. | F33: Trovo noiose le discussioni filosofiche.
A34: =OFFSET($C34,0,$Z$5-1) -> Je me dispute souvent avec ma famille et mes collègues. | C34: Ich bekomme häufig Streit mit meiner Familie und Kollegen. | D34: Je me dispute souvent avec ma famille et mes collègues. | E34: I often get into arguments with my family and colleagues. | F34: Litigo spesso con la mia famiglia e con i colleghi.
A35: =OFFSET($C35,0,$Z$5-1) -> Je gère bien mon temps, de sorte que je termine mes affaires à temps. | C35: Ich kann mir meine Zeit gut einteilen, so dass ich meine Angelegenheiten rechtzeitig beende. | D35: Je gère bien mon temps, de sorte que je termine mes affaires à temps. | E35: I am good at managing my time so that I finish my affairs on time. | F35: Sono bravo a organizzare il mio tempo in modo da portare a termine le mie attività in tempo.
A36: =OFFSET($C36,0,$Z$5-1) -> Lorsque je suis soumis à un stress important, j'ai parfois l'impression de m'effondrer. | C36: Wenn ich unter starkem Stress stehe, fühle ich mich manchmal, als ob ich zusammenbräche. | D36: Lorsque je suis soumis à un stress important, j'ai parfois l'impression de m'effondrer. | E36: When I'm under a lot of stress, I sometimes feel like I'm going to collapse. | F36: Quando sono molto stressato, a volte mi sento come se stessi per crollare.
A37: =OFFSET($C37,0,$Z$5-1) -> Je ne me considère pas comme particulièrement joyeux. | C37: Ich halte mich nicht für besonders fröhlich. | D37: Je ne me considère pas comme particulièrement joyeux. | E37: I don't think I'm particularly cheerful. | F37: Non credo di essere particolarmente allegra.
... A100: =OFFSET($C100,0,$Z$5-1) -> Les personnes qui obtiennent un résultat élevé sont bien organisées, travailleuses, disciplinées, efficaces, consciencieuses et ordonnées dans leur rapport aux choses et au temps. Néanmoins, les personnes possédant une grande conscienciosité peut prédisposer à l'addiction au travail et au perfectionnisme. | C100: Personen, die eine hohe Punktzahl erreichen, sind gut organisiert, fleißig, diszipliniert, effizient, gewissenhaft und ordentlich in ihrem Verhältnis zu den Dingen und zur Zeit. Dennoch können Menschen mit einer hohen Gewissenhaftigkeit für Arbeitssucht und Perfektionismus anfällig sein. | D100: Les personnes qui obtiennent un résultat élevé sont bien organisées, travailleuses, disciplinées, efficaces, consciencieuses et ordonnées dans leur rapport aux choses et au temps. Néanmoins, les personnes possédant une grande conscienciosité peut prédisposer à l'addiction au travail et au perfectionnisme. | E100: High scorers are well-organized, diligent, disciplined, efficient, conscientious and orderly in their relationship to things and time. Nevertheless, people with a high Conscientiousness score can be prone to workaholism and perfectionism. | F100: Le persone con un punteggio elevato sono ben organizzate, diligenti, disciplinate, efficienti, coscienziose e ordinate nel loro rapporto con le cose e con il tempo. Tuttavia, le persone con alta coscienziosità possono essere inclini allo stacanovismo e al perfezionismo.
A101: =OFFSET($C101,0,$Z$5-1) -> 0
A102: =OFFSET($C102,0,$Z$5-1) -> 0
...

Sheet NEO_S1
C1: =' '!A10 -> Inventaire NEO des cinq facteurs (Big Five) selon Costa et McCrae | U1: =U3 -> myName
H2: A | J2: B | L2: C | N2: D | P2: E
B3: =' '!A18 -> Fort désaccord si vous n'êtes absolument pas d'accord avec l'affirmation ou si vous la jugez totalement inexacte. | H3: =' '!A11 -> désapprouve fortement | J3: =' '!A12 -> désapprouve un peu | L3: =' '!A13 -> n’approuve ni ne dé_x0002_sapprouve | N3: =' '!A14 -> approuve un peu | P3: =' '!A15 -> approuve fortement | S3: =CONCATENATE(S11," / 60") -> 0 / 60 | T3: =' '!A6 -> Nom | U3: myName
B4: =' '!A19 -> Désapprobation, si vous êtes plutôt en désaccord avec l'affirmation ou si vous pensez qu'elle est inexacte. | T4: =' '!A7 -> Date | U4: =TODAY() -> 45700
B5: =' '!A20 -> Neutre, si l'affirmation n'est ni juste ni fausse, c'est-à-dire ni vraie ni fausse.
B6: =' '!A21 -> D'accord, si vous êtes plutôt d'accord avec l'affirmation ou si vous la trouvez pertinente. | T6: =S8/60 -> 0
C7: =' '!A22 -> Fortement d'accord, si vous êtes fortement d'accord avec l'affirmation ou si vous pensez qu'elle est tout à fait correcte. | T7: =' '!A9 -> ← Pour effacer les réponses, s.v.p supprimez les points dans cette colonne.
S8: =COUNT($S$12:$S$71) -> 0
S11: =COUNT($S$12:$S$71) -> 0 | T11: =' '!A8 -> Remarques | W11: Nr. | X11: code | Y11: Pkt | Z11: Dim | AE11: Summe | AF11: =12*4 -> 48
A12: =ABS(S12-T12) -> #VALUE! | C12: 1 | E12: =' '!A26 -> Je ne m'inquiète pas facilement. | T12: =' '!A23 -> « Il n'y a pas de « bonne » ou de « mauvaise » réponse à ce questionnaire. Vous n'avez pas besoin d'être un.e expert.e pour répondre correctement au questionnaire. Le meilleur moyen d'atteindre l'objectif de l'enquête est de répondre aux questions le plus honnêtement possible. Veuillez lire attentivement chaque affirmation et cocher la catégorie qui exprime le mieux votre point de vue. Veuillez évaluer les 60 affirmations rapidement, mais soigneusement. N'omettez aucune affirmation. Même si vous avez du mal à vous décider, cochez quand même toujours une réponse, celle qui vous correspond le mieux ». | W12: 1 | X12: 5 | Y12: =IF(S12<>"", IF(X12=5, IF(S12=1,4, IF(S12=2,3, IF(S12=3,2, IF(S12=4,1, IF(S12=5,0))))),S12),0) -> 0 | Z12: N | AC12: =' '!A86 -> Névrosisme | AE12: =Y12+Y17+Y22+Y27+Y32+Y37+Y42+Y47+Y52+Y57+Y62+Y67 -> 0 | AF12: =AE12/$AF$11 -> 0
A13: =ABS(S13-T13) -> 0 | C13: 2 | E13: =' '!A27 -> J'aime avoir beaucoup de monde autour de moi. | W13: 2 | X13: 5 | Y13: =IF(S13<>"", IF(X13=5, IF(S13=1,0, IF(S13=2,1, IF(S13=3,2, IF(S13=4,3, IF(S13=5,4))))),S13),0) -> 0 | Z13: E | AC13: =' '!A87 -> Extraversion | AE13: =Y13+Y18+Y23+Y28+Y33+Y38+Y43+Y48+Y53+Y58+Y63+Y68 -> 0 | AF13: =AE13/$AF$11 -> 0
A14: =ABS(S14-T14) -> 0 | C14: 3 | E14: =' '!A28 -> Je n'aime pas perdre mon temps à rêvasser. | W14: 3 | X14: 5 | Y14: =IF(S14<>"", IF(X14=5, IF(S14=1,4, IF(S14=2,3, IF(S14=3,2, IF(S14=4,1, IF(S14=5,0))))),S14),0) -> 0 | Z14: O | AC14: =' '!A88 -> Ouverture à l'expérience | AE14: =Y14+Y19+Y24+Y29+Y34+Y39+Y44+Y49+Y54+Y59+Y64+Y69 -> 0 | AF14: =AE14/$AF$11 -> 0
A15: =ABS(S15-T15) -> 0 | C15: 4 | E15: =' '!A29 -> J'essaie d'être aimable avec toutes les personnes que je rencontre. | W15: 4 | X15: 5 | Y15: =IF(S15<>"", IF(X15=5, IF(S15=1,0, IF(S15=2,1, IF(S15=3,2, IF(S15=4,3, IF(S15=5,4))))),S15),0) -> 0 | Z15: V | AC15: =' '!A89 -> Agréabilité | AE15: =Y15+Y20+Y25+Y30+Y35+Y40+Y45+Y50+Y55+Y60+Y65+Y70 -> 0 | AF15: =AE15/$AF$11 -> 0
A16: =ABS(S16-T16) -> 0 | C16: 5 | E16: =' '!A30 -> Je garde mes affaires en ordre et propres. | W16: 5 | X16: 5 | Y16: =IF(S16<>"", IF(X16=5, IF(S16=1,0, IF(S16=2,1, IF(S16=3,2, IF(S16=4,3, IF(S16=5,4))))),S16),0) -> 0 | Z16: G | AC16: =' '!A90 -> Conscience | AE16: =Y16+Y21+Y26+Y31+Y36+Y41+Y46+Y51+Y56+Y61+Y66+Y71 -> 0 | AF16: =AE16/$AF$11 -> 0
A17: =ABS(S17-T17) -> 0 | C17: 6 | E17: =' '!A31 -> Je me sens souvent inférieur aux autres. | W17: 6 | X17: 5 | Y17: =IF(S17<>"", IF(X17=5, IF(S17=1,0, IF(S17=2,1, IF(S17=3,2, IF(S17=4,3, IF(S17=5,4))))),S17),0) -> 0 | Z17: N | AE17: =SUM(AE12:AE16) -> 0
A18: =ABS(S18-T18) -> 0 | C18: 7 | E18: =' '!A32 -> Il est facile de me faire rire. | W18: 7 | X18: 5 | Y18: =IF(S18<>"", IF(X18=5, IF(S18=1,0, IF(S18=2,1, IF(S18=3,2, IF(S18=4,3, IF(S18=5,4))))),S18),0) -> 0 | Z18: E
A19: =ABS(S19-T19) -> 0 | C19: 8 | E19: =' '!A33 -> Je trouve les discussions philosophiques ennuyeuses. | W19: 8 | X19: 5 | Y19: =IF(S19<>"", IF(X19=5, IF(S19=1,4, IF(S19=2,3, IF(S19=3,2, IF(S19=4,1, IF(S19=5,0))))),S19),0) -> 0 | Z19: O
A20: =ABS(S20-T20) -> 0 | C20: 9 | E20: =' '!A34 -> Je me dispute souvent avec ma famille et mes collègues. | W20: 9 | X20: 5 | Y20: =IF(S20<>"", IF(X20=5, IF(S20=1,4, IF(S20=2,3, IF(S20=3,2, IF(S20=4,1, IF(S20=5,0))))),S20),0) -> 0 | Z20: V
A21: =ABS(S21-T21) -> 0 | C21: 10 | E21: =' '!A35 -> Je gère bien mon temps, de sorte que je termine mes affaires à temps. | W21: 10 | X21: 5 | Y21: =IF(S21<>"", IF(X21=5, IF(S21=1,0, IF(S21=2,1, IF(S21=3,2, IF(S21=4,3, IF(S21=5,4))))),S21),0) -> 0 | Z21: G
A22: =ABS(S22-T22) -> 0 | C22: 11 | E22: =' '!A36 -> Lorsque je suis soumis à un stress important, j'ai parfois l'impression de m'effondrer. | W22: 11 | X22: 5 | Y22: =IF(S22<>"", IF(X22=5, IF(S22=1,0, IF(S22=2,1, IF(S22=3,2, IF(S22=4,3, IF(S22=5,4))))),S22),0) -> 0 | Z22: N
A23: =ABS(S23-T23) -> 0 | C23: 12 | E23: =' '!A37 -> Je ne me considère pas comme particulièrement joyeux. | W23: 12 | X23: 5 | Y23: =IF(S23<>"", IF(X23=5, IF(S23=1,4, IF(S23=2,3, IF(S23=3,2, IF(S23=4,1, IF(S23=5,0))))),S23),0) -> 0 | Z23: E
A24: =ABS(S24-T24) -> 0 | C24: 13 | E24: =' '!A38 -> Ce qui me passionne, ce sont les motifs que je trouve dans l'art et la nature. | W24: 13 | X24: 5 | Y24: =IF(S24<>"", IF(X24=5, IF(S24=1,0, IF(S24=2,1, IF(S24=3,2, IF(S24=4,3, IF(S24=5,4))))),S24),0) -> 0 | Z24: O
A25: =ABS(S25-T25) -> 0 | C25: 14 | E25: =' '!A39 -> Certaines personnes pensent que je suis égoïste et suffisant. | W25: 14 | X25: 5 | Y25: =IF(S25<>"", IF(X25=5, IF(S25=1,4, IF(S25=2,3, IF(S25=3,2, IF(S25=4,1, IF(S25=5,0))))),S25),0) -> 0 | Z25: V
A26: =ABS(S26-T26) -> 0 | C26: 15 | E26: =' '!A40 -> Je ne suis pas une personne très méthodique. | W26: 15 | X26: 5 | Y26: =IF(S26<>"", IF(X26=5, IF(S26=1,4, IF(S26=2,3, IF(S26=3,2, IF(S26=4,1, IF(S26=5,0))))),S26),0) -> 0 | Z26: G
A27: =ABS(S27-T27) -> 0 | C27: 16 | E27: =' '!A41 -> Je me sens rarement seul ou triste. | W27: 16 | X27: 5 | Y27: =IF(S27<>"", IF(X27=5, IF(S27=1,4, IF(S27=2,3, IF(S27=3,2, IF(S27=4,1, IF(S27=5,0))))),S27),0) -> 0 | Z27: N
A28: =ABS(S28-T28) -> 0 | C28: 17 | E28: =' '!A42 -> J'aime vraiment discuter avec les autres. | W28: 17 | X28: 5 | Y28: =IF(S28<>"", IF(X28=5, IF(S28=1,0, IF(S28=2,1, IF(S28=3,2, IF(S28=4,3, IF(S28=5,4))))),S28),0) -> 0 | Z28: E
A29: =ABS(S29-T29) -> 0 | C29: 18 | E29: =' '!A43 -> Je pense que le fait de laisser des personnes écouter des orateurs qui défendent des points de vue controversés ne fait souvent que les confondre et les induire en erreur. | W29: 18 | X29: 5 | Y29: =IF(S29<>"", IF(X29=5, IF(S29=1,4, IF(S29=2,3, IF(S29=3,2, IF(S29=4,1, IF(S29=5,0))))),S29),0) -> 0 | Z29: O
A30: =ABS(S30-T30) -> 0 | C30: 19 | E30: =' '!A44 -> Je préfère collaborer avec les autres plutôt que de rivaliser avec eux. | W30: 19 | X30: 5 | Y30: =IF(S30<>"", IF(X30=5, IF(S30=1,0, IF(S30=2,1, IF(S30=3,2, IF(S30=4,3, IF(S30=5,4))))),S30),0) -> 0 | Z30: V
A31: =ABS(S31-T31) -> 0 | C31: 20 | E31: =' '!A45 -> J'essaie d'accomplir toutes les tâches qui me sont confiées très consciencieusement. | W31: 20 | X31: 5 | Y31: =IF(S31<>"", IF(X31=5, IF(S31=1,0, IF(S31=2,1, IF(S31=3,2, IF(S31=4,3, IF(S31=5,4))))),S31),0) -> 0 | Z31: G
A32: =ABS(S32-T32) -> 0 | C32: 21 | E32: =' '!A46 -> Je me sens souvent tendu et nerveux. | W32: 21 | X32: 5 | Y32: =IF(S32<>"", IF(X32=5, IF(S32=1,0, IF(S32=2,1, IF(S32=3,2, IF(S32=4,3, IF(S32=5,4))))),S32),0) -> 0 | Z32: N
A33: =ABS(S33-T33) -> 0 | C33: 22 | E33: =' '!A47 -> J'aime être au centre de l'action. | W33: 22 | X33: 5 | Y33: =IF(S33<>"", IF(X33=5, IF(S33=1,0, IF(S33=2,1, IF(S33=3,2, IF(S33=4,3, IF(S33=5,4))))),S33),0) -> 0 | Z33: E
A34: =ABS(S34-T34) -> 0 | C34: 23 | E34: =' '!A48 -> La poésie m'impressionne peu ou pas du tout. | W34: 23 | X34: 5 | Y34: =IF(S34<>"", IF(X34=5, IF(S34=1,4, IF(S34=2,3, IF(S34=3,2, IF(S34=4,1, IF(S34=5,0))))),S34),0) -> 0 | Z34: O
A35: =ABS(S35-T35) -> 0 | C35: 24 | E35: =' '!A49 -> Je suis plutôt cynique et sceptique quant aux intentions des autres. | W35: 24 | X35: 5 | Y35: =IF(S35<>"", IF(X35=5, IF(S35=1,4, IF(S35=2,3, IF(S35=3,2, IF(S35=4,1, IF(S35=5,0))))),S35),0) -> 0 | Z35: V
A36: =ABS(S36-T36) -> 0 | C36: 25 | E36: =' '!A50 -> J'ai une série d'objectifs clairs et je travaille systématiquement à les atteindre. | W36: 25 | X36: 5 | Y36: =IF(S36<>"", IF(X36=5, IF(S36=1,0, IF(S36=2,1, IF(S36=3,2, IF(S36=4,3, IF(S36=5,4))))),S36),0) -> 0 | Z36: G
A37: =ABS(S37-T37) -> 0 | C37: 26 | E37: =' '!A51 -> Parfois, je me sens complètement inutile. | W37: 26 | X37: 5 | Y37: =IF(S37<>"", IF(X37=5, IF(S37=1,0, IF(S37=2,1, IF(S37=3,2, IF(S37=4,3, IF(S37=5,4))))),S37),0) -> 0 | Z37: N
A38: =ABS(S38-T38) -> 0 | C38: 27 | E38: =' '!A52 -> Je préfère généralement faire les choses seul. | W38: 27 | X38: 5 | Y38: =IF(S38<>"", IF(X38=5, IF(S38=1,4, IF(S38=2,3, IF(S38=3,2, IF(S38=4,1, IF(S38=5,0))))),S38),0) -> 0 | Z38: E
A39: =ABS(S39-T39) -> 0 | C39: 28 | E39: =' '!A53 -> J'essaie souvent des plats nouveaux et inconnus. | W39: 28 | X39: 5 | Y39: =IF(S39<>"", IF(X39=5, IF(S39=1,0, IF(S39=2,1, IF(S39=3,2, IF(S39=4,3, IF(S39=5,4))))),S39),0) -> 0 | Z39: O
A40: =ABS(S40-T40) -> 0 | C40: 29 | E40: =' '!A54 -> Je pense que si on laisse faire, la plupart des gens profitent de nous. | W40: 29 | X40: 5 | Y40: =IF(S40<>"", IF(X40=5, IF(S40=1,4, IF(S40=2,3, IF(S40=3,2, IF(S40=4,1, IF(S40=5,0))))),S40),0) -> 0 | Z40: V
A41: =ABS(S41-T41) -> 0 | C41: 30 | E41: =' '!A55 -> Je passe beaucoup de temps avant de commencer un travail. | W41: 30 | X41: 5 | Y41: =IF(S41<>"", IF(X41=5, IF(S41=1,4, IF(S41=2,3, IF(S41=3,2, IF(S41=4,1, IF(S41=5,0))))),S41),0) -> 0 | Z41: G
A42: =ABS(S42-T42) -> 0 | C42: 31 | E42: =' '!A56 -> Je ressens rarement de la peur ou de l'anxiété. | W42: 31 | X42: 5 | Y42: =IF(S42<>"", IF(X42=5, IF(S42=1,4, IF(S42=2,3, IF(S42=3,2, IF(S42=4,1, IF(S42=5,0))))),S42),0) -> 0 | Z42: N
...

Sheet Auswertung
B1: =' '!A10 -> Inventaire NEO des cinq facteurs (Big Five) selon Costa et McCrae
B2: =IF(NEO_S1!S11<>60,' '!A273,"") -> ATTENTION ! Veuillez répondre à toutes les questions s.v.p. !
B3: =NEO_S1!$U$1 -> myName
B26: =' '!A86 -> Névrosisme
B27: =' '!A91 -> Les personnes qui obtiennent un résultat faible sont calmes, stables, sereines et peu sujettes à l'angoisse. Elles surmontent facilement la colère, le stress et la gêne. Un résultat faible en névrosisme semble donc être une situation enviable mais, cependant, les personnes qui obtiennent un faible résultat peuvent aussi se révéler trop insouciantes et trop enclines à sous-estimer les menaces potentielles de leur environnement. | C27: =NEO_S1!AF12 -> 0 | D27: =' '!A92 -> Les personnes qui obtiennent un résultat élevé sont inquiètes, anxieuses, dépressives, complexées et vulnérables au stress et à la dépression.
B28: =' '!A87 -> Extraversion
B29: =' '!A93 -> Les personnes obtenant un résultat faible sont réservées, calmes, effacées et moins dépendantes de la vie sociale. Les personnes introverties ne sont pas asociales, mais ont simplement moins besoin de stimulation et préfèrent passer plus de temps seules. | C29: =NEO_S1!AF13 -> 0 | D29: =' '!A94 -> Les personnes qui obtiennent un résultat élevé sont extraverties, vives, sociables, bavardes, sûres d'elles, joyeuses, et apprécient les interactions sociales. _x000B_Dans le système des Big Five, l'extraversion est définie comme une activité tournée vers l'extérieur, et ne devrait pas être vue comme un « comportement social. » L'extraversion ne décrit pas, par exemple, à quel point une personne se soucie sincèrement des autres. Elle prend seulement en compte le niveau général d'activité tournée vers l'extérieur.
B30: =NEO_S1!AC14 -> Ouverture à l'expérience
B31: =' '!A95 -> Les personnes obtenant un résultat faible sont conventionnelles, traditionnelles et n'apprécient pas les choses étrangères et qu'elles connaissent mal. Les activités intellectuelles les laissent de marbre et elles n'aiment pas être confrontées à des opinions et à des idées bizarres. Des études ont montré que des niveaux d'ouverture plus bas ont leurs avantages dans les domaines de la comptabilité, de la police et des ventes. | C31: =NEO_S1!AF14 -> 0 | D31: =' '!A96 -> Les personnes qui obtiennent un résultat élevé se distinguent par leur caractère non-conventionnel, créatif, intellectuel, curieux, et par leur imagination débordante. Elles aiment entendre des opinions nouvelles et inhabituelles. Des études ont montré qu'un haut niveau d'ouverture à l'expérience pouvait être tout aussi bénéfique qu'un niveau plus bas, selon la tâche à accomplir. Les personnes possédant un haut niveau d'ouverture à l'expérience ont typiquement tendance à obtenir de meilleurs résultats dans les activités créatives ou dans la recherche.
B32: =NEO_S1!AC15 -> Agréabilité
B33: =' '!A97 -> Les personnes dont l'agréabilité est faible sont sceptiques, têtues, querelleuses, intéressées et brusques. Les personnes dont l'agréabilité est faible ont aussi tendance à défendre bec et ongles leurs avis et leurs opinions, et à critiquer les autres. Néanmoins, l'agréabilité n'est pas toujours utile dans les situations qui demandent de prendre des décisions difficiles ou objectives. Des études ont montré qu'un faible degré d'agréabilité peut avoir de nombreux avantages pour les leaders et les avocats. | C33: =NEO_S1!AF15 -> 0 | D33: =' '!A98 -> Les personnes qui obtiennent un score élevé sont tolérantes, douces, gentilles, indulgentes, agréables, altruistes et obligeantes. Comme il est très important pour elles de bien s'entendre avec les autres, elles ont des opinions flexibles et répugnent à critiquer ou à juger. Les personnes dont l'agréabilité est élevée sont donc habituellement plus appréciées que les personnes dont l'agréabilité est faible.
B34: =NEO_S1!AC16 -> Conscience
B35: =' '!A99 -> Les personnes possédant des résultats faibles sont distraites, désordonnées, ont du mal à trouver la motivation nécessaire à accomplir leur travail et leurs devoirs, ne sont pas gênées par l'inachèvement et le manque d'exactitude, et sont désorganisées en ce qui concerne leur environnement et leur emploi du temps. Néanmoins, les personnes possédant une faible conscienciosité sont souvent plus spontanées et enjouées. | C35: =NEO_S1!AF16 -> 0 | D35: =' '!A100 -> Les personnes qui obtiennent un résultat élevé sont bien organisées, travailleuses, disciplinées, efficaces, consciencieuses et ordonnées dans leur rapport aux choses et au temps. Néanmoins, les personnes possédant une grande conscienciosité peut prédisposer à l'addiction au travail et au perfectionnisme.
B36: © iManagement • s.imboden • www.2iManagement.ch
B38: =' '!A103 -> Description détaillée
B40: =' '!A86 -> Névrosisme
B41: =' '!A108 -> Le névrosisme, auquel il est souvent référé par son opposé : la stabilité émotionnelle désigne une disposition aux émotions négatives. Ceux dont les descriptions font état d'un fort névrosisme éprouvent facilement un sentiment négatif comme l'anxiété, la colère, la dépression. Ces personnes sont émotionnellement réactives : elles s'émeuvent plus que la moyenne face à des événements qui affectent peu ou pas la plupart des gens. Elles ont plus tendance à ressentir des situations ordinaires comme menaçantes, et des frustrations mineures comme plus difficiles à surmonter. Leurs réactions négatives durent plus longtemps, ce qui entraîne de la mauvaise humeur plus fréquente. Leurs émotions peuvent entraver leur capacité à raisonner, à prendre des décisions, à faire face aux situations stressantes. À l'opposé, un faible névrosisme désigne des personnes calmes, émotionnellement stables, qui éprouvent plutôt rarement de l'humeur négative de manière persistante. Peu de sentiments négatifs ne sont pas synonymes d'émotions positives fréquentes, c'est là une caractéristique de l'extraversion.
B42: =' '!A87 -> Extraversion
B43: =' '!A106 -> L'extraversion est marquée par d'intenses interactions avec le monde extérieur. Les extravertis aiment être avec des gens, sont pleins d'énergie et ressentent souvent des émotions positives. Tournés vers l'action, ils tendent à se montrer enthousiastes et à vivement approuver les projets excitants. En groupe ils aiment parler, s'affirment et attirent l'attention à soi. Les personnes ayant une extraversion basse sont moins exubérantes, ont un niveau d'énergie et d'activité moins élevé que la moyenne. Elles sont plutôt calmes, effacées, et moins dépendantes de la vie sociale. Leur peu d'engagement social ne doit pas être interprété comme de la timidité ou de la dépression ; l'introverti a simplement besoin de moins de stimulation que l'extraverti et de plus de temps pour recharger ses batteries.
B44: =' '!A88 -> Ouverture à l'expérience
B45: =' '!A104 -> L'ouverture à l'expérience distingue les personnes imaginatives et créatives des personnes terre-à-terre et conventionnelles. Une personne « ouverte » est curieuse intellectuellement, apprécie l'art, est sensible à la beauté. Elle est, plus qu'une personne « fermée », consciente de ses sentiments. Elle possède souvent des convictions peu conventionnelles et individualistes, même si ses actions se conforment à l'usage. Une personne peu « ouverte » a plutôt des intérêts restreints, communs. Elle préfère le simple, le direct, l'évident au complexe, à l'ambigu, au subtil. Elle peut porter aux arts et aux sciences de la suspicion, considérant ces activités comme abstruses ou sans utilité pratique. Elle préfère la familiarité à la nouveauté ; elle est conservatrice et hostile au changement. L'ouverture est corrélée fortement avec la créativité (mesurée par des tâches comme imaginer différents usages pour un objet). D'autre part, une personne « ouverte » donne l'impression d'être intelligente, car elle est curieuse et cultivée. Cependant, cette dimension est indépendante du quotient intellectuel. Cela signifie qu'une personne avec un fort QI peut avoir une ouverture faible et que son expertise sera centrée sur un domaine particulier. Les psychologues associent souvent l'ouverture à une bonne santé mentale et à la maturité. Les styles de pensée « ouvert » et « fermé » ont pourtant chacun leur avantage dans un certain contexte : l'aspect intellectuel de la personne ouverte peut être bénéfique à un professeur, mais la recherche a montré qu'à une pensée fermée répondent de meilleures performances professionnelles dans la police, la vente et un certain nombre de services.
B46: =' '!A89 -> Agréabilité
B47: =' '!A107 -> L'agréabilité (amabilité) transparaît dans le désir de coopération et d'harmonie sociale. Les individus agréables portent de l'importance à la cohésion avec autrui et se montrent pleins d'égards, amicaux, serviables, généreux et prêts à transiger pour concilier leurs intérêts avec ceux des autres. Les personnes agréables ont aussi une vision optimiste de la nature humaine. Elles pensent que les gens sont foncièrement honnêtes, fiables, "bien". Les individus non 'agréables' mettent leur intérêt personnel avant la cohésion avec autrui. Ils sont généralement peu soucieux du bien-être des autres et de ce fait peu enclins à faire un effort pour eux. Parfois leur scepticisme quant aux motivations d'autrui les rend soupçonneux, inamicaux, fermés à toute coopération. Le caractère agréable est à l'évidence un avantage pour devenir et rester populaire. Les personnes agréables sont plus aimées que les personnes non agréables. D'un autre côté, le caractère agréable n'est pas favorable dans des situations qui requièrent des décisions dures ou absolument objectives. Les personnes non agréables peuvent faire d'excellents scientifiques, critiques, ou soldats. Il faut éviter de rattacher au caractère agréable les termes "altruiste" et "égoïste" parce qu'"altruisme" est un terme en usage en biologie évolutionniste (Sélection de parentèle) avec un sens fondamentalement différent de l'agréabilité.
B48: =' '!A90 -> Conscience
B49: =' '!A105 -> La conscienciosité (conscience) décrit comment l'individu contrôle, régule et dirige ses impulsions. Les impulsions ne sont pas mauvaises en soi : occasionnellement des contraintes temporelles exigent une décision immédiate, et suivre notre élan premier peut être une réponse efficace ; et dans un contexte ludique ce peut être plus amusant. Les individus impulsifs peuvent être perçus comme hauts en couleur, boute-en-train. Certains leur reprochent cependant de manquer d'ambition, de ne pas pouvoir compter sur eux et de ne pas savoir respecter les limites. Les avantages d'un fort caractère consciencieux sont évidents. Les individus consciencieux évitent les ennuis et réussissent avec brio en cernant et planifiant leurs objectifs et en maintenant leur ligne de conduite. Ils sont également perçus positivement par autrui, comme intelligents et fiables. Côté négatif, ils peuvent être des perfectionnistes compulsifs et des bourreaux de travail. Des individus extrêmement consciencieux peuvent être considérés comme ternes et ennuyeux.
B50: =' '!A109 -> Source: McCrae, R. R. & Costa, P. T. (1990). Personality in adulthood. New York: The Guildford Press
B51: © iManagement • s.imboden • www.2iManagement.ch
